BEGIN:VCALENDAR
VERSION:2.0
PRODID:-//Liturgiczna Służba Ołtarza - ECPv6.15.20//NONSGML v1.0//EN
CALSCALE:GREGORIAN
METHOD:PUBLISH
X-ORIGINAL-URL:https://ministranci.waw.pl
X-WR-CALDESC:Wydarzenia dla Liturgiczna Służba Ołtarza
REFRESH-INTERVAL;VALUE=DURATION:PT1H
X-Robots-Tag:noindex
X-PUBLISHED-TTL:PT1H
BEGIN:VTIMEZONE
TZID:UTC
BEGIN:STANDARD
TZOFFSETFROM:+0000
TZOFFSETTO:+0000
TZNAME:UTC
DTSTART:20220101T000000
END:STANDARD
END:VTIMEZONE
BEGIN:VEVENT
DTSTART;TZID=UTC:20230908T000000
DTEND;TZID=UTC:20230908T000000
DTSTAMP:20260426T035302
CREATED:20230703T143042Z
LAST-MODIFIED:20230703T143043Z
UID:3193-1694131200-1694131200@ministranci.waw.pl
SUMMARY:Narodzenie Najświętszej Maryi Panny
DESCRIPTION:
URL:https://ministranci.waw.pl/event/narodzenie-najswietszej-maryi-panny/
END:VEVENT
BEGIN:VEVENT
DTSTART;TZID=UTC:20230907T000000
DTEND;TZID=UTC:20230907T000000
DTSTAMP:20260426T035302
CREATED:20230703T143042Z
LAST-MODIFIED:20230703T143043Z
UID:3192-1694044800-1694044800@ministranci.waw.pl
SUMMARY:bł. Melchiora Grodzieckiego
DESCRIPTION:bł. Melchiora Grodzieckiego kapłana i męczennika
URL:https://ministranci.waw.pl/event/bl-melchiora-grodzieckiego/
END:VEVENT
BEGIN:VEVENT
DTSTART;TZID=UTC:20230903T000000
DTEND;TZID=UTC:20230903T000000
DTSTAMP:20260426T035302
CREATED:20230703T143038Z
LAST-MODIFIED:20230703T143038Z
UID:3191-1693699200-1693699200@ministranci.waw.pl
SUMMARY:św. Grzegorza Wielkiego
DESCRIPTION:św. Grzegorza Wielkiego papieża i doktora kościoła.
URL:https://ministranci.waw.pl/event/sw-grzegorza-wielkiego/
END:VEVENT
BEGIN:VEVENT
DTSTART;TZID=UTC:20230901T000000
DTEND;TZID=UTC:20230901T000000
DTSTAMP:20260426T035302
CREATED:20230703T143038Z
LAST-MODIFIED:20230703T143038Z
UID:3190-1693526400-1693526400@ministranci.waw.pl
SUMMARY:św. Bronisławy dziewicy
DESCRIPTION:
URL:https://ministranci.waw.pl/event/sw-bronislawy-dziewicy/
END:VEVENT
BEGIN:VEVENT
DTSTART;TZID=UTC:20230829T000000
DTEND;TZID=UTC:20230829T000000
DTSTAMP:20260426T035302
CREATED:20230703T143038Z
LAST-MODIFIED:20230703T143038Z
UID:3189-1693267200-1693267200@ministranci.waw.pl
SUMMARY:Męczeństwo św. Jana Chrzciciela
DESCRIPTION:
URL:https://ministranci.waw.pl/event/meczenstwo-sw-jana-chrzciciela/
END:VEVENT
BEGIN:VEVENT
DTSTART;TZID=UTC:20230828T000000
DTEND;TZID=UTC:20230828T000000
DTSTAMP:20260426T035302
CREATED:20230703T143037Z
LAST-MODIFIED:20230703T143037Z
UID:3188-1693180800-1693180800@ministranci.waw.pl
SUMMARY:św. Augustyna biskupa i doktora kościoła
DESCRIPTION:
URL:https://ministranci.waw.pl/event/sw-augustyna-biskupa-i-doktora-kosciola/
END:VEVENT
BEGIN:VEVENT
DTSTART;TZID=UTC:20230827T000000
DTEND;TZID=UTC:20230827T000000
DTSTAMP:20260426T035302
CREATED:20230703T143037Z
LAST-MODIFIED:20230703T143037Z
UID:3187-1693094400-1693094400@ministranci.waw.pl
SUMMARY:św. Moniki
DESCRIPTION:
URL:https://ministranci.waw.pl/event/sw-moniki/
END:VEVENT
BEGIN:VEVENT
DTSTART;TZID=UTC:20230826T000000
DTEND;TZID=UTC:20230826T000000
DTSTAMP:20260426T035302
CREATED:20230703T143023Z
LAST-MODIFIED:20230703T143023Z
UID:3186-1693008000-1693008000@ministranci.waw.pl
SUMMARY:Uroczystość Najświętszej Maryi Panny Częstochowskiej
DESCRIPTION:
URL:https://ministranci.waw.pl/event/uroczystosc-najswietszej-maryi-panny-czestochowskiej/
END:VEVENT
BEGIN:VEVENT
DTSTART;TZID=UTC:20230825T000000
DTEND;TZID=UTC:20230825T000000
DTSTAMP:20260426T035302
CREATED:20230703T143023Z
LAST-MODIFIED:20230703T143023Z
UID:3185-1692921600-1692921600@ministranci.waw.pl
SUMMARY:św. Ludwika
DESCRIPTION:
URL:https://ministranci.waw.pl/event/sw-ludwika/
END:VEVENT
BEGIN:VEVENT
DTSTART;TZID=UTC:20230825T000000
DTEND;TZID=UTC:20230825T000000
DTSTAMP:20260426T035302
CREATED:20230703T143023Z
LAST-MODIFIED:20230703T143023Z
UID:3184-1692921600-1692921600@ministranci.waw.pl
SUMMARY:św. Józefa Kalasantego kapłana
DESCRIPTION:
URL:https://ministranci.waw.pl/event/sw-jozefa-kalasantego-kaplana/
END:VEVENT
BEGIN:VEVENT
DTSTART;TZID=UTC:20230824T000000
DTEND;TZID=UTC:20230824T000000
DTSTAMP:20260426T035302
CREATED:20230703T143023Z
LAST-MODIFIED:20230703T143023Z
UID:3183-1692835200-1692835200@ministranci.waw.pl
SUMMARY:św. Bartłomieja apostoła
DESCRIPTION:
URL:https://ministranci.waw.pl/event/sw-bartlomieja-apostola/
END:VEVENT
BEGIN:VEVENT
DTSTART;TZID=UTC:20230823T000000
DTEND;TZID=UTC:20230823T000000
DTSTAMP:20260426T035302
CREATED:20230703T143023Z
LAST-MODIFIED:20230703T143023Z
UID:3182-1692748800-1692748800@ministranci.waw.pl
SUMMARY:św. Róży z Limy dziewicy
DESCRIPTION:
URL:https://ministranci.waw.pl/event/sw-rozy-z-limy-dziewicy/
END:VEVENT
BEGIN:VEVENT
DTSTART;TZID=UTC:20230822T000000
DTEND;TZID=UTC:20230822T000000
DTSTAMP:20260426T035302
CREATED:20230703T142953Z
LAST-MODIFIED:20230703T142953Z
UID:3181-1692662400-1692662400@ministranci.waw.pl
SUMMARY:Najświętszej Maryi Panny królowej
DESCRIPTION:
URL:https://ministranci.waw.pl/event/najswietszej-maryi-panny-krolowej/
END:VEVENT
BEGIN:VEVENT
DTSTART;TZID=UTC:20230821T000000
DTEND;TZID=UTC:20230821T000000
DTSTAMP:20260426T035302
CREATED:20230703T142953Z
LAST-MODIFIED:20230703T142953Z
UID:3180-1692576000-1692576000@ministranci.waw.pl
SUMMARY:św. Piusa X papieża
DESCRIPTION:
URL:https://ministranci.waw.pl/event/sw-piusa-x-papieza/
END:VEVENT
BEGIN:VEVENT
DTSTART;TZID=UTC:20230820T000000
DTEND;TZID=UTC:20230820T000000
DTSTAMP:20260426T035302
CREATED:20230703T142953Z
LAST-MODIFIED:20230703T142953Z
UID:3179-1692489600-1692489600@ministranci.waw.pl
SUMMARY:św. Bernarda opata i doktora kościoła
DESCRIPTION:
URL:https://ministranci.waw.pl/event/sw-bernarda-opata-i-doktora-kosciola/
END:VEVENT
BEGIN:VEVENT
DTSTART;TZID=UTC:20230819T000000
DTEND;TZID=UTC:20230819T000000
DTSTAMP:20260426T035302
CREATED:20230703T142953Z
LAST-MODIFIED:20230703T142953Z
UID:3178-1692403200-1692403200@ministranci.waw.pl
SUMMARY:św. Jana Eudesa kapłana
DESCRIPTION:
URL:https://ministranci.waw.pl/event/sw-jana-eudesa-kaplana/
END:VEVENT
BEGIN:VEVENT
DTSTART;TZID=UTC:20230818T000000
DTEND;TZID=UTC:20230818T000000
DTSTAMP:20260426T035302
CREATED:20230703T142953Z
LAST-MODIFIED:20230703T142953Z
UID:3177-1692316800-1692316800@ministranci.waw.pl
SUMMARY:św. Maksymiliana Marii Kolbego
DESCRIPTION:Wspomnienie świętego Maksymiliana Marii Kolbego kapłana i męczennika. W diecezji gdańskiej: 18 sierpnia.
URL:https://ministranci.waw.pl/event/sw-maksymiliana-marii-kolbego-2/
END:VEVENT
BEGIN:VEVENT
DTSTART;TZID=UTC:20230817T000000
DTEND;TZID=UTC:20230817T000000
DTSTAMP:20260426T035302
CREATED:20230703T142938Z
LAST-MODIFIED:20230703T142938Z
UID:3176-1692230400-1692230400@ministranci.waw.pl
SUMMARY:św. Jacka kapłana
DESCRIPTION:
URL:https://ministranci.waw.pl/event/sw-jacka-kaplana/
END:VEVENT
BEGIN:VEVENT
DTSTART;TZID=UTC:20230816T000000
DTEND;TZID=UTC:20230816T000000
DTSTAMP:20260426T035302
CREATED:20230703T142938Z
LAST-MODIFIED:20230703T142938Z
UID:3175-1692144000-1692144000@ministranci.waw.pl
SUMMARY:św. Stefana Węgierskiego
DESCRIPTION:
URL:https://ministranci.waw.pl/event/sw-stefana-wegierskiego/
END:VEVENT
BEGIN:VEVENT
DTSTART;TZID=UTC:20230815T000000
DTEND;TZID=UTC:20230815T000000
DTSTAMP:20260426T035302
CREATED:20230703T142938Z
LAST-MODIFIED:20230703T142938Z
UID:3174-1692057600-1692057600@ministranci.waw.pl
SUMMARY:Uroczystość Wniebowzięcia Najświętszej Maryi Panny
DESCRIPTION:Święto upamiętniające wzięcie do nieba Najświętszej Maryji Panny z duszą i ciałem. W Polsce znane jako Święto Matki Boskiej Zielnej.
URL:https://ministranci.waw.pl/event/uroczystosc-wniebowziecia-najswietszej-maryi-panny/
END:VEVENT
BEGIN:VEVENT
DTSTART;TZID=UTC:20230814T000000
DTEND;TZID=UTC:20230814T000000
DTSTAMP:20260426T035302
CREATED:20230703T142938Z
LAST-MODIFIED:20230703T142938Z
UID:3173-1691971200-1691971200@ministranci.waw.pl
SUMMARY:św. Maksymiliana Marii Kolbego
DESCRIPTION:Wspomnienie świętego Maksymiliana Marii Kolbego kapłana i męczennika. W diecezji gdańskiej: 18 sierpnia.
URL:https://ministranci.waw.pl/event/sw-maksymiliana-marii-kolbego/
END:VEVENT
BEGIN:VEVENT
DTSTART;TZID=UTC:20230813T000000
DTEND;TZID=UTC:20230813T000000
DTSTAMP:20260426T035302
CREATED:20230703T142938Z
LAST-MODIFIED:20230703T142938Z
UID:3172-1691884800-1691884800@ministranci.waw.pl
SUMMARY:św. Poncjana i Hipolita
DESCRIPTION:Wspomnienie świętych męczenników Poncjana papieża i Hipolita kapłana.
URL:https://ministranci.waw.pl/event/sw-poncjana-i-hipolita/
END:VEVENT
BEGIN:VEVENT
DTSTART;TZID=UTC:20230811T000000
DTEND;TZID=UTC:20230811T000000
DTSTAMP:20260426T035302
CREATED:20230703T142924Z
LAST-MODIFIED:20230703T142924Z
UID:3170-1691712000-1691712000@ministranci.waw.pl
SUMMARY:św. Klary dziewicy
DESCRIPTION:
URL:https://ministranci.waw.pl/event/sw-klary-dziewicy/
END:VEVENT
BEGIN:VEVENT
DTSTART;TZID=UTC:20230811T000000
DTEND;TZID=UTC:20230811T000000
DTSTAMP:20260426T035302
CREATED:20230703T142924Z
LAST-MODIFIED:20230703T142924Z
UID:3171-1691712000-1691712000@ministranci.waw.pl
SUMMARY:NMP Świętolipskiej
DESCRIPTION:Wspomnienie Najświętszej Maryi Panny Świętolipskiej. W diecezji warmińskiej – Wspomnienie obowiązkowe.
URL:https://ministranci.waw.pl/event/nmp-swietolipskiej/
END:VEVENT
BEGIN:VEVENT
DTSTART;TZID=UTC:20230810T000000
DTEND;TZID=UTC:20230810T000000
DTSTAMP:20260426T035302
CREATED:20230703T142924Z
LAST-MODIFIED:20230703T142924Z
UID:3169-1691625600-1691625600@ministranci.waw.pl
SUMMARY:św. Wawrzyńca diakona i męczennika
DESCRIPTION:
URL:https://ministranci.waw.pl/event/sw-wawrzynca-diakona-i-meczennika/
END:VEVENT
BEGIN:VEVENT
DTSTART;TZID=UTC:20230808T000000
DTEND;TZID=UTC:20230808T000000
DTSTAMP:20260426T035302
CREATED:20230703T142924Z
LAST-MODIFIED:20230703T142924Z
UID:3168-1691452800-1691452800@ministranci.waw.pl
SUMMARY:św. Dominika kapłana
DESCRIPTION:
URL:https://ministranci.waw.pl/event/sw-dominika-kaplana/
END:VEVENT
BEGIN:VEVENT
DTSTART;TZID=UTC:20230807T000000
DTEND;TZID=UTC:20230807T000000
DTSTAMP:20260426T035302
CREATED:20230703T142923Z
LAST-MODIFIED:20230703T142923Z
UID:3167-1691366400-1691366400@ministranci.waw.pl
SUMMARY:św. Kajetana kapłana
DESCRIPTION:
URL:https://ministranci.waw.pl/event/sw-kajetana-kaplana/
END:VEVENT
BEGIN:VEVENT
DTSTART;TZID=UTC:20230807T000000
DTEND;TZID=UTC:20230807T000000
DTSTAMP:20260426T035302
CREATED:20230703T142908Z
LAST-MODIFIED:20230703T142908Z
UID:3166-1691366400-1691366400@ministranci.waw.pl
SUMMARY:św. Męczenników Sykstusa II papieża i towarzyszy
DESCRIPTION:
URL:https://ministranci.waw.pl/event/sw-meczennikow-sykstusa-ii-papieza-i-towarzyszy/
END:VEVENT
BEGIN:VEVENT
DTSTART;TZID=UTC:20230806T000000
DTEND;TZID=UTC:20230806T000000
DTSTAMP:20260426T035302
CREATED:20230703T142907Z
LAST-MODIFIED:20230703T142907Z
UID:3165-1691280000-1691280000@ministranci.waw.pl
SUMMARY:Święto Przemienienia Pańskiego
DESCRIPTION:
URL:https://ministranci.waw.pl/event/swieto-przemienienia-panskiego/
END:VEVENT
BEGIN:VEVENT
DTSTART;TZID=UTC:20230805T000000
DTEND;TZID=UTC:20230805T000000
DTSTAMP:20260426T035302
CREATED:20230703T142907Z
LAST-MODIFIED:20230703T142907Z
UID:3164-1691193600-1691193600@ministranci.waw.pl
SUMMARY:Rocznica poświęcenia rzymskiej bazyliki NMP
DESCRIPTION:Rocznica poświęcenia rzymskiej bazyliki Najświętszej Maryi Panny.
URL:https://ministranci.waw.pl/event/rocznica-poswiecenia-rzymskiej-bazyliki-nmp/
END:VEVENT
END:VCALENDAR