BEGIN:VCALENDAR
VERSION:2.0
PRODID:-//Liturgiczna Służba Ołtarza - ECPv6.15.20//NONSGML v1.0//EN
CALSCALE:GREGORIAN
METHOD:PUBLISH
X-ORIGINAL-URL:https://ministranci.waw.pl
X-WR-CALDESC:Wydarzenia dla Liturgiczna Służba Ołtarza
REFRESH-INTERVAL;VALUE=DURATION:PT1H
X-Robots-Tag:noindex
X-PUBLISHED-TTL:PT1H
BEGIN:VTIMEZONE
TZID:UTC
BEGIN:STANDARD
TZOFFSETFROM:+0000
TZOFFSETTO:+0000
TZNAME:UTC
DTSTART:20220101T000000
END:STANDARD
END:VTIMEZONE
BEGIN:VEVENT
DTSTART;TZID=UTC:20231014T000000
DTEND;TZID=UTC:20231014T000000
DTSTAMP:20260425T230345
CREATED:20230703T143241Z
LAST-MODIFIED:20230703T143241Z
UID:3227-1697241600-1697241600@ministranci.waw.pl
SUMMARY:św. Radzima Gaudentego
DESCRIPTION:Wspomnienie św. Radzima Gaudentego biskupa.
URL:https://ministranci.waw.pl/event/sw-radzima-gaudentego/
END:VEVENT
BEGIN:VEVENT
DTSTART;TZID=UTC:20231014T000000
DTEND;TZID=UTC:20231014T000000
DTSTAMP:20260425T230345
CREATED:20230703T143157Z
LAST-MODIFIED:20230703T143157Z
UID:3226-1697241600-1697241600@ministranci.waw.pl
SUMMARY:św. Małgorzaty Marii Alacoque
DESCRIPTION:Wspomnienie św. Małgorzaty Marii Alacoque dziewicy.
URL:https://ministranci.waw.pl/event/sw-malgorzaty-marii-alacoque/
END:VEVENT
BEGIN:VEVENT
DTSTART;TZID=UTC:20231013T000000
DTEND;TZID=UTC:20231013T000000
DTSTAMP:20260425T230345
CREATED:20230703T143157Z
LAST-MODIFIED:20230703T143157Z
UID:3225-1697155200-1697155200@ministranci.waw.pl
SUMMARY:bł. Honorata Koźmińskiego
DESCRIPTION:Wspomnienie bł. Honorata Koźmińskiego kapłana.
URL:https://ministranci.waw.pl/event/bl-honorata-kozminskiego/
END:VEVENT
BEGIN:VEVENT
DTSTART;TZID=UTC:20231010T000000
DTEND;TZID=UTC:20231010T000000
DTSTAMP:20260425T230345
CREATED:20230703T143157Z
LAST-MODIFIED:20230703T143157Z
UID:3223-1696896000-1696896000@ministranci.waw.pl
SUMMARY:św. Dionizego
DESCRIPTION:Wspomnienie świętych męczenników Dionizego biskupa i towarzyszy.
URL:https://ministranci.waw.pl/event/sw-dionizego/
END:VEVENT
BEGIN:VEVENT
DTSTART;TZID=UTC:20231010T000000
DTEND;TZID=UTC:20231010T000000
DTSTAMP:20260425T230345
CREATED:20230703T143157Z
LAST-MODIFIED:20230703T143157Z
UID:3224-1696896000-1696896000@ministranci.waw.pl
SUMMARY:św. Jana Leonardiego
DESCRIPTION:Wspomnienie św. Jana Leonardiego kapłana.
URL:https://ministranci.waw.pl/event/sw-jana-leonardiego/
END:VEVENT
BEGIN:VEVENT
DTSTART;TZID=UTC:20231009T000000
DTEND;TZID=UTC:20231009T000000
DTSTAMP:20260425T230345
CREATED:20230703T143157Z
LAST-MODIFIED:20230703T143157Z
UID:3222-1696809600-1696809600@ministranci.waw.pl
SUMMARY:bł. Wincentego Kadłubka
DESCRIPTION:Wspomnienie bł. Wincentego Kadłubka biskupa.
URL:https://ministranci.waw.pl/event/bl-wincentego-kadlubka/
END:VEVENT
BEGIN:VEVENT
DTSTART;TZID=UTC:20231007T000000
DTEND;TZID=UTC:20231007T000000
DTSTAMP:20260425T230345
CREATED:20230703T143143Z
LAST-MODIFIED:20230703T143143Z
UID:3221-1696636800-1696636800@ministranci.waw.pl
SUMMARY:Najświętszej Maryi Panny Różańcowej
DESCRIPTION:
URL:https://ministranci.waw.pl/event/najswietszej-maryi-panny-rozancowej/
END:VEVENT
BEGIN:VEVENT
DTSTART;TZID=UTC:20231006T000000
DTEND;TZID=UTC:20231006T000000
DTSTAMP:20260425T230345
CREATED:20230703T143143Z
LAST-MODIFIED:20230703T143143Z
UID:3220-1696550400-1696550400@ministranci.waw.pl
SUMMARY:św. Brunona
DESCRIPTION:Wspomnienie św. Brunona kapłana.
URL:https://ministranci.waw.pl/event/sw-brunona/
END:VEVENT
BEGIN:VEVENT
DTSTART;TZID=UTC:20231004T000000
DTEND;TZID=UTC:20231004T000000
DTSTAMP:20260425T230345
CREATED:20230703T143142Z
LAST-MODIFIED:20230703T143142Z
UID:3219-1696377600-1696377600@ministranci.waw.pl
SUMMARY:św. Franciszka z Asyżu
DESCRIPTION:Wspomnienie św. Franciszka z Asyżu.
URL:https://ministranci.waw.pl/event/sw-franciszka-z-asyzu/
END:VEVENT
BEGIN:VEVENT
DTSTART;TZID=UTC:20231003T000000
DTEND;TZID=UTC:20231003T000000
DTSTAMP:20260425T230345
CREATED:20230703T143142Z
LAST-MODIFIED:20230703T143142Z
UID:3218-1696291200-1696291200@ministranci.waw.pl
SUMMARY:bł. Jana z Dukli
DESCRIPTION:Wspomnienie bł. Jana z Dukli kapłana.
URL:https://ministranci.waw.pl/event/bl-jana-z-dukli/
END:VEVENT
BEGIN:VEVENT
DTSTART;TZID=UTC:20231002T000000
DTEND;TZID=UTC:20231002T000000
DTSTAMP:20260425T230345
CREATED:20230703T143142Z
LAST-MODIFIED:20230703T143142Z
UID:3217-1696204800-1696204800@ministranci.waw.pl
SUMMARY:Świętych Aniołów Stróżów
DESCRIPTION:
URL:https://ministranci.waw.pl/event/swietych-aniolow-strozow/
END:VEVENT
BEGIN:VEVENT
DTSTART;TZID=UTC:20231001T000000
DTEND;TZID=UTC:20231001T000000
DTSTAMP:20260425T230345
CREATED:20230703T143117Z
LAST-MODIFIED:20230703T143117Z
UID:3216-1696118400-1696118400@ministranci.waw.pl
SUMMARY:św. Teresy od Dzieciątka Jezus
DESCRIPTION:Wspomnienie św. Teresy od Dzieciątka Jezus dziewicy.
URL:https://ministranci.waw.pl/event/sw-teresy-od-dzieciatka-jezus/
END:VEVENT
BEGIN:VEVENT
DTSTART;TZID=UTC:20230930T000000
DTEND;TZID=UTC:20230930T000000
DTSTAMP:20260425T230345
CREATED:20230703T143117Z
LAST-MODIFIED:20230703T143117Z
UID:3215-1696032000-1696032000@ministranci.waw.pl
SUMMARY:św. Hieronima
DESCRIPTION:Wspomnienie św. Hieronima kapłana i doktora kościoła.
URL:https://ministranci.waw.pl/event/sw-hieronima/
END:VEVENT
BEGIN:VEVENT
DTSTART;TZID=UTC:20230929T000000
DTEND;TZID=UTC:20230929T000000
DTSTAMP:20260425T230345
CREATED:20230703T143117Z
LAST-MODIFIED:20230703T143117Z
UID:3214-1695945600-1695945600@ministranci.waw.pl
SUMMARY:św. Archaniołów Michała Gabriela i Rafała
DESCRIPTION:
URL:https://ministranci.waw.pl/event/sw-archaniolow-michala-gabriela-i-rafala/
END:VEVENT
BEGIN:VEVENT
DTSTART;TZID=UTC:20230928T000000
DTEND;TZID=UTC:20230928T000000
DTSTAMP:20260425T230345
CREATED:20230703T143117Z
LAST-MODIFIED:20230703T143117Z
UID:3213-1695859200-1695859200@ministranci.waw.pl
SUMMARY:św. Wacława
DESCRIPTION:Wspomnienie św. Wacława męczennika.
URL:https://ministranci.waw.pl/event/sw-waclawa/
END:VEVENT
BEGIN:VEVENT
DTSTART;TZID=UTC:20230927T000000
DTEND;TZID=UTC:20230927T000000
DTSTAMP:20260425T230345
CREATED:20230703T143117Z
LAST-MODIFIED:20230703T143117Z
UID:3212-1695772800-1695772800@ministranci.waw.pl
SUMMARY:św. Wincentego a Paulo
DESCRIPTION:
URL:https://ministranci.waw.pl/event/sw-wincentego-a-paulo/
END:VEVENT
BEGIN:VEVENT
DTSTART;TZID=UTC:20230926T000000
DTEND;TZID=UTC:20230926T000000
DTSTAMP:20260425T230345
CREATED:20230703T143101Z
LAST-MODIFIED:20230703T143101Z
UID:3210-1695686400-1695686400@ministranci.waw.pl
SUMMARY:św. Wawrzyńca Ruiz
DESCRIPTION:Wspomnienie św. męczenników Wawrzyńca Ruiz i towarzyszy.
URL:https://ministranci.waw.pl/event/sw-wawrzynca-ruiz/
END:VEVENT
BEGIN:VEVENT
DTSTART;TZID=UTC:20230926T000000
DTEND;TZID=UTC:20230926T000000
DTSTAMP:20260425T230345
CREATED:20230703T143101Z
LAST-MODIFIED:20230703T143101Z
UID:3211-1695686400-1695686400@ministranci.waw.pl
SUMMARY:św. Kosmy i Damiana
DESCRIPTION:Wspomnienie św. męczenników Kosmy i Damiana
URL:https://ministranci.waw.pl/event/sw-kosmy-i-damiana/
END:VEVENT
BEGIN:VEVENT
DTSTART;TZID=UTC:20230925T000000
DTEND;TZID=UTC:20230925T000000
DTSTAMP:20260425T230345
CREATED:20230703T143101Z
LAST-MODIFIED:20230703T143101Z
UID:3209-1695600000-1695600000@ministranci.waw.pl
SUMMARY:bł. Władysława z Gielniowa
DESCRIPTION:Wspomnienie bł. Władysława z Gielniowa kapłana.
URL:https://ministranci.waw.pl/event/bl-wladyslawa-z-gielniowa/
END:VEVENT
BEGIN:VEVENT
DTSTART;TZID=UTC:20230921T000000
DTEND;TZID=UTC:20230921T000000
DTSTAMP:20260425T230345
CREATED:20230703T143101Z
LAST-MODIFIED:20230703T143101Z
UID:3208-1695254400-1695254400@ministranci.waw.pl
SUMMARY:św. Mateusza apostoła i ewangelisty
DESCRIPTION:
URL:https://ministranci.waw.pl/event/sw-mateusza-apostola-i-ewangelisty/
END:VEVENT
BEGIN:VEVENT
DTSTART;TZID=UTC:20230920T000000
DTEND;TZID=UTC:20230920T000000
DTSTAMP:20260425T230345
CREATED:20230703T143100Z
LAST-MODIFIED:20230703T143100Z
UID:3207-1695168000-1695168000@ministranci.waw.pl
SUMMARY:św. Andrzeja i Pawła
DESCRIPTION:Wspomnienie św. męczenników Andrzeja Kim Taegon kapłana Pawła Chong Hasang i towarzyszy.
URL:https://ministranci.waw.pl/event/sw-andrzeja-i-pawla/
END:VEVENT
BEGIN:VEVENT
DTSTART;TZID=UTC:20230919T000000
DTEND;TZID=UTC:20230919T000000
DTSTAMP:20260425T230345
CREATED:20230703T143059Z
LAST-MODIFIED:20230703T143059Z
UID:3206-1695081600-1695081600@ministranci.waw.pl
SUMMARY:św. Januarego
DESCRIPTION:Wspomnienie św. Januarego biskupa i męczennika.
URL:https://ministranci.waw.pl/event/sw-januarego/
END:VEVENT
BEGIN:VEVENT
DTSTART;TZID=UTC:20230918T000000
DTEND;TZID=UTC:20230918T000000
DTSTAMP:20260425T230345
CREATED:20230703T143059Z
LAST-MODIFIED:20230703T143059Z
UID:3205-1694995200-1694995200@ministranci.waw.pl
SUMMARY:Święto św. Stanisława Kostki
DESCRIPTION:Święto świętego Stanisława Kostki zakonnika patrona Polski i młodzieży.
URL:https://ministranci.waw.pl/event/swieto-sw-stanislawa-kostki/
END:VEVENT
BEGIN:VEVENT
DTSTART;TZID=UTC:20230917T000000
DTEND;TZID=UTC:20230917T000000
DTSTAMP:20260425T230345
CREATED:20230703T143059Z
LAST-MODIFIED:20230703T143059Z
UID:3204-1694908800-1694908800@ministranci.waw.pl
SUMMARY:św. Roberta Bellarmina
DESCRIPTION:Wspomnienie świętego Roberta Bellarmina biskupa i doktora kościoła
URL:https://ministranci.waw.pl/event/sw-roberta-bellarmina/
END:VEVENT
BEGIN:VEVENT
DTSTART;TZID=UTC:20230916T000000
DTEND;TZID=UTC:20230916T000000
DTSTAMP:20260425T230345
CREATED:20230703T143059Z
LAST-MODIFIED:20230703T143059Z
UID:3203-1694822400-1694822400@ministranci.waw.pl
SUMMARY:św. Korneliusza i Cypriana
DESCRIPTION:Wspomnienie świętych męczenników Korneliusza papieża i Cypriana biskupa.
URL:https://ministranci.waw.pl/event/sw-korneliusza-i-cypriana/
END:VEVENT
BEGIN:VEVENT
DTSTART;TZID=UTC:20230915T000000
DTEND;TZID=UTC:20230915T000000
DTSTAMP:20260425T230345
CREATED:20230703T143059Z
LAST-MODIFIED:20230703T143059Z
UID:3202-1694736000-1694736000@ministranci.waw.pl
SUMMARY:Najświętszej Maryi Panny Bolesnej
DESCRIPTION:
URL:https://ministranci.waw.pl/event/najswietszej-maryi-panny-bolesnej/
END:VEVENT
BEGIN:VEVENT
DTSTART;TZID=UTC:20230914T000000
DTEND;TZID=UTC:20230914T000000
DTSTAMP:20260425T230345
CREATED:20230703T143043Z
LAST-MODIFIED:20230703T143043Z
UID:3196-1694649600-1694649600@ministranci.waw.pl
SUMMARY:Podwyższenie Krzyża Świętego
DESCRIPTION:
URL:https://ministranci.waw.pl/event/podwyzszenie-krzyza-swietego/
END:VEVENT
BEGIN:VEVENT
DTSTART;TZID=UTC:20230913T000000
DTEND;TZID=UTC:20230913T000000
DTSTAMP:20260425T230345
CREATED:20230703T143043Z
LAST-MODIFIED:20230703T143043Z
UID:3195-1694563200-1694563200@ministranci.waw.pl
SUMMARY:św. Jana Chryzostoma
DESCRIPTION:św. Jana Chryzostoma biskupa i doktora kościoła
URL:https://ministranci.waw.pl/event/sw-jana-chryzostoma/
END:VEVENT
BEGIN:VEVENT
DTSTART;TZID=UTC:20230912T000000
DTEND;TZID=UTC:20230912T000000
DTSTAMP:20260425T230345
CREATED:20230703T143043Z
LAST-MODIFIED:20230703T143043Z
UID:3194-1694476800-1694476800@ministranci.waw.pl
SUMMARY:Najświętszego imienia Maryi
DESCRIPTION:
URL:https://ministranci.waw.pl/event/najswietszego-imienia-maryi/
END:VEVENT
BEGIN:VEVENT
DTSTART;TZID=UTC:20230908T000000
DTEND;TZID=UTC:20230908T000000
DTSTAMP:20260425T230345
CREATED:20230703T143042Z
LAST-MODIFIED:20230703T143043Z
UID:3193-1694131200-1694131200@ministranci.waw.pl
SUMMARY:Narodzenie Najświętszej Maryi Panny
DESCRIPTION:
URL:https://ministranci.waw.pl/event/narodzenie-najswietszej-maryi-panny/
END:VEVENT
END:VCALENDAR