BEGIN:VCALENDAR
VERSION:2.0
PRODID:-//Liturgiczna Służba Ołtarza - ECPv6.15.20//NONSGML v1.0//EN
CALSCALE:GREGORIAN
METHOD:PUBLISH
X-WR-CALNAME:Liturgiczna Służba Ołtarza
X-ORIGINAL-URL:https://ministranci.waw.pl
X-WR-CALDESC:Wydarzenia dla Liturgiczna Służba Ołtarza
REFRESH-INTERVAL;VALUE=DURATION:PT1H
X-Robots-Tag:noindex
X-PUBLISHED-TTL:PT1H
BEGIN:VTIMEZONE
TZID:UTC
BEGIN:STANDARD
TZOFFSETFROM:+0000
TZOFFSETTO:+0000
TZNAME:UTC
DTSTART:20220101T000000
END:STANDARD
END:VTIMEZONE
BEGIN:VEVENT
DTSTART;TZID=UTC:20231207T000000
DTEND;TZID=UTC:20231207T000000
DTSTAMP:20260425T161204
CREATED:20230703T143958Z
LAST-MODIFIED:20230703T143958Z
UID:3267-1701907200-1701907200@ministranci.waw.pl
SUMMARY:św. Ambrożego
DESCRIPTION:Wspomnienie świętego Ambrożego biskupa i doktora kościoła.
URL:https://ministranci.waw.pl/event/sw-ambrozego/
END:VEVENT
BEGIN:VEVENT
DTSTART;TZID=UTC:20231206T000000
DTEND;TZID=UTC:20231206T000000
DTSTAMP:20260425T161204
CREATED:20230703T143948Z
LAST-MODIFIED:20230703T143948Z
UID:3266-1701820800-1701820800@ministranci.waw.pl
SUMMARY:św. Mikołaja
DESCRIPTION:Wspomnienie świętego Mikołaja biskupa.
URL:https://ministranci.waw.pl/event/sw-mikolaja/
END:VEVENT
BEGIN:VEVENT
DTSTART;TZID=UTC:20231204T000000
DTEND;TZID=UTC:20231204T000000
DTSTAMP:20260425T161204
CREATED:20230703T143947Z
LAST-MODIFIED:20230703T143947Z
UID:3264-1701648000-1701648000@ministranci.waw.pl
SUMMARY:św. Barbary
DESCRIPTION:Wspomnienie świętej Barbary dziewicy i męczennicy.
URL:https://ministranci.waw.pl/event/sw-barbary/
END:VEVENT
BEGIN:VEVENT
DTSTART;TZID=UTC:20231204T000000
DTEND;TZID=UTC:20231204T000000
DTSTAMP:20260425T161204
CREATED:20230703T143947Z
LAST-MODIFIED:20230703T143947Z
UID:3265-1701648000-1701648000@ministranci.waw.pl
SUMMARY:św. Jana Damasceńskiego
DESCRIPTION:Wspomnienie świętego Jana Damasceńskiego kapłana i doktora kościoła.
URL:https://ministranci.waw.pl/event/sw-jana-damascenskiego/
END:VEVENT
BEGIN:VEVENT
DTSTART;TZID=UTC:20231203T000000
DTEND;TZID=UTC:20231203T000000
DTSTAMP:20260425T161204
CREATED:20230703T143947Z
LAST-MODIFIED:20230703T143947Z
UID:3263-1701561600-1701561600@ministranci.waw.pl
SUMMARY:Franciszka Ksawerego
DESCRIPTION:Wspomnienie świętego Franciszka Ksawerego kapłana.
URL:https://ministranci.waw.pl/event/franciszka-ksawerego/
END:VEVENT
BEGIN:VEVENT
DTSTART;TZID=UTC:20231130T000000
DTEND;TZID=UTC:20231130T000000
DTSTAMP:20260425T161204
CREATED:20230703T143947Z
LAST-MODIFIED:20230703T143947Z
UID:3262-1701302400-1701302400@ministranci.waw.pl
SUMMARY:św. Andrzeja apostoła
DESCRIPTION:Święto świętego Andrzeja apostoła.
URL:https://ministranci.waw.pl/event/sw-andrzeja-apostola/
END:VEVENT
BEGIN:VEVENT
DTSTART;TZID=UTC:20231125T000000
DTEND;TZID=UTC:20231125T000000
DTSTAMP:20260425T161204
CREATED:20230703T143930Z
LAST-MODIFIED:20230703T143930Z
UID:3261-1700870400-1700870400@ministranci.waw.pl
SUMMARY:bł. Marii od Pana Jezusa Dobrego Pasterza
DESCRIPTION:Wspomnienie dowolne błogosławionej Marii od Pana Jezusa Dobrego Pasterza dziewicy.
URL:https://ministranci.waw.pl/event/bl-marii-od-pana-jezusa-dobrego-pasterza/
END:VEVENT
BEGIN:VEVENT
DTSTART;TZID=UTC:20231124T000000
DTEND;TZID=UTC:20231124T000000
DTSTAMP:20260425T161204
CREATED:20230703T143930Z
LAST-MODIFIED:20230703T143930Z
UID:3260-1700784000-1700784000@ministranci.waw.pl
SUMMARY:św. Andrzeja Dung-Lac
DESCRIPTION:Wspomnienie obowiązkowe świętych męczenników Andrzeja Dung-Lac kapłana i towarzyszy.
URL:https://ministranci.waw.pl/event/sw-andrzeja-dung-lac/
END:VEVENT
BEGIN:VEVENT
DTSTART;TZID=UTC:20231123T000000
DTEND;TZID=UTC:20231123T000000
DTSTAMP:20260425T161204
CREATED:20230703T143930Z
LAST-MODIFIED:20230703T143930Z
UID:3258-1700697600-1700697600@ministranci.waw.pl
SUMMARY:św. Kolumbana
DESCRIPTION:Wspomnienie dowolne świętego Kolumbana opata.
URL:https://ministranci.waw.pl/event/sw-kolumbana/
END:VEVENT
BEGIN:VEVENT
DTSTART;TZID=UTC:20231123T000000
DTEND;TZID=UTC:20231123T000000
DTSTAMP:20260425T161204
CREATED:20230703T143930Z
LAST-MODIFIED:20230703T143930Z
UID:3259-1700697600-1700697600@ministranci.waw.pl
SUMMARY:św. Klemensa I
DESCRIPTION:Wspomnienie dowolne świętego Klemensa I papieża i męczennika.
URL:https://ministranci.waw.pl/event/sw-klemensa-i/
END:VEVENT
BEGIN:VEVENT
DTSTART;TZID=UTC:20231122T000000
DTEND;TZID=UTC:20231122T000000
DTSTAMP:20260425T161204
CREATED:20230703T143930Z
LAST-MODIFIED:20230703T143930Z
UID:3257-1700611200-1700611200@ministranci.waw.pl
SUMMARY:św. Cecylii
DESCRIPTION:Wspomnienie obowiązkowe świętej Cecylii dziewicy i męczennicy.
URL:https://ministranci.waw.pl/event/sw-cecylii/
END:VEVENT
BEGIN:VEVENT
DTSTART;TZID=UTC:20231121T000000
DTEND;TZID=UTC:20231121T000000
DTSTAMP:20260425T161204
CREATED:20230703T143858Z
LAST-MODIFIED:20230703T143858Z
UID:3256-1700524800-1700524800@ministranci.waw.pl
SUMMARY:Ofiarowanie Najświętszej Maryi Panny
DESCRIPTION:
URL:https://ministranci.waw.pl/event/ofiarowanie-najswietszej-maryi-panny/
END:VEVENT
BEGIN:VEVENT
DTSTART;TZID=UTC:20231120T000000
DTEND;TZID=UTC:20231120T000000
DTSTAMP:20260425T161204
CREATED:20230703T143858Z
LAST-MODIFIED:20230703T143858Z
UID:3255-1700438400-1700438400@ministranci.waw.pl
SUMMARY:bł. Rafała Kalinowskiego
DESCRIPTION:Wspomnienie obowiązkowe błogosławionego Rafała Kalinowskiego kapłana.
URL:https://ministranci.waw.pl/event/bl-rafala-kalinowskiego/
END:VEVENT
BEGIN:VEVENT
DTSTART;TZID=UTC:20231119T000000
DTEND;TZID=UTC:20231119T000000
DTSTAMP:20260425T161204
CREATED:20230703T143858Z
LAST-MODIFIED:20230703T143858Z
UID:3254-1700352000-1700352000@ministranci.waw.pl
SUMMARY:bł. Salomei
DESCRIPTION:Wspomnienie obowiązkowe błogosławionej Salomei dziewicy.
URL:https://ministranci.waw.pl/event/bl-salomei/
END:VEVENT
BEGIN:VEVENT
DTSTART;TZID=UTC:20231118T000000
DTEND;TZID=UTC:20231118T000000
DTSTAMP:20260425T161204
CREATED:20230703T143858Z
LAST-MODIFIED:20230703T143858Z
UID:3253-1700265600-1700265600@ministranci.waw.pl
SUMMARY:bł. Karoliny Kózkówny
DESCRIPTION:Wspomnienie błogosławionej Karoliny Kózkówny dziewicy i męczennicy.
URL:https://ministranci.waw.pl/event/bl-karoliny-kozkowny/
END:VEVENT
BEGIN:VEVENT
DTSTART;TZID=UTC:20231117T000000
DTEND;TZID=UTC:20231117T000000
DTSTAMP:20260425T161204
CREATED:20230703T143857Z
LAST-MODIFIED:20230703T143857Z
UID:3252-1700179200-1700179200@ministranci.waw.pl
SUMMARY:św. Elżbiety węgierskiej
DESCRIPTION:Wspomnienie obowiązkowe świętej Elżbiety węgierskiej.
URL:https://ministranci.waw.pl/event/sw-elzbiety-wegierskiej/
END:VEVENT
BEGIN:VEVENT
DTSTART;TZID=UTC:20231116T000000
DTEND;TZID=UTC:20231116T000000
DTSTAMP:20260425T161204
CREATED:20230703T143657Z
LAST-MODIFIED:20230703T143657Z
UID:3249-1700092800-1700092800@ministranci.waw.pl
SUMMARY:św. Gertrudy
DESCRIPTION:Wspomnienie dowolne świętej Gertrudy dziewicy.
URL:https://ministranci.waw.pl/event/sw-gertrudy/
END:VEVENT
BEGIN:VEVENT
DTSTART;TZID=UTC:20231116T000000
DTEND;TZID=UTC:20231116T000000
DTSTAMP:20260425T161204
CREATED:20230703T143657Z
LAST-MODIFIED:20230703T143657Z
UID:3250-1700092800-1700092800@ministranci.waw.pl
SUMMARY:św. Małgorzaty szkockiej
DESCRIPTION:Wspomnienie dowolne świętej Małgorzaty szkockiej
URL:https://ministranci.waw.pl/event/sw-malgorzaty-szkockiej/
END:VEVENT
BEGIN:VEVENT
DTSTART;TZID=UTC:20231116T000000
DTEND;TZID=UTC:20231116T000000
DTSTAMP:20260425T161204
CREATED:20230703T143657Z
LAST-MODIFIED:20230703T143657Z
UID:3251-1700092800-1700092800@ministranci.waw.pl
SUMMARY:NMP Ostrobramskiej Matki Miłosierdzia
DESCRIPTION:Święto Najświętszej Maryi Panny NMP Ostrobramskiej Matki Miłosierdzia.
URL:https://ministranci.waw.pl/event/nmp-ostrobramskiej-matki-milosierdzia/
END:VEVENT
BEGIN:VEVENT
DTSTART;TZID=UTC:20231115T000000
DTEND;TZID=UTC:20231115T000000
DTSTAMP:20260425T161204
CREATED:20230703T143657Z
LAST-MODIFIED:20230703T143657Z
UID:3248-1700006400-1700006400@ministranci.waw.pl
SUMMARY:św. Alberta Wielkiego
DESCRIPTION:Wspomnienie dowolne świętego Alberta Wielkiego biskupa i doktora kościoła.
URL:https://ministranci.waw.pl/event/sw-alberta-wielkiego/
END:VEVENT
BEGIN:VEVENT
DTSTART;TZID=UTC:20231113T000000
DTEND;TZID=UTC:20231113T000000
DTSTAMP:20260425T161204
CREATED:20230703T143657Z
LAST-MODIFIED:20230703T143657Z
UID:3247-1699833600-1699833600@ministranci.waw.pl
SUMMARY:św. Benedykta Jana Mateusza Izaaka i Krystyna
DESCRIPTION:Wspomnienie obowiązkowe świętych Benedykta Jana Mateusza Izaaka i Krystyna pierwszych męczenników Polski.
URL:https://ministranci.waw.pl/event/sw-benedykta-jana-mateusza-izaaka-i-krystyna/
END:VEVENT
BEGIN:VEVENT
DTSTART;TZID=UTC:20231112T000000
DTEND;TZID=UTC:20231112T000000
DTSTAMP:20260425T161204
CREATED:20230703T143457Z
LAST-MODIFIED:20230703T143457Z
UID:3246-1699747200-1699747200@ministranci.waw.pl
SUMMARY:św. Jozafata
DESCRIPTION:Wspomnienie obowiązkowe świętego Jozafata biskupa i męczennika.
URL:https://ministranci.waw.pl/event/sw-jozafata/
END:VEVENT
BEGIN:VEVENT
DTSTART;TZID=UTC:20231111T000000
DTEND;TZID=UTC:20231111T000000
DTSTAMP:20260425T161204
CREATED:20230703T143457Z
LAST-MODIFIED:20230703T143457Z
UID:3245-1699660800-1699660800@ministranci.waw.pl
SUMMARY:św. Marcina z Tours
DESCRIPTION:Wspomnienie obowiązkowe świętego Marcina z Tours biskupa.
URL:https://ministranci.waw.pl/event/sw-marcina-z-tours/
END:VEVENT
BEGIN:VEVENT
DTSTART;TZID=UTC:20231110T000000
DTEND;TZID=UTC:20231110T000000
DTSTAMP:20260425T161204
CREATED:20230703T143457Z
LAST-MODIFIED:20230703T143457Z
UID:3244-1699574400-1699574400@ministranci.waw.pl
SUMMARY:św. Leona Wielkiego
DESCRIPTION:Wspomnienie obowiązkowe świętego Leona Wielkiego papieża i doktora kościoła.
URL:https://ministranci.waw.pl/event/sw-leona-wielkiego/
END:VEVENT
BEGIN:VEVENT
DTSTART;TZID=UTC:20231104T000000
DTEND;TZID=UTC:20231104T000000
DTSTAMP:20260425T161204
CREATED:20230703T143457Z
LAST-MODIFIED:20230703T143457Z
UID:3243-1699056000-1699056000@ministranci.waw.pl
SUMMARY:św. Karola Boromeusza
DESCRIPTION:Wspomnienie obowiązkowe świętego Karola Boromeusza biskupa.
URL:https://ministranci.waw.pl/event/sw-karola-boromeusza/
END:VEVENT
BEGIN:VEVENT
DTSTART;TZID=UTC:20231103T000000
DTEND;TZID=UTC:20231103T000000
DTSTAMP:20260425T161204
CREATED:20230703T143457Z
LAST-MODIFIED:20230703T143457Z
UID:3242-1698969600-1698969600@ministranci.waw.pl
SUMMARY:św. Marcina de Porres
DESCRIPTION:Wspomnienie dowolne świętego Marcina de Porres zakonnika.
URL:https://ministranci.waw.pl/event/sw-marcina-de-porres/
END:VEVENT
BEGIN:VEVENT
DTSTART;TZID=UTC:20231102T000000
DTEND;TZID=UTC:20231102T000000
DTSTAMP:20260425T161204
CREATED:20230703T143442Z
LAST-MODIFIED:20230703T143442Z
UID:3241-1698883200-1698883200@ministranci.waw.pl
SUMMARY:Zaduszki
DESCRIPTION:Wspomnienie wszystkich wiernych zmarłych
URL:https://ministranci.waw.pl/event/zaduszki/
END:VEVENT
BEGIN:VEVENT
DTSTART;TZID=UTC:20231101T000000
DTEND;TZID=UTC:20231101T000000
DTSTAMP:20260425T161204
CREATED:20230703T143442Z
LAST-MODIFIED:20230703T143442Z
UID:3240-1698796800-1698796800@ministranci.waw.pl
SUMMARY:Uroczystość Wszystkich Świętych
DESCRIPTION:Święto ku czci wszystkich świętych czyli tych którzy osiągneli zbawienie i trafili do nieba.
URL:https://ministranci.waw.pl/event/uroczystosc-wszystkich-swietych/
END:VEVENT
BEGIN:VEVENT
DTSTART;TZID=UTC:20231028T000000
DTEND;TZID=UTC:20231028T000000
DTSTAMP:20260425T161204
CREATED:20230703T143442Z
LAST-MODIFIED:20230703T143442Z
UID:3239-1698451200-1698451200@ministranci.waw.pl
SUMMARY:św. Szymona i Judy Tadeusza
DESCRIPTION:Wspomnienie św. apostołów Szymona i Judy Tadeusza.
URL:https://ministranci.waw.pl/event/sw-szymona-i-judy-tadeusza/
END:VEVENT
BEGIN:VEVENT
DTSTART;TZID=UTC:20231024T000000
DTEND;TZID=UTC:20231024T000000
DTSTAMP:20260425T161204
CREATED:20230703T143442Z
LAST-MODIFIED:20230703T143442Z
UID:3238-1698105600-1698105600@ministranci.waw.pl
SUMMARY:św. Antoniego Marii Clareta
DESCRIPTION:Wspomnienie św. Antoniego Marii Clareta biskupa.
URL:https://ministranci.waw.pl/event/sw-antoniego-marii-clareta/
END:VEVENT
END:VCALENDAR