BEGIN:VCALENDAR
VERSION:2.0
PRODID:-//Liturgiczna Służba Ołtarza - ECPv6.15.20//NONSGML v1.0//EN
CALSCALE:GREGORIAN
METHOD:PUBLISH
X-ORIGINAL-URL:https://ministranci.waw.pl
X-WR-CALDESC:Wydarzenia dla Liturgiczna Służba Ołtarza
REFRESH-INTERVAL;VALUE=DURATION:PT1H
X-Robots-Tag:noindex
X-PUBLISHED-TTL:PT1H
BEGIN:VTIMEZONE
TZID:UTC
BEGIN:STANDARD
TZOFFSETFROM:+0000
TZOFFSETTO:+0000
TZNAME:UTC
DTSTART:20220101T000000
END:STANDARD
END:VTIMEZONE
BEGIN:VEVENT
DTSTART;TZID=UTC:20240125T000000
DTEND;TZID=UTC:20240125T000000
DTSTAMP:20260423T202333
CREATED:20240205T112202Z
LAST-MODIFIED:20240205T112202Z
UID:3347-1706140800-1706140800@ministranci.waw.pl
SUMMARY:Zakończenie Tygodnia Modlitw o Jedność Chrześcijan
DESCRIPTION:
URL:https://ministranci.waw.pl/event/zakonczenie-tygodnia-modlitw-o-jednosc-chrzescijan/
END:VEVENT
BEGIN:VEVENT
DTSTART;TZID=UTC:20240124T000000
DTEND;TZID=UTC:20240124T000000
DTSTAMP:20260423T202333
CREATED:20240205T112202Z
LAST-MODIFIED:20240205T112202Z
UID:3345-1706054400-1706054400@ministranci.waw.pl
SUMMARY:św. Franciszka Salezego
DESCRIPTION:Wspomnienie świętego Franciszka Salezego
URL:https://ministranci.waw.pl/event/sw-franciszka-salezego/
END:VEVENT
BEGIN:VEVENT
DTSTART;TZID=UTC:20240122T000000
DTEND;TZID=UTC:20240122T000000
DTSTAMP:20260423T202333
CREATED:20240205T112202Z
LAST-MODIFIED:20240205T112202Z
UID:3344-1705881600-1705881600@ministranci.waw.pl
SUMMARY:św. Wincentego
DESCRIPTION:Wspomnienie świętego Wincentego
URL:https://ministranci.waw.pl/event/sw-wincentego/
END:VEVENT
BEGIN:VEVENT
DTSTART;TZID=UTC:20240121T000000
DTEND;TZID=UTC:20240121T000000
DTSTAMP:20260423T202333
CREATED:20240205T112202Z
LAST-MODIFIED:20240205T112202Z
UID:3343-1705795200-1705795200@ministranci.waw.pl
SUMMARY:św. Agnieszki
DESCRIPTION:Wspomnienie świętej Agnieszki
URL:https://ministranci.waw.pl/event/sw-agnieszki/
END:VEVENT
BEGIN:VEVENT
DTSTART;TZID=UTC:20240120T000000
DTEND;TZID=UTC:20240120T000000
DTSTAMP:20260423T202333
CREATED:20240205T112200Z
LAST-MODIFIED:20240205T112200Z
UID:3341-1705708800-1705708800@ministranci.waw.pl
SUMMARY:św. Sebastiana
DESCRIPTION:Wspomnienie świętego Sebastiana
URL:https://ministranci.waw.pl/event/sw-sebastiana/
END:VEVENT
BEGIN:VEVENT
DTSTART;TZID=UTC:20240120T000000
DTEND;TZID=UTC:20240120T000000
DTSTAMP:20260423T202333
CREATED:20240205T112200Z
LAST-MODIFIED:20240205T112200Z
UID:3342-1705708800-1705708800@ministranci.waw.pl
SUMMARY:św. Fabiana
DESCRIPTION:Wspomnienie świętego Fabiana
URL:https://ministranci.waw.pl/event/sw-fabiana/
END:VEVENT
BEGIN:VEVENT
DTSTART;TZID=UTC:20240118T000000
DTEND;TZID=UTC:20240118T000000
DTSTAMP:20260423T202333
CREATED:20240205T112200Z
LAST-MODIFIED:20240205T112200Z
UID:3340-1705536000-1705536000@ministranci.waw.pl
SUMMARY:Początek Tygodnia Modlitw o Jedność Chrześcijan
DESCRIPTION:Przez tydzień na całym Świecie odbywają się liczne wydarzenia mające na celu zjednoczenie religii Chrześcijańskich.
URL:https://ministranci.waw.pl/event/poczatek-tygodnia-modlitw-o-jednosc-chrzescijan/
END:VEVENT
BEGIN:VEVENT
DTSTART;TZID=UTC:20240117T000000
DTEND;TZID=UTC:20240117T000000
DTSTAMP:20260423T202333
CREATED:20240205T112200Z
LAST-MODIFIED:20240205T112200Z
UID:3339-1705449600-1705449600@ministranci.waw.pl
SUMMARY:św. Antoniego
DESCRIPTION:opata
URL:https://ministranci.waw.pl/event/sw-antoniego/
END:VEVENT
BEGIN:VEVENT
DTSTART;TZID=UTC:20240117T000000
DTEND;TZID=UTC:20240117T000000
DTSTAMP:20260423T202333
CREATED:20240205T112200Z
LAST-MODIFIED:20240205T112200Z
UID:3338-1705449600-1705449600@ministranci.waw.pl
SUMMARY:Dzień Judaizmu
DESCRIPTION:Święto ustanowione przez Konferencję Episkopatu Polski w 1997r. Celem Dnia Judaizmu jest ponowne odkrycie więzi z judaizmem poprzez wgłębienie się we własną tajemnicę. Ten dzień zapoczątkowuje Tydzień modlitw o jedność Chrześcijan.
URL:https://ministranci.waw.pl/event/dzien-judaizmu/
END:VEVENT
BEGIN:VEVENT
DTSTART;TZID=UTC:20240113T000000
DTEND;TZID=UTC:20240113T000000
DTSTAMP:20260423T202333
CREATED:20240205T112158Z
LAST-MODIFIED:20240205T112158Z
UID:3337-1705104000-1705104000@ministranci.waw.pl
SUMMARY:św. Hilarego
DESCRIPTION:Wspomnienie świętego Hilarego
URL:https://ministranci.waw.pl/event/sw-hilarego/
END:VEVENT
BEGIN:VEVENT
DTSTART;TZID=UTC:20240107T000000
DTEND;TZID=UTC:20240107T000000
DTSTAMP:20260423T202333
CREATED:20240205T112157Z
LAST-MODIFIED:20240205T112157Z
UID:3336-1704585600-1704585600@ministranci.waw.pl
SUMMARY:św. Rajmunda z Penyafort
DESCRIPTION:Wspomnienie świętego Rajmunda z Penyafort
URL:https://ministranci.waw.pl/event/sw-rajmunda-z-penyafort/
END:VEVENT
BEGIN:VEVENT
DTSTART;TZID=UTC:20240106T000000
DTEND;TZID=UTC:20240106T000000
DTSTAMP:20260423T202333
CREATED:20240205T112157Z
LAST-MODIFIED:20240205T112157Z
UID:3335-1704499200-1704499200@ministranci.waw.pl
SUMMARY:Uroczystość Objawienia Pańskiego
DESCRIPTION:Potocznie zwana Świętem Trzech Króli to uczczenie objawienia się Boga człowiekowi i jego obecność w historii ludzkości.
URL:https://ministranci.waw.pl/event/uroczystosc-objawienia-panskiego/
END:VEVENT
BEGIN:VEVENT
DTSTART;TZID=UTC:20240102T000000
DTEND;TZID=UTC:20240102T000000
DTSTAMP:20260423T202333
CREATED:20240205T112156Z
LAST-MODIFIED:20240205T112156Z
UID:3334-1704153600-1704153600@ministranci.waw.pl
SUMMARY:Bazylego i Grzegorza
DESCRIPTION:Wspomnienie świętych Bazylego Wielkiego i Grzegorza z Nazjanu
URL:https://ministranci.waw.pl/event/bazylego-i-grzegorza/
END:VEVENT
BEGIN:VEVENT
DTSTART;TZID=UTC:20240101T000000
DTEND;TZID=UTC:20240101T000000
DTSTAMP:20260423T202333
CREATED:20240205T112156Z
LAST-MODIFIED:20240205T112156Z
UID:3333-1704067200-1704067200@ministranci.waw.pl
SUMMARY:Uroczystość Świętej Bożej Rodzicielki
DESCRIPTION:Święto maryjne podkreślające
URL:https://ministranci.waw.pl/event/uroczystosc-swietej-bozej-rodzicielki/
END:VEVENT
BEGIN:VEVENT
DTSTART;TZID=UTC:20231229T000000
DTEND;TZID=UTC:20231229T000000
DTSTAMP:20260423T202333
CREATED:20230703T144022Z
LAST-MODIFIED:20230703T144022Z
UID:3279-1703808000-1703808000@ministranci.waw.pl
SUMMARY:św. Tomasza Becketa
DESCRIPTION:Wspomnienie dodatkowe świętego Tomasza Becketa biskupa i męczennika.
URL:https://ministranci.waw.pl/event/sw-tomasza-becketa/
END:VEVENT
BEGIN:VEVENT
DTSTART;TZID=UTC:20231228T000000
DTEND;TZID=UTC:20231228T000000
DTSTAMP:20260423T202333
CREATED:20230703T144022Z
LAST-MODIFIED:20230703T144022Z
UID:3278-1703721600-1703721600@ministranci.waw.pl
SUMMARY:Święto św. młodzianków
DESCRIPTION:Święto św. młodzianków męczenników.
URL:https://ministranci.waw.pl/event/swieto-sw-mlodziankow/
END:VEVENT
BEGIN:VEVENT
DTSTART;TZID=UTC:20231227T000000
DTEND;TZID=UTC:20231227T000000
DTSTAMP:20260423T202333
CREATED:20230703T144022Z
LAST-MODIFIED:20230703T144022Z
UID:3277-1703635200-1703635200@ministranci.waw.pl
SUMMARY:Święto św. Jana
DESCRIPTION:Święto świętego Jana Apostoła i ewangelisty.
URL:https://ministranci.waw.pl/event/swieto-sw-jana/
END:VEVENT
BEGIN:VEVENT
DTSTART;TZID=UTC:20231226T000000
DTEND;TZID=UTC:20231226T000000
DTSTAMP:20260423T202333
CREATED:20230703T144007Z
LAST-MODIFIED:20230703T144007Z
UID:3276-1703548800-1703548800@ministranci.waw.pl
SUMMARY:Święto świętego Szczepana
DESCRIPTION:Nazywane też drugim dniem świąt Bożego Narodzenia. Święty Szczepan był pierwszym chrześcijańskim męczennikiem.
URL:https://ministranci.waw.pl/event/swieto-swietego-szczepana/
END:VEVENT
BEGIN:VEVENT
DTSTART;TZID=UTC:20231225T000000
DTEND;TZID=UTC:20231225T000000
DTSTAMP:20260423T202333
CREATED:20230703T144006Z
LAST-MODIFIED:20230703T144006Z
UID:3275-1703462400-1703462400@ministranci.waw.pl
SUMMARY:Uroczystość Narodzenia Pańskiego
DESCRIPTION:Święto Bożego Narodzenia to drugie co do ważności (za Wielkanocą) święto chrześcijańskie. Wspominamy prawdę że Bóg stał się człowiekiem.
URL:https://ministranci.waw.pl/event/uroczystosc-narodzenia-panskiego/
END:VEVENT
BEGIN:VEVENT
DTSTART;TZID=UTC:20231224T000000
DTEND;TZID=UTC:20231224T000000
DTSTAMP:20260423T202333
CREATED:20230703T144006Z
LAST-MODIFIED:20230703T144006Z
UID:3274-1703376000-1703376000@ministranci.waw.pl
SUMMARY:Wigilia Bożego Narodzenia
DESCRIPTION:Dzień poprzedzający Uroczystość Narodzenia Pańskiego. Tradycją tego dnia jest rodzinna uroczysta kolacja łamanie się opłatkiem składanie życzeń i dawanie prezentów.
URL:https://ministranci.waw.pl/event/wigilia-bozego-narodzenia/
END:VEVENT
BEGIN:VEVENT
DTSTART;TZID=UTC:20231221T000000
DTEND;TZID=UTC:20231221T000000
DTSTAMP:20260423T202333
CREATED:20230703T144006Z
LAST-MODIFIED:20230703T144006Z
UID:3273-1703116800-1703116800@ministranci.waw.pl
SUMMARY:św. Piotra Kanizjusza
DESCRIPTION:Wspomnienie dodatkowe świętego Piotra Kanizjusza kapłana i doktora kościoła.
URL:https://ministranci.waw.pl/event/sw-piotra-kanizjusza/
END:VEVENT
BEGIN:VEVENT
DTSTART;TZID=UTC:20231214T000000
DTEND;TZID=UTC:20231214T000000
DTSTAMP:20260423T202333
CREATED:20230703T144006Z
LAST-MODIFIED:20230703T144006Z
UID:3272-1702512000-1702512000@ministranci.waw.pl
SUMMARY:św. Jana od krzyża
DESCRIPTION:Wspomnienie świętego Jana od krzyża kapłana i doktora kościoła.
URL:https://ministranci.waw.pl/event/sw-jana-od-krzyza/
END:VEVENT
BEGIN:VEVENT
DTSTART;TZID=UTC:20231213T000000
DTEND;TZID=UTC:20231213T000000
DTSTAMP:20260423T202333
CREATED:20230703T143958Z
LAST-MODIFIED:20230703T143958Z
UID:3271-1702425600-1702425600@ministranci.waw.pl
SUMMARY:św. Łucji
DESCRIPTION:Wspomnienie świętej Łucji dziewicy i męczennicy.
URL:https://ministranci.waw.pl/event/sw-lucji/
END:VEVENT
BEGIN:VEVENT
DTSTART;TZID=UTC:20231212T000000
DTEND;TZID=UTC:20231212T000000
DTSTAMP:20260423T202333
CREATED:20230703T143958Z
LAST-MODIFIED:20230703T143958Z
UID:3270-1702339200-1702339200@ministranci.waw.pl
SUMMARY:św. Joanny Franciszki de Chantal
DESCRIPTION:Wspomnienie świętej Joanny Franciszki de Chantal zakonnicy.
URL:https://ministranci.waw.pl/event/sw-joanny-franciszki-de-chantal/
END:VEVENT
BEGIN:VEVENT
DTSTART;TZID=UTC:20231211T000000
DTEND;TZID=UTC:20231211T000000
DTSTAMP:20260423T202333
CREATED:20230703T143958Z
LAST-MODIFIED:20230703T143958Z
UID:3269-1702252800-1702252800@ministranci.waw.pl
SUMMARY:św. Damazego I
DESCRIPTION:Wspomnienie świętego Damazego I papieża.
URL:https://ministranci.waw.pl/event/sw-damazego-i/
END:VEVENT
BEGIN:VEVENT
DTSTART;TZID=UTC:20231208T000000
DTEND;TZID=UTC:20231208T000000
DTSTAMP:20260423T202333
CREATED:20230703T143958Z
LAST-MODIFIED:20230703T143958Z
UID:3268-1701993600-1701993600@ministranci.waw.pl
SUMMARY:Uroczystość Niepokalanego Poczęcia Najświętszej Maryi Panny
DESCRIPTION:Wspomnienie zachowania Maryi od grzechu pierworodnego.
URL:https://ministranci.waw.pl/event/uroczystosc-niepokalanego-poczecia-najswietszej-maryi-panny/
END:VEVENT
BEGIN:VEVENT
DTSTART;TZID=UTC:20231207T000000
DTEND;TZID=UTC:20231207T000000
DTSTAMP:20260423T202333
CREATED:20230703T143958Z
LAST-MODIFIED:20230703T143958Z
UID:3267-1701907200-1701907200@ministranci.waw.pl
SUMMARY:św. Ambrożego
DESCRIPTION:Wspomnienie świętego Ambrożego biskupa i doktora kościoła.
URL:https://ministranci.waw.pl/event/sw-ambrozego/
END:VEVENT
BEGIN:VEVENT
DTSTART;TZID=UTC:20231206T000000
DTEND;TZID=UTC:20231206T000000
DTSTAMP:20260423T202333
CREATED:20230703T143948Z
LAST-MODIFIED:20230703T143948Z
UID:3266-1701820800-1701820800@ministranci.waw.pl
SUMMARY:św. Mikołaja
DESCRIPTION:Wspomnienie świętego Mikołaja biskupa.
URL:https://ministranci.waw.pl/event/sw-mikolaja/
END:VEVENT
BEGIN:VEVENT
DTSTART;TZID=UTC:20231204T000000
DTEND;TZID=UTC:20231204T000000
DTSTAMP:20260423T202333
CREATED:20230703T143947Z
LAST-MODIFIED:20230703T143947Z
UID:3264-1701648000-1701648000@ministranci.waw.pl
SUMMARY:św. Barbary
DESCRIPTION:Wspomnienie świętej Barbary dziewicy i męczennicy.
URL:https://ministranci.waw.pl/event/sw-barbary/
END:VEVENT
BEGIN:VEVENT
DTSTART;TZID=UTC:20231204T000000
DTEND;TZID=UTC:20231204T000000
DTSTAMP:20260423T202333
CREATED:20230703T143947Z
LAST-MODIFIED:20230703T143947Z
UID:3265-1701648000-1701648000@ministranci.waw.pl
SUMMARY:św. Jana Damasceńskiego
DESCRIPTION:Wspomnienie świętego Jana Damasceńskiego kapłana i doktora kościoła.
URL:https://ministranci.waw.pl/event/sw-jana-damascenskiego/
END:VEVENT
END:VCALENDAR