BEGIN:VCALENDAR
VERSION:2.0
PRODID:-//Liturgiczna Służba Ołtarza - ECPv6.15.20//NONSGML v1.0//EN
CALSCALE:GREGORIAN
METHOD:PUBLISH
X-ORIGINAL-URL:https://ministranci.waw.pl
X-WR-CALDESC:Wydarzenia dla Liturgiczna Służba Ołtarza
REFRESH-INTERVAL;VALUE=DURATION:PT1H
X-Robots-Tag:noindex
X-PUBLISHED-TTL:PT1H
BEGIN:VTIMEZONE
TZID:UTC
BEGIN:STANDARD
TZOFFSETFROM:+0000
TZOFFSETTO:+0000
TZNAME:UTC
DTSTART:20230101T000000
END:STANDARD
END:VTIMEZONE
BEGIN:VEVENT
DTSTART;TZID=UTC:20240223T000000
DTEND;TZID=UTC:20240223T000000
DTSTAMP:20260423T172006
CREATED:20240205T112301Z
LAST-MODIFIED:20240205T112301Z
UID:3367-1708646400-1708646400@ministranci.waw.pl
SUMMARY:św. Polikarpa
DESCRIPTION:Wspomnienie świętego Polikarpa
URL:https://ministranci.waw.pl/event/sw-polikarpa/
END:VEVENT
BEGIN:VEVENT
DTSTART;TZID=UTC:20240221T000000
DTEND;TZID=UTC:20240221T000000
DTSTAMP:20260423T172006
CREATED:20240205T112301Z
LAST-MODIFIED:20240205T112301Z
UID:3366-1708473600-1708473600@ministranci.waw.pl
SUMMARY:św. Piotra Damiana
DESCRIPTION:Wspomnienie świętego Piotra Damiana
URL:https://ministranci.waw.pl/event/sw-piotra-damiana/
END:VEVENT
BEGIN:VEVENT
DTSTART;TZID=UTC:20240217T000000
DTEND;TZID=UTC:20240217T000000
DTSTAMP:20260423T172006
CREATED:20240205T112301Z
LAST-MODIFIED:20240205T112301Z
UID:3365-1708128000-1708128000@ministranci.waw.pl
SUMMARY:św. założycieli zakonu Serwitów NMP
DESCRIPTION:Wspomnienie świętych założycieli zakonu Serwitów Najświętszej Maryi Panny.
URL:https://ministranci.waw.pl/event/sw-zalozycieli-zakonu-serwitow-nmp/
END:VEVENT
BEGIN:VEVENT
DTSTART;TZID=UTC:20240214T000000
DTEND;TZID=UTC:20240214T000000
DTSTAMP:20260423T172006
CREATED:20240205T112301Z
LAST-MODIFIED:20240205T112301Z
UID:3363-1707868800-1707868800@ministranci.waw.pl
SUMMARY:Środa popielcowa
DESCRIPTION:Popielec to pierwszy dzień Wielkiego Postu. Przypada 46 dni przed Wielkanocą a w kościołach głowy wiernych są posypywane popiołem.
URL:https://ministranci.waw.pl/event/sroda-popielcowa/
END:VEVENT
BEGIN:VEVENT
DTSTART;TZID=UTC:20240214T000000
DTEND;TZID=UTC:20240214T000000
DTSTAMP:20260423T172006
CREATED:20240205T112301Z
LAST-MODIFIED:20240205T112301Z
UID:3364-1707868800-1707868800@ministranci.waw.pl
SUMMARY:św. Cyryla i Metodego
DESCRIPTION:Święto świętych Cyryla
URL:https://ministranci.waw.pl/event/sw-cyryla-i-metodego/
END:VEVENT
BEGIN:VEVENT
DTSTART;TZID=UTC:20240211T000000
DTEND;TZID=UTC:20240211T000000
DTSTAMP:20260423T172006
CREATED:20240205T112247Z
LAST-MODIFIED:20240205T112247Z
UID:3362-1707609600-1707609600@ministranci.waw.pl
SUMMARY:NMP z Lourdes
DESCRIPTION:Wspomnienie Najświętszej Maryi Panny z Lourdes.
URL:https://ministranci.waw.pl/event/nmp-z-lourdes/
END:VEVENT
BEGIN:VEVENT
DTSTART;TZID=UTC:20240210T110000
DTEND;TZID=UTC:20240210T130000
DTSTAMP:20260423T172006
CREATED:20240205T104124Z
LAST-MODIFIED:20240205T113424Z
UID:3324-1707562800-1707570000@ministranci.waw.pl
SUMMARY:św. Scholastyki\, Msza pogrzebowa ks. prałata Kazimierza Apla
DESCRIPTION:
URL:https://ministranci.waw.pl/event/msza-pogrzebowa-ks-pralata-kazimierza-apla/
LOCATION:parafia Bogurodzicy Maryi
END:VEVENT
BEGIN:VEVENT
DTSTART;TZID=UTC:20240208T000000
DTEND;TZID=UTC:20240208T000000
DTSTAMP:20260423T172006
CREATED:20240205T112246Z
LAST-MODIFIED:20240205T113317Z
UID:3359-1707350400-1707350400@ministranci.waw.pl
SUMMARY:św. Hieronima Emilianiego\, Tłusty czwartek
DESCRIPTION:Ostatni czwartek karnawału
URL:https://ministranci.waw.pl/event/tlusty-czwartek/
END:VEVENT
BEGIN:VEVENT
DTSTART;TZID=UTC:20240206T000000
DTEND;TZID=UTC:20240206T000000
DTSTAMP:20260423T172006
CREATED:20240205T112246Z
LAST-MODIFIED:20240205T112246Z
UID:3358-1707177600-1707177600@ministranci.waw.pl
SUMMARY:św. Pawła Miki
DESCRIPTION:Wspomnienie świętych męczenników Pawła Miki i towarzyszy.
URL:https://ministranci.waw.pl/event/sw-pawla-miki/
END:VEVENT
BEGIN:VEVENT
DTSTART;TZID=UTC:20240205T000000
DTEND;TZID=UTC:20240205T000000
DTSTAMP:20260423T172006
CREATED:20240205T112231Z
LAST-MODIFIED:20240205T112231Z
UID:3357-1707091200-1707091200@ministranci.waw.pl
SUMMARY:św. Agaty
DESCRIPTION:Wspomnienie świętej Agaty
URL:https://ministranci.waw.pl/event/sw-agaty/
END:VEVENT
BEGIN:VEVENT
DTSTART;TZID=UTC:20240203T000000
DTEND;TZID=UTC:20240203T000000
DTSTAMP:20260423T172006
CREATED:20240205T112231Z
LAST-MODIFIED:20240205T112231Z
UID:3355-1706918400-1706918400@ministranci.waw.pl
SUMMARY:św. Oskara
DESCRIPTION:Wspomnienie świętego Oskara
URL:https://ministranci.waw.pl/event/sw-oskara/
END:VEVENT
BEGIN:VEVENT
DTSTART;TZID=UTC:20240203T000000
DTEND;TZID=UTC:20240203T000000
DTSTAMP:20260423T172006
CREATED:20240205T112231Z
LAST-MODIFIED:20240205T112231Z
UID:3356-1706918400-1706918400@ministranci.waw.pl
SUMMARY:św. Błażeja
DESCRIPTION:Wspomnienie świętego Błażeja
URL:https://ministranci.waw.pl/event/sw-blazeja/
END:VEVENT
BEGIN:VEVENT
DTSTART;TZID=UTC:20240202T000000
DTEND;TZID=UTC:20240202T000000
DTSTAMP:20260423T172006
CREATED:20240205T112231Z
LAST-MODIFIED:20240205T112231Z
UID:3354-1706832000-1706832000@ministranci.waw.pl
SUMMARY:Światowy Dzień Życia Konsekrowanego
DESCRIPTION:
URL:https://ministranci.waw.pl/event/swiatowy-dzien-zycia-konsekrowanego/
END:VEVENT
BEGIN:VEVENT
DTSTART;TZID=UTC:20240202T000000
DTEND;TZID=UTC:20240202T000000
DTSTAMP:20260423T172006
CREATED:20240205T112231Z
LAST-MODIFIED:20240205T112231Z
UID:3353-1706832000-1706832000@ministranci.waw.pl
SUMMARY:Uroczystość Ofiarowania Pańskiego
DESCRIPTION:Święto upamiętniające ofiarowanie młodego Jezusa w świątyni jerozolimskiej. Inaczej nazywane świętem Matki Bożej Gromnicznej.
URL:https://ministranci.waw.pl/event/uroczystosc-ofiarowania-panskiego/
END:VEVENT
BEGIN:VEVENT
DTSTART;TZID=UTC:20240131T000000
DTEND;TZID=UTC:20240131T000000
DTSTAMP:20260423T172006
CREATED:20240205T112217Z
LAST-MODIFIED:20240205T112217Z
UID:3352-1706659200-1706659200@ministranci.waw.pl
SUMMARY:św. Jana Bosko
DESCRIPTION:Wspomnienie świętego Jana Bosko
URL:https://ministranci.waw.pl/event/sw-jana-bosko/
END:VEVENT
BEGIN:VEVENT
DTSTART;TZID=UTC:20240128T000000
DTEND;TZID=UTC:20240128T000000
DTSTAMP:20260423T172006
CREATED:20240205T112217Z
LAST-MODIFIED:20240205T112217Z
UID:3351-1706400000-1706400000@ministranci.waw.pl
SUMMARY:św. Tomasza z Akwinu
DESCRIPTION:Wspomnienie świętego Tomasza z Akwinu
URL:https://ministranci.waw.pl/event/sw-tomasza-z-akwinu/
END:VEVENT
BEGIN:VEVENT
DTSTART;TZID=UTC:20240127T000000
DTEND;TZID=UTC:20240127T000000
DTSTAMP:20260423T172006
CREATED:20240205T112216Z
LAST-MODIFIED:20240205T112216Z
UID:3349-1706313600-1706313600@ministranci.waw.pl
SUMMARY:św. Jerzego Matulewicza
DESCRIPTION:Wspomnienie świętego Jerzego Matulewicza
URL:https://ministranci.waw.pl/event/sw-jerzego-matulewicza/
END:VEVENT
BEGIN:VEVENT
DTSTART;TZID=UTC:20240127T000000
DTEND;TZID=UTC:20240127T000000
DTSTAMP:20260423T172006
CREATED:20240205T112216Z
LAST-MODIFIED:20240205T112216Z
UID:3350-1706313600-1706313600@ministranci.waw.pl
SUMMARY:św. Anieli Merici
DESCRIPTION:Wspomnienie świętej Anieli Merici
URL:https://ministranci.waw.pl/event/sw-anieli-merici/
END:VEVENT
BEGIN:VEVENT
DTSTART;TZID=UTC:20240126T000000
DTEND;TZID=UTC:20240126T000000
DTSTAMP:20260423T172006
CREATED:20240205T112216Z
LAST-MODIFIED:20240205T112216Z
UID:3348-1706227200-1706227200@ministranci.waw.pl
SUMMARY:św. Tymoteusza i Tytusa
DESCRIPTION:Wspomnienie świętych biskupów Tymoteusza i Tytusa.
URL:https://ministranci.waw.pl/event/sw-tymoteusza-i-tytusa/
END:VEVENT
BEGIN:VEVENT
DTSTART;TZID=UTC:20240125T000000
DTEND;TZID=UTC:20240125T000000
DTSTAMP:20260423T172006
CREATED:20240205T112202Z
LAST-MODIFIED:20240205T112202Z
UID:3346-1706140800-1706140800@ministranci.waw.pl
SUMMARY:Nawrócenie św. Pawła
DESCRIPTION:Apostoła
URL:https://ministranci.waw.pl/event/nawrocenie-sw-pawla/
END:VEVENT
BEGIN:VEVENT
DTSTART;TZID=UTC:20240125T000000
DTEND;TZID=UTC:20240125T000000
DTSTAMP:20260423T172006
CREATED:20240205T112202Z
LAST-MODIFIED:20240205T112202Z
UID:3347-1706140800-1706140800@ministranci.waw.pl
SUMMARY:Zakończenie Tygodnia Modlitw o Jedność Chrześcijan
DESCRIPTION:
URL:https://ministranci.waw.pl/event/zakonczenie-tygodnia-modlitw-o-jednosc-chrzescijan/
END:VEVENT
BEGIN:VEVENT
DTSTART;TZID=UTC:20240124T000000
DTEND;TZID=UTC:20240124T000000
DTSTAMP:20260423T172006
CREATED:20240205T112202Z
LAST-MODIFIED:20240205T112202Z
UID:3345-1706054400-1706054400@ministranci.waw.pl
SUMMARY:św. Franciszka Salezego
DESCRIPTION:Wspomnienie świętego Franciszka Salezego
URL:https://ministranci.waw.pl/event/sw-franciszka-salezego/
END:VEVENT
BEGIN:VEVENT
DTSTART;TZID=UTC:20240122T000000
DTEND;TZID=UTC:20240122T000000
DTSTAMP:20260423T172006
CREATED:20240205T112202Z
LAST-MODIFIED:20240205T112202Z
UID:3344-1705881600-1705881600@ministranci.waw.pl
SUMMARY:św. Wincentego
DESCRIPTION:Wspomnienie świętego Wincentego
URL:https://ministranci.waw.pl/event/sw-wincentego/
END:VEVENT
BEGIN:VEVENT
DTSTART;TZID=UTC:20240121T000000
DTEND;TZID=UTC:20240121T000000
DTSTAMP:20260423T172006
CREATED:20240205T112202Z
LAST-MODIFIED:20240205T112202Z
UID:3343-1705795200-1705795200@ministranci.waw.pl
SUMMARY:św. Agnieszki
DESCRIPTION:Wspomnienie świętej Agnieszki
URL:https://ministranci.waw.pl/event/sw-agnieszki/
END:VEVENT
BEGIN:VEVENT
DTSTART;TZID=UTC:20240120T000000
DTEND;TZID=UTC:20240120T000000
DTSTAMP:20260423T172006
CREATED:20240205T112200Z
LAST-MODIFIED:20240205T112200Z
UID:3341-1705708800-1705708800@ministranci.waw.pl
SUMMARY:św. Sebastiana
DESCRIPTION:Wspomnienie świętego Sebastiana
URL:https://ministranci.waw.pl/event/sw-sebastiana/
END:VEVENT
BEGIN:VEVENT
DTSTART;TZID=UTC:20240120T000000
DTEND;TZID=UTC:20240120T000000
DTSTAMP:20260423T172006
CREATED:20240205T112200Z
LAST-MODIFIED:20240205T112200Z
UID:3342-1705708800-1705708800@ministranci.waw.pl
SUMMARY:św. Fabiana
DESCRIPTION:Wspomnienie świętego Fabiana
URL:https://ministranci.waw.pl/event/sw-fabiana/
END:VEVENT
BEGIN:VEVENT
DTSTART;TZID=UTC:20240118T000000
DTEND;TZID=UTC:20240118T000000
DTSTAMP:20260423T172006
CREATED:20240205T112200Z
LAST-MODIFIED:20240205T112200Z
UID:3340-1705536000-1705536000@ministranci.waw.pl
SUMMARY:Początek Tygodnia Modlitw o Jedność Chrześcijan
DESCRIPTION:Przez tydzień na całym Świecie odbywają się liczne wydarzenia mające na celu zjednoczenie religii Chrześcijańskich.
URL:https://ministranci.waw.pl/event/poczatek-tygodnia-modlitw-o-jednosc-chrzescijan/
END:VEVENT
BEGIN:VEVENT
DTSTART;TZID=UTC:20240117T000000
DTEND;TZID=UTC:20240117T000000
DTSTAMP:20260423T172006
CREATED:20240205T112200Z
LAST-MODIFIED:20240205T112200Z
UID:3338-1705449600-1705449600@ministranci.waw.pl
SUMMARY:Dzień Judaizmu
DESCRIPTION:Święto ustanowione przez Konferencję Episkopatu Polski w 1997r. Celem Dnia Judaizmu jest ponowne odkrycie więzi z judaizmem poprzez wgłębienie się we własną tajemnicę. Ten dzień zapoczątkowuje Tydzień modlitw o jedność Chrześcijan.
URL:https://ministranci.waw.pl/event/dzien-judaizmu/
END:VEVENT
BEGIN:VEVENT
DTSTART;TZID=UTC:20240117T000000
DTEND;TZID=UTC:20240117T000000
DTSTAMP:20260423T172006
CREATED:20240205T112200Z
LAST-MODIFIED:20240205T112200Z
UID:3339-1705449600-1705449600@ministranci.waw.pl
SUMMARY:św. Antoniego
DESCRIPTION:opata
URL:https://ministranci.waw.pl/event/sw-antoniego/
END:VEVENT
BEGIN:VEVENT
DTSTART;TZID=UTC:20240113T000000
DTEND;TZID=UTC:20240113T000000
DTSTAMP:20260423T172006
CREATED:20240205T112158Z
LAST-MODIFIED:20240205T112158Z
UID:3337-1705104000-1705104000@ministranci.waw.pl
SUMMARY:św. Hilarego
DESCRIPTION:Wspomnienie świętego Hilarego
URL:https://ministranci.waw.pl/event/sw-hilarego/
END:VEVENT
END:VCALENDAR