BEGIN:VCALENDAR
VERSION:2.0
PRODID:-//Liturgiczna Służba Ołtarza - ECPv6.15.20//NONSGML v1.0//EN
CALSCALE:GREGORIAN
METHOD:PUBLISH
X-WR-CALNAME:Liturgiczna Służba Ołtarza
X-ORIGINAL-URL:https://ministranci.waw.pl
X-WR-CALDESC:Wydarzenia dla Liturgiczna Służba Ołtarza
REFRESH-INTERVAL;VALUE=DURATION:PT1H
X-Robots-Tag:noindex
X-PUBLISHED-TTL:PT1H
BEGIN:VTIMEZONE
TZID:UTC
BEGIN:STANDARD
TZOFFSETFROM:+0000
TZOFFSETTO:+0000
TZNAME:UTC
DTSTART:20230101T000000
END:STANDARD
END:VTIMEZONE
BEGIN:VEVENT
DTSTART;TZID=UTC:20240506T000000
DTEND;TZID=UTC:20240506T000000
DTSTAMP:20260423T112059
CREATED:20240205T112617Z
LAST-MODIFIED:20240205T112617Z
UID:3407-1714953600-1714953600@ministranci.waw.pl
SUMMARY:św. Filipa i Jakuba
DESCRIPTION:Święto świętych apostołów Filipa i Jakuba.
URL:https://ministranci.waw.pl/event/sw-filipa-i-jakuba/
END:VEVENT
BEGIN:VEVENT
DTSTART;TZID=UTC:20240505T000000
DTEND;TZID=UTC:20240505T000000
DTSTAMP:20260423T112059
CREATED:20240205T112617Z
LAST-MODIFIED:20240205T112617Z
UID:3406-1714867200-1714867200@ministranci.waw.pl
SUMMARY:Dzień Leśnika i Drzewiarza
DESCRIPTION:Święto branżowe obchodzone w pierwszą niedzielę kwietnia. Świętują je osoby
URL:https://ministranci.waw.pl/event/dzien-lesnika-i-drzewiarza-2/
END:VEVENT
BEGIN:VEVENT
DTSTART;TZID=UTC:20240504T000000
DTEND;TZID=UTC:20240504T000000
DTSTAMP:20260423T112059
CREATED:20240205T112616Z
LAST-MODIFIED:20240205T112616Z
UID:3405-1714780800-1714780800@ministranci.waw.pl
SUMMARY:św. Floriana
DESCRIPTION:Wspomnienie świętego Floriana
URL:https://ministranci.waw.pl/event/sw-floriana/
END:VEVENT
BEGIN:VEVENT
DTSTART;TZID=UTC:20240503T000000
DTEND;TZID=UTC:20240503T000000
DTSTAMP:20260423T112059
CREATED:20240205T112616Z
LAST-MODIFIED:20240205T112616Z
UID:3404-1714694400-1714694400@ministranci.waw.pl
SUMMARY:Uroczystość Najświętszej Maryi Panny Królowej Polski
DESCRIPTION:Święto ustanowione przez papieża Benedykta XV w 1920 na prośbę polskich biskupów po odzyskaniu przez Polskę niepodległości w 1918.
URL:https://ministranci.waw.pl/event/uroczystosc-najswietszej-maryi-panny-krolowej-polski/
END:VEVENT
BEGIN:VEVENT
DTSTART;TZID=UTC:20240502T000000
DTEND;TZID=UTC:20240502T000000
DTSTAMP:20260423T112059
CREATED:20240205T112616Z
LAST-MODIFIED:20240205T112616Z
UID:3403-1714608000-1714608000@ministranci.waw.pl
SUMMARY:św. Atanazego
DESCRIPTION:Wspomnienie świętego Atanazego
URL:https://ministranci.waw.pl/event/sw-atanazego/
END:VEVENT
BEGIN:VEVENT
DTSTART;TZID=UTC:20240502T000000
DTEND;TZID=UTC:20240502T000000
DTSTAMP:20260423T112059
CREATED:20240205T112509Z
LAST-MODIFIED:20240205T112509Z
UID:3402-1714608000-1714608000@ministranci.waw.pl
SUMMARY:św. Zygmunta
DESCRIPTION:Wspomnienie świętego Zygmunta
URL:https://ministranci.waw.pl/event/sw-zygmunta/
END:VEVENT
BEGIN:VEVENT
DTSTART;TZID=UTC:20240501T000000
DTEND;TZID=UTC:20240501T000000
DTSTAMP:20260423T112059
CREATED:20240205T112509Z
LAST-MODIFIED:20240205T112509Z
UID:3401-1714521600-1714521600@ministranci.waw.pl
SUMMARY:św. Józefa
DESCRIPTION:rzemieślnika
URL:https://ministranci.waw.pl/event/sw-jozefa/
END:VEVENT
BEGIN:VEVENT
DTSTART;TZID=UTC:20240430T000000
DTEND;TZID=UTC:20240430T000000
DTSTAMP:20260423T112059
CREATED:20240205T112508Z
LAST-MODIFIED:20240205T112508Z
UID:3400-1714435200-1714435200@ministranci.waw.pl
SUMMARY:św. Piusa V
DESCRIPTION:Wspomnienie świętego Piusa V
URL:https://ministranci.waw.pl/event/sw-piusa-v/
END:VEVENT
BEGIN:VEVENT
DTSTART;TZID=UTC:20240429T000000
DTEND;TZID=UTC:20240429T000000
DTSTAMP:20260423T112059
CREATED:20240205T112508Z
LAST-MODIFIED:20240205T112508Z
UID:3399-1714348800-1714348800@ministranci.waw.pl
SUMMARY:św. Katarzyny Sieneńskiej
DESCRIPTION:Wspomnienie świętego Katarzyny Sieneńskiej
URL:https://ministranci.waw.pl/event/sw-katarzyny-sienenskiej/
END:VEVENT
BEGIN:VEVENT
DTSTART;TZID=UTC:20240428T000000
DTEND;TZID=UTC:20240428T000000
DTSTAMP:20260423T112059
CREATED:20240205T112508Z
LAST-MODIFIED:20240205T112508Z
UID:3398-1714262400-1714262400@ministranci.waw.pl
SUMMARY:św. Piotra Chanela
DESCRIPTION:Wspomnienie świętego Piotra Chanela
URL:https://ministranci.waw.pl/event/sw-piotra-chanela/
END:VEVENT
BEGIN:VEVENT
DTSTART;TZID=UTC:20240425T000000
DTEND;TZID=UTC:20240425T000000
DTSTAMP:20260423T112059
CREATED:20240205T112445Z
LAST-MODIFIED:20240205T112445Z
UID:3397-1714003200-1714003200@ministranci.waw.pl
SUMMARY:św. Marka Ewangelisty
DESCRIPTION:Święto świętego Marka Ewangelisty.
URL:https://ministranci.waw.pl/event/sw-marka-ewangelisty/
END:VEVENT
BEGIN:VEVENT
DTSTART;TZID=UTC:20240424T000000
DTEND;TZID=UTC:20240424T000000
DTSTAMP:20260423T112059
CREATED:20240205T112445Z
LAST-MODIFIED:20240205T112445Z
UID:3395-1713916800-1713916800@ministranci.waw.pl
SUMMARY:św. Jerzego
DESCRIPTION:Wspomnienie świętego Jerzego
URL:https://ministranci.waw.pl/event/sw-jerzego/
END:VEVENT
BEGIN:VEVENT
DTSTART;TZID=UTC:20240424T000000
DTEND;TZID=UTC:20240424T000000
DTSTAMP:20260423T112059
CREATED:20240205T112445Z
LAST-MODIFIED:20240205T112445Z
UID:3396-1713916800-1713916800@ministranci.waw.pl
SUMMARY:św. Fidelisa z Sigmaringen
DESCRIPTION:Wspomnienie świętego Fidelisa z Sigmaringen
URL:https://ministranci.waw.pl/event/sw-fidelisa-z-sigmaringen/
END:VEVENT
BEGIN:VEVENT
DTSTART;TZID=UTC:20240423T000000
DTEND;TZID=UTC:20240423T000000
DTSTAMP:20260423T112059
CREATED:20240205T112445Z
LAST-MODIFIED:20240205T112445Z
UID:3394-1713830400-1713830400@ministranci.waw.pl
SUMMARY:Uroczystość św. Wojciecha
DESCRIPTION:biskupa i męczennika
URL:https://ministranci.waw.pl/event/uroczystosc-sw-wojciecha/
END:VEVENT
BEGIN:VEVENT
DTSTART;TZID=UTC:20240421T000000
DTEND;TZID=UTC:20240421T000000
DTSTAMP:20260423T112059
CREATED:20240205T112445Z
LAST-MODIFIED:20240205T112445Z
UID:3393-1713657600-1713657600@ministranci.waw.pl
SUMMARY:św. Anzelma
DESCRIPTION:Wspomnienie świętego Anzelma
URL:https://ministranci.waw.pl/event/sw-anzelma/
END:VEVENT
BEGIN:VEVENT
DTSTART;TZID=UTC:20240413T000000
DTEND;TZID=UTC:20240413T000000
DTSTAMP:20260423T112059
CREATED:20240205T112437Z
LAST-MODIFIED:20240205T112437Z
UID:3392-1712966400-1712966400@ministranci.waw.pl
SUMMARY:św. Marcina I
DESCRIPTION:Wspomnienie świętego Marcina I
URL:https://ministranci.waw.pl/event/sw-marcina-i/
END:VEVENT
BEGIN:VEVENT
DTSTART;TZID=UTC:20240407T000000
DTEND;TZID=UTC:20240407T000000
DTSTAMP:20260423T112059
CREATED:20240205T112437Z
LAST-MODIFIED:20240205T112437Z
UID:3391-1712448000-1712448000@ministranci.waw.pl
SUMMARY:św. Jana Chrzciciela de la Salle
DESCRIPTION:Wspomnienie świętego Jana Chrzciciela de la Salle
URL:https://ministranci.waw.pl/event/sw-jana-chrzciciela-de-la-salle/
END:VEVENT
BEGIN:VEVENT
DTSTART;TZID=UTC:20240407T000000
DTEND;TZID=UTC:20240407T000000
DTSTAMP:20260423T112059
CREATED:20240205T112436Z
LAST-MODIFIED:20240205T112436Z
UID:3390-1712448000-1712448000@ministranci.waw.pl
SUMMARY:Dzień Leśnika i Drzewiarza
DESCRIPTION:Święto branżowe obchodzone w pierwszą niedzielę kwietnia. Świętują je osoby
URL:https://ministranci.waw.pl/event/dzien-lesnika-i-drzewiarza/
END:VEVENT
BEGIN:VEVENT
DTSTART;TZID=UTC:20240405T000000
DTEND;TZID=UTC:20240405T000000
DTSTAMP:20260423T112059
CREATED:20240205T112436Z
LAST-MODIFIED:20240205T112436Z
UID:3389-1712275200-1712275200@ministranci.waw.pl
SUMMARY:św. Wincentego Ferreriusza
DESCRIPTION:Wspomnienie świętego Wincentego Ferreriusza
URL:https://ministranci.waw.pl/event/sw-wincentego-ferreriusza/
END:VEVENT
BEGIN:VEVENT
DTSTART;TZID=UTC:20240404T000000
DTEND;TZID=UTC:20240404T000000
DTSTAMP:20260423T112059
CREATED:20240205T112436Z
LAST-MODIFIED:20240205T112436Z
UID:3388-1712188800-1712188800@ministranci.waw.pl
SUMMARY:św. Izydora
DESCRIPTION:Wspomnienie świętego Izydora
URL:https://ministranci.waw.pl/event/sw-izydora/
END:VEVENT
BEGIN:VEVENT
DTSTART;TZID=UTC:20240402T000000
DTEND;TZID=UTC:20240402T000000
DTSTAMP:20260423T112059
CREATED:20240205T112419Z
LAST-MODIFIED:20240205T112419Z
UID:3387-1712016000-1712016000@ministranci.waw.pl
SUMMARY:św. Franciszka z Pauli
DESCRIPTION:Wspomnienie świętego Franciszka z Pauli
URL:https://ministranci.waw.pl/event/sw-franciszka-z-pauli/
END:VEVENT
BEGIN:VEVENT
DTSTART;TZID=UTC:20240401T000000
DTEND;TZID=UTC:20240401T000000
DTSTAMP:20260423T112059
CREATED:20240205T112419Z
LAST-MODIFIED:20240205T112419Z
UID:3386-1711929600-1711929600@ministranci.waw.pl
SUMMARY:Poniedziałek Wielkanocny
DESCRIPTION:Poniedziałek przypadający po Niedzieli Wielkanocnej. Nazywany też Lanym Poniedziałkiem ze względu na tradycję polewania innych wodą.
URL:https://ministranci.waw.pl/event/poniedzialek-wielkanocny/
END:VEVENT
BEGIN:VEVENT
DTSTART;TZID=UTC:20240331T000000
DTEND;TZID=UTC:20240331T000000
DTSTAMP:20260423T112059
CREATED:20240205T112419Z
LAST-MODIFIED:20240205T112419Z
UID:3385-1711843200-1711843200@ministranci.waw.pl
SUMMARY:Wielkanoc
DESCRIPTION:Niedziela Wielkanocna to pierwszy dzień przypadający po Wielkiej Nocy. W tym dniu świętujemy zmartwychwstanie Jezusa Chrystusa.
URL:https://ministranci.waw.pl/event/wielkanoc/
END:VEVENT
BEGIN:VEVENT
DTSTART;TZID=UTC:20240330T000000
DTEND;TZID=UTC:20240330T000000
DTSTAMP:20260423T112059
CREATED:20240205T112419Z
LAST-MODIFIED:20240205T112419Z
UID:3384-1711756800-1711756800@ministranci.waw.pl
SUMMARY:Wielka Sobota
DESCRIPTION:Dzień poprzedzający Wielką Noc. W tym dniu przynosimy pokarmy do poświęcenia a po zmroku odprawiana jest Msza Wigilii Paschalnej
URL:https://ministranci.waw.pl/event/wielka-sobota/
END:VEVENT
BEGIN:VEVENT
DTSTART;TZID=UTC:20240329T000000
DTEND;TZID=UTC:20240329T000000
DTSTAMP:20260423T112059
CREATED:20240205T112418Z
LAST-MODIFIED:20240205T112418Z
UID:3383-1711670400-1711670400@ministranci.waw.pl
SUMMARY:Wielki Piątek
DESCRIPTION:Piątek przed Wielkanocą. W czasie wieczornej liturgii chrześcijanie adorują krzyż i rozważają Mękę Jezusa Chrystusa.
URL:https://ministranci.waw.pl/event/wielki-piatek/
END:VEVENT
BEGIN:VEVENT
DTSTART;TZID=UTC:20240328T000000
DTEND;TZID=UTC:20240328T000000
DTSTAMP:20260423T112059
CREATED:20240205T112412Z
LAST-MODIFIED:20240205T112412Z
UID:3382-1711584000-1711584000@ministranci.waw.pl
SUMMARY:Wielki Czwartek
DESCRIPTION:Czwartek przed Wielkanocą. Tego dnia odprawiana jest Msza Wieczerzy Pańskiej
URL:https://ministranci.waw.pl/event/wielki-czwartek/
END:VEVENT
BEGIN:VEVENT
DTSTART;TZID=UTC:20240326T000000
DTEND;TZID=UTC:20240326T000000
DTSTAMP:20260423T112059
CREATED:20240205T112411Z
LAST-MODIFIED:20240205T112411Z
UID:3381-1711411200-1711411200@ministranci.waw.pl
SUMMARY:św. Dobrego łotra
DESCRIPTION:Wspomnienie świętego Dobrego łotra.
URL:https://ministranci.waw.pl/event/sw-dobrego-lotra/
END:VEVENT
BEGIN:VEVENT
DTSTART;TZID=UTC:20240325T000000
DTEND;TZID=UTC:20240325T000000
DTSTAMP:20260423T112059
CREATED:20240205T112411Z
LAST-MODIFIED:20240205T112411Z
UID:3379-1711324800-1711324800@ministranci.waw.pl
SUMMARY:Dzień Świętości Życia
DESCRIPTION:
URL:https://ministranci.waw.pl/event/dzien-swietosci-zycia/
END:VEVENT
BEGIN:VEVENT
DTSTART;TZID=UTC:20240325T000000
DTEND;TZID=UTC:20240325T000000
DTSTAMP:20260423T112059
CREATED:20240205T112411Z
LAST-MODIFIED:20240205T112411Z
UID:3380-1711324800-1711324800@ministranci.waw.pl
SUMMARY:Uroczystość Zwiastowania Pańskiego
DESCRIPTION:Święto upamiętniające zwiastowanie Maryi przez Archanioła Gabriela poczęcie Syna Bożego.
URL:https://ministranci.waw.pl/event/uroczystosc-zwiastowania-panskiego/
END:VEVENT
BEGIN:VEVENT
DTSTART;TZID=UTC:20240324T000000
DTEND;TZID=UTC:20240324T000000
DTSTAMP:20260423T112059
CREATED:20240205T112411Z
LAST-MODIFIED:20240205T112411Z
UID:3378-1711238400-1711238400@ministranci.waw.pl
SUMMARY:Niedziela Palmowa
DESCRIPTION:Przypadająca 7 dni przed Wielkanocą Niedziela Męki Pańskiej rozpoczyna Wielki Tydzień. W tym dniu do kościoła przynosi się palmy i czytany jest opis Męki Pańskiej.
URL:https://ministranci.waw.pl/event/niedziela-palmowa/
END:VEVENT
END:VCALENDAR