BEGIN:VCALENDAR
VERSION:2.0
PRODID:-//Liturgiczna Służba Ołtarza - ECPv6.15.18//NONSGML v1.0//EN
CALSCALE:GREGORIAN
METHOD:PUBLISH
X-ORIGINAL-URL:https://ministranci.waw.pl
X-WR-CALDESC:Wydarzenia dla Liturgiczna Służba Ołtarza
REFRESH-INTERVAL;VALUE=DURATION:PT1H
X-Robots-Tag:noindex
X-PUBLISHED-TTL:PT1H
BEGIN:VTIMEZONE
TZID:UTC
BEGIN:STANDARD
TZOFFSETFROM:+0000
TZOFFSETTO:+0000
TZNAME:UTC
DTSTART:20230101T000000
END:STANDARD
END:VTIMEZONE
BEGIN:VEVENT
DTSTART;TZID=UTC:20240530T000000
DTEND;TZID=UTC:20240530T000000
DTSTAMP:20260423T074630
CREATED:20240205T112752Z
LAST-MODIFIED:20240205T112752Z
UID:3427-1717027200-1717027200@ministranci.waw.pl
SUMMARY:Uroczystość Najświętszego Ciała i Krwi Chrystusa
DESCRIPTION:Boże Ciało to uroczystość katolicka ku czci Jezusa Chrystusa w najświętszym Sakramencie. Tego dnia odbywają się procesje do czterech ołtarzy.
URL:https://ministranci.waw.pl/event/uroczystosc-najswietszego-ciala-i-krwi-chrystusa/
END:VEVENT
BEGIN:VEVENT
DTSTART;TZID=UTC:20240529T000000
DTEND;TZID=UTC:20240529T000000
DTSTAMP:20260423T074630
CREATED:20240205T112752Z
LAST-MODIFIED:20240205T112752Z
UID:3426-1716940800-1716940800@ministranci.waw.pl
SUMMARY:św. Urszuli Ledóchowskiej
DESCRIPTION:Wspomnienie świętej Urszuli Ledóchowskiej
URL:https://ministranci.waw.pl/event/sw-urszuli-ledochowskiej/
END:VEVENT
BEGIN:VEVENT
DTSTART;TZID=UTC:20240527T000000
DTEND;TZID=UTC:20240527T000000
DTSTAMP:20260423T074630
CREATED:20240205T112752Z
LAST-MODIFIED:20240205T112752Z
UID:3425-1716768000-1716768000@ministranci.waw.pl
SUMMARY:św. Augustyna z Canterbury
DESCRIPTION:Wspomnienie świętego Augustyna z Canterbury
URL:https://ministranci.waw.pl/event/sw-augustyna-z-canterbury/
END:VEVENT
BEGIN:VEVENT
DTSTART;TZID=UTC:20240526T000000
DTEND;TZID=UTC:20240526T000000
DTSTAMP:20260423T074630
CREATED:20240205T112752Z
LAST-MODIFIED:20240205T112752Z
UID:3424-1716681600-1716681600@ministranci.waw.pl
SUMMARY:św. Filipa Nereusza
DESCRIPTION:Wspomnienie świętego Filipa Nereusza
URL:https://ministranci.waw.pl/event/sw-filipa-nereusza/
END:VEVENT
BEGIN:VEVENT
DTSTART;TZID=UTC:20240525T000000
DTEND;TZID=UTC:20240525T000000
DTSTAMP:20260423T074630
CREATED:20240205T112751Z
LAST-MODIFIED:20240205T112751Z
UID:3423-1716595200-1716595200@ministranci.waw.pl
SUMMARY:św. Bedy Czcigodnego
DESCRIPTION:Wspomnienie świętego Bedy Czcigodnego
URL:https://ministranci.waw.pl/event/sw-bedy-czcigodnego/
END:VEVENT
BEGIN:VEVENT
DTSTART;TZID=UTC:20240525T000000
DTEND;TZID=UTC:20240525T000000
DTSTAMP:20260423T074630
CREATED:20240205T112735Z
LAST-MODIFIED:20240205T112735Z
UID:3422-1716595200-1716595200@ministranci.waw.pl
SUMMARY:św. Marii Magdaleny de Pazzi
DESCRIPTION:Wspomnienie świętej Marii Magdaleny de Pazzi
URL:https://ministranci.waw.pl/event/sw-marii-magdaleny-de-pazzi/
END:VEVENT
BEGIN:VEVENT
DTSTART;TZID=UTC:20240524T000000
DTEND;TZID=UTC:20240524T000000
DTSTAMP:20260423T074630
CREATED:20240205T112734Z
LAST-MODIFIED:20240205T112734Z
UID:3421-1716508800-1716508800@ministranci.waw.pl
SUMMARY:Najświętszej Maryi Panny
DESCRIPTION:wspomożycielki wiernych
URL:https://ministranci.waw.pl/event/najswietszej-maryi-panny/
END:VEVENT
BEGIN:VEVENT
DTSTART;TZID=UTC:20240521T000000
DTEND;TZID=UTC:20240521T000000
DTSTAMP:20260423T074630
CREATED:20240205T112734Z
LAST-MODIFIED:20240205T112734Z
UID:3420-1716249600-1716249600@ministranci.waw.pl
SUMMARY:św. Jana Nepomucena
DESCRIPTION:Wspomnienie świętego Jana Nepomucena
URL:https://ministranci.waw.pl/event/sw-jana-nepomucena/
END:VEVENT
BEGIN:VEVENT
DTSTART;TZID=UTC:20240520T000000
DTEND;TZID=UTC:20240520T000000
DTSTAMP:20260423T074630
CREATED:20240205T112734Z
LAST-MODIFIED:20240205T112734Z
UID:3418-1716163200-1716163200@ministranci.waw.pl
SUMMARY:Uroczystość Najświętszej Maryi Panny
DESCRIPTION:Matki Kościoła
URL:https://ministranci.waw.pl/event/uroczystosc-najswietszej-maryi-panny/
END:VEVENT
BEGIN:VEVENT
DTSTART;TZID=UTC:20240520T000000
DTEND;TZID=UTC:20240520T000000
DTSTAMP:20260423T074630
CREATED:20240205T112734Z
LAST-MODIFIED:20240205T112734Z
UID:3419-1716163200-1716163200@ministranci.waw.pl
SUMMARY:św. Bernardyna ze Sieny
DESCRIPTION:Wspomnienie świętego Bernardyna ze Sieny
URL:https://ministranci.waw.pl/event/sw-bernardyna-ze-sieny/
END:VEVENT
BEGIN:VEVENT
DTSTART;TZID=UTC:20240519T000000
DTEND;TZID=UTC:20240519T000000
DTSTAMP:20260423T074630
CREATED:20240205T112717Z
LAST-MODIFIED:20240205T112717Z
UID:3417-1716076800-1716076800@ministranci.waw.pl
SUMMARY:Uroczystość Zesłania Ducha Świętego
DESCRIPTION:Święto przypadające 50 dni po Wielkiej Nocy
URL:https://ministranci.waw.pl/event/uroczystosc-zeslania-ducha-swietego/
END:VEVENT
BEGIN:VEVENT
DTSTART;TZID=UTC:20240518T000000
DTEND;TZID=UTC:20240518T000000
DTSTAMP:20260423T074630
CREATED:20240205T112717Z
LAST-MODIFIED:20240205T112717Z
UID:3416-1715990400-1715990400@ministranci.waw.pl
SUMMARY:św. Jana I
DESCRIPTION:Wspomnienie świętego Jana I
URL:https://ministranci.waw.pl/event/sw-jana-i/
END:VEVENT
BEGIN:VEVENT
DTSTART;TZID=UTC:20240516T000000
DTEND;TZID=UTC:20240516T000000
DTSTAMP:20260423T074630
CREATED:20240205T112717Z
LAST-MODIFIED:20240205T112717Z
UID:3415-1715817600-1715817600@ministranci.waw.pl
SUMMARY:Święto św. Andrzeja Boboli
DESCRIPTION:kapłana i męczennika
URL:https://ministranci.waw.pl/event/swieto-sw-andrzeja-boboli/
END:VEVENT
BEGIN:VEVENT
DTSTART;TZID=UTC:20240514T000000
DTEND;TZID=UTC:20240514T000000
DTSTAMP:20260423T074630
CREATED:20240205T112717Z
LAST-MODIFIED:20240205T112717Z
UID:3414-1715644800-1715644800@ministranci.waw.pl
SUMMARY:św. Macieja Apostoła
DESCRIPTION:Wspomnienie świętego Macieja Apostoła.
URL:https://ministranci.waw.pl/event/sw-macieja-apostola/
END:VEVENT
BEGIN:VEVENT
DTSTART;TZID=UTC:20240512T000000
DTEND;TZID=UTC:20240512T000000
DTSTAMP:20260423T074630
CREATED:20240205T112716Z
LAST-MODIFIED:20240205T112716Z
UID:3413-1715472000-1715472000@ministranci.waw.pl
SUMMARY:św. Nereusza i Achillesa
DESCRIPTION:Wspomnienie świętych męczenników Nereusza i Achillesa.
URL:https://ministranci.waw.pl/event/sw-nereusza-i-achillesa/
END:VEVENT
BEGIN:VEVENT
DTSTART;TZID=UTC:20240512T000000
DTEND;TZID=UTC:20240512T000000
DTSTAMP:20260423T074630
CREATED:20240205T112707Z
LAST-MODIFIED:20240205T112707Z
UID:3411-1715472000-1715472000@ministranci.waw.pl
SUMMARY:Uroczystość Wniebowstąpienia Pańskiego
DESCRIPTION:Upamiętnienie wstąpienie do nieba zmartwychwstałego Jezusa Chrystusa. W Polsce obchodzone w VII Niedzielę Wielkanocną.
URL:https://ministranci.waw.pl/event/uroczystosc-wniebowstapienia-panskiego/
END:VEVENT
BEGIN:VEVENT
DTSTART;TZID=UTC:20240512T000000
DTEND;TZID=UTC:20240512T000000
DTSTAMP:20260423T074630
CREATED:20240205T112707Z
LAST-MODIFIED:20240205T112707Z
UID:3412-1715472000-1715472000@ministranci.waw.pl
SUMMARY:św. Pankracego
DESCRIPTION:Wspomnienie świętego Pankracego
URL:https://ministranci.waw.pl/event/sw-pankracego/
END:VEVENT
BEGIN:VEVENT
DTSTART;TZID=UTC:20240511T000000
DTEND;TZID=UTC:20240511T000000
DTSTAMP:20260423T074630
CREATED:20240205T112707Z
LAST-MODIFIED:20240205T112707Z
UID:3410-1715385600-1715385600@ministranci.waw.pl
SUMMARY:Najświętszej Maryi Panny Łaskawej
DESCRIPTION:Wspomnienie Najświętszej Maryi Panny Łaskawej
URL:https://ministranci.waw.pl/event/najswietszej-maryi-panny-laskawej/
END:VEVENT
BEGIN:VEVENT
DTSTART;TZID=UTC:20240508T000000
DTEND;TZID=UTC:20240508T000000
DTSTAMP:20260423T074630
CREATED:20240205T112707Z
LAST-MODIFIED:20240205T112707Z
UID:3409-1715126400-1715126400@ministranci.waw.pl
SUMMARY:Uroczystość św. Stanisława
DESCRIPTION:biskupa i męczennika
URL:https://ministranci.waw.pl/event/uroczystosc-sw-stanislawa/
END:VEVENT
BEGIN:VEVENT
DTSTART;TZID=UTC:20240507T000000
DTEND;TZID=UTC:20240507T000000
DTSTAMP:20260423T074630
CREATED:20240205T112707Z
LAST-MODIFIED:20240205T112707Z
UID:3408-1715040000-1715040000@ministranci.waw.pl
SUMMARY:św. NMP Matki Łaski Bożej
DESCRIPTION:Wspomnienie Najświętszej Maryi Panny
URL:https://ministranci.waw.pl/event/sw-nmp-matki-laski-bozej/
END:VEVENT
BEGIN:VEVENT
DTSTART;TZID=UTC:20240506T000000
DTEND;TZID=UTC:20240506T000000
DTSTAMP:20260423T074630
CREATED:20240205T112617Z
LAST-MODIFIED:20240205T112617Z
UID:3407-1714953600-1714953600@ministranci.waw.pl
SUMMARY:św. Filipa i Jakuba
DESCRIPTION:Święto świętych apostołów Filipa i Jakuba.
URL:https://ministranci.waw.pl/event/sw-filipa-i-jakuba/
END:VEVENT
BEGIN:VEVENT
DTSTART;TZID=UTC:20240505T000000
DTEND;TZID=UTC:20240505T000000
DTSTAMP:20260423T074630
CREATED:20240205T112617Z
LAST-MODIFIED:20240205T112617Z
UID:3406-1714867200-1714867200@ministranci.waw.pl
SUMMARY:Dzień Leśnika i Drzewiarza
DESCRIPTION:Święto branżowe obchodzone w pierwszą niedzielę kwietnia. Świętują je osoby
URL:https://ministranci.waw.pl/event/dzien-lesnika-i-drzewiarza-2/
END:VEVENT
BEGIN:VEVENT
DTSTART;TZID=UTC:20240504T000000
DTEND;TZID=UTC:20240504T000000
DTSTAMP:20260423T074630
CREATED:20240205T112616Z
LAST-MODIFIED:20240205T112616Z
UID:3405-1714780800-1714780800@ministranci.waw.pl
SUMMARY:św. Floriana
DESCRIPTION:Wspomnienie świętego Floriana
URL:https://ministranci.waw.pl/event/sw-floriana/
END:VEVENT
BEGIN:VEVENT
DTSTART;TZID=UTC:20240503T000000
DTEND;TZID=UTC:20240503T000000
DTSTAMP:20260423T074630
CREATED:20240205T112616Z
LAST-MODIFIED:20240205T112616Z
UID:3404-1714694400-1714694400@ministranci.waw.pl
SUMMARY:Uroczystość Najświętszej Maryi Panny Królowej Polski
DESCRIPTION:Święto ustanowione przez papieża Benedykta XV w 1920 na prośbę polskich biskupów po odzyskaniu przez Polskę niepodległości w 1918.
URL:https://ministranci.waw.pl/event/uroczystosc-najswietszej-maryi-panny-krolowej-polski/
END:VEVENT
BEGIN:VEVENT
DTSTART;TZID=UTC:20240502T000000
DTEND;TZID=UTC:20240502T000000
DTSTAMP:20260423T074630
CREATED:20240205T112616Z
LAST-MODIFIED:20240205T112616Z
UID:3403-1714608000-1714608000@ministranci.waw.pl
SUMMARY:św. Atanazego
DESCRIPTION:Wspomnienie świętego Atanazego
URL:https://ministranci.waw.pl/event/sw-atanazego/
END:VEVENT
BEGIN:VEVENT
DTSTART;TZID=UTC:20240502T000000
DTEND;TZID=UTC:20240502T000000
DTSTAMP:20260423T074630
CREATED:20240205T112509Z
LAST-MODIFIED:20240205T112509Z
UID:3402-1714608000-1714608000@ministranci.waw.pl
SUMMARY:św. Zygmunta
DESCRIPTION:Wspomnienie świętego Zygmunta
URL:https://ministranci.waw.pl/event/sw-zygmunta/
END:VEVENT
BEGIN:VEVENT
DTSTART;TZID=UTC:20240501T000000
DTEND;TZID=UTC:20240501T000000
DTSTAMP:20260423T074630
CREATED:20240205T112509Z
LAST-MODIFIED:20240205T112509Z
UID:3401-1714521600-1714521600@ministranci.waw.pl
SUMMARY:św. Józefa
DESCRIPTION:rzemieślnika
URL:https://ministranci.waw.pl/event/sw-jozefa/
END:VEVENT
BEGIN:VEVENT
DTSTART;TZID=UTC:20240430T000000
DTEND;TZID=UTC:20240430T000000
DTSTAMP:20260423T074630
CREATED:20240205T112508Z
LAST-MODIFIED:20240205T112508Z
UID:3400-1714435200-1714435200@ministranci.waw.pl
SUMMARY:św. Piusa V
DESCRIPTION:Wspomnienie świętego Piusa V
URL:https://ministranci.waw.pl/event/sw-piusa-v/
END:VEVENT
BEGIN:VEVENT
DTSTART;TZID=UTC:20240429T000000
DTEND;TZID=UTC:20240429T000000
DTSTAMP:20260423T074630
CREATED:20240205T112508Z
LAST-MODIFIED:20240205T112508Z
UID:3399-1714348800-1714348800@ministranci.waw.pl
SUMMARY:św. Katarzyny Sieneńskiej
DESCRIPTION:Wspomnienie świętego Katarzyny Sieneńskiej
URL:https://ministranci.waw.pl/event/sw-katarzyny-sienenskiej/
END:VEVENT
BEGIN:VEVENT
DTSTART;TZID=UTC:20240428T000000
DTEND;TZID=UTC:20240428T000000
DTSTAMP:20260423T074630
CREATED:20240205T112508Z
LAST-MODIFIED:20240205T112508Z
UID:3398-1714262400-1714262400@ministranci.waw.pl
SUMMARY:św. Piotra Chanela
DESCRIPTION:Wspomnienie świętego Piotra Chanela
URL:https://ministranci.waw.pl/event/sw-piotra-chanela/
END:VEVENT
END:VCALENDAR