BEGIN:VCALENDAR
VERSION:2.0
PRODID:-//Liturgiczna Służba Ołtarza - ECPv6.15.18//NONSGML v1.0//EN
CALSCALE:GREGORIAN
METHOD:PUBLISH
X-WR-CALNAME:Liturgiczna Służba Ołtarza
X-ORIGINAL-URL:https://ministranci.waw.pl
X-WR-CALDESC:Wydarzenia dla Liturgiczna Służba Ołtarza
REFRESH-INTERVAL;VALUE=DURATION:PT1H
X-Robots-Tag:noindex
X-PUBLISHED-TTL:PT1H
BEGIN:VTIMEZONE
TZID:UTC
BEGIN:STANDARD
TZOFFSETFROM:+0000
TZOFFSETTO:+0000
TZNAME:UTC
DTSTART:20230101T000000
END:STANDARD
END:VTIMEZONE
BEGIN:VEVENT
DTSTART;TZID=UTC:20240805T000000
DTEND;TZID=UTC:20240805T000000
DTSTAMP:20260422T213829
CREATED:20240205T112954Z
LAST-MODIFIED:20240205T112954Z
UID:3491-1722816000-1722816000@ministranci.waw.pl
SUMMARY:Rocznica poświęcenia rzymskiej bazyliki NMP
DESCRIPTION:Rocznica poświęcenia rzymskiej bazyliki Najświętszej Maryi Panny.
URL:https://ministranci.waw.pl/event/rocznica-poswiecenia-rzymskiej-bazyliki-nmp-2/
END:VEVENT
BEGIN:VEVENT
DTSTART;TZID=UTC:20240804T000000
DTEND;TZID=UTC:20240804T000000
DTSTAMP:20260422T213829
CREATED:20240205T112954Z
LAST-MODIFIED:20240205T112954Z
UID:3490-1722729600-1722729600@ministranci.waw.pl
SUMMARY:św. Jana Marii Vianneya
DESCRIPTION:Wspomnienie świętego Jana Marii Vianneya
URL:https://ministranci.waw.pl/event/sw-jana-marii-vianneya-2/
END:VEVENT
BEGIN:VEVENT
DTSTART;TZID=UTC:20240802T000000
DTEND;TZID=UTC:20240802T000000
DTSTAMP:20260422T213829
CREATED:20240205T112954Z
LAST-MODIFIED:20240205T112954Z
UID:3489-1722556800-1722556800@ministranci.waw.pl
SUMMARY:św. Euzebiusza z Vercelli
DESCRIPTION:Wspomnienie świętego Euzebiusza z Vercelli
URL:https://ministranci.waw.pl/event/sw-euzebiusza-z-vercelli-2/
END:VEVENT
BEGIN:VEVENT
DTSTART;TZID=UTC:20240801T000000
DTEND;TZID=UTC:20240801T000000
DTSTAMP:20260422T213829
CREATED:20240205T112953Z
LAST-MODIFIED:20240205T112953Z
UID:3488-1722470400-1722470400@ministranci.waw.pl
SUMMARY:św. Alfonsa Marii Liguoriego
DESCRIPTION:Wspomnienie św. Alfonsa Marii Liguoriego
URL:https://ministranci.waw.pl/event/sw-alfonsa-marii-liguoriego-2/
END:VEVENT
BEGIN:VEVENT
DTSTART;TZID=UTC:20240731T000000
DTEND;TZID=UTC:20240731T000000
DTSTAMP:20260422T213829
CREATED:20240205T112937Z
LAST-MODIFIED:20240205T112937Z
UID:3487-1722384000-1722384000@ministranci.waw.pl
SUMMARY:św. Ignacego z Loyoli
DESCRIPTION:Wspomnienie świętego Ignacego z Loyoli
URL:https://ministranci.waw.pl/event/sw-ignacego-z-loyoli-2/
END:VEVENT
BEGIN:VEVENT
DTSTART;TZID=UTC:20240730T000000
DTEND;TZID=UTC:20240730T000000
DTSTAMP:20260422T213829
CREATED:20240205T112937Z
LAST-MODIFIED:20240205T112937Z
UID:3486-1722297600-1722297600@ministranci.waw.pl
SUMMARY:św. Piotra
DESCRIPTION:Chryzologa
URL:https://ministranci.waw.pl/event/sw-piotra/
END:VEVENT
BEGIN:VEVENT
DTSTART;TZID=UTC:20240729T000000
DTEND;TZID=UTC:20240729T000000
DTSTAMP:20260422T213829
CREATED:20240205T112937Z
LAST-MODIFIED:20240205T112937Z
UID:3485-1722211200-1722211200@ministranci.waw.pl
SUMMARY:św. Marty
DESCRIPTION:Wspomnienie świętej Marty
URL:https://ministranci.waw.pl/event/sw-marty-2/
END:VEVENT
BEGIN:VEVENT
DTSTART;TZID=UTC:20240727T000000
DTEND;TZID=UTC:20240727T000000
DTSTAMP:20260422T213829
CREATED:20240205T112937Z
LAST-MODIFIED:20240205T112937Z
UID:3484-1722038400-1722038400@ministranci.waw.pl
SUMMARY:św. Joachima
DESCRIPTION:Wspomnienie św. Joachima
URL:https://ministranci.waw.pl/event/sw-joachima-2/
END:VEVENT
BEGIN:VEVENT
DTSTART;TZID=UTC:20240726T000000
DTEND;TZID=UTC:20240726T000000
DTSTAMP:20260422T213829
CREATED:20240205T112937Z
LAST-MODIFIED:20240205T112937Z
UID:3483-1721952000-1721952000@ministranci.waw.pl
SUMMARY:św. Joachima i Anny
DESCRIPTION:Wspomnienie świętych Joachima i Anny
URL:https://ministranci.waw.pl/event/sw-joachima-i-anny-2/
END:VEVENT
BEGIN:VEVENT
DTSTART;TZID=UTC:20240724T000000
DTEND;TZID=UTC:20240724T000000
DTSTAMP:20260422T213829
CREATED:20240205T112919Z
LAST-MODIFIED:20240205T112919Z
UID:3482-1721779200-1721779200@ministranci.waw.pl
SUMMARY:bł. Kingi
DESCRIPTION:dziewicy
URL:https://ministranci.waw.pl/event/bl-kingi/
END:VEVENT
BEGIN:VEVENT
DTSTART;TZID=UTC:20240723T000000
DTEND;TZID=UTC:20240723T000000
DTSTAMP:20260422T213829
CREATED:20240205T112919Z
LAST-MODIFIED:20240205T112919Z
UID:3481-1721692800-1721692800@ministranci.waw.pl
SUMMARY:św. Brygidy
DESCRIPTION:zakonnicy
URL:https://ministranci.waw.pl/event/sw-brygidy/
END:VEVENT
BEGIN:VEVENT
DTSTART;TZID=UTC:20240722T000000
DTEND;TZID=UTC:20240722T000000
DTSTAMP:20260422T213829
CREATED:20240205T112919Z
LAST-MODIFIED:20240205T112919Z
UID:3480-1721606400-1721606400@ministranci.waw.pl
SUMMARY:św. Marii Magdaleny
DESCRIPTION:Wspomnienie świętej Marii Magdaleny.
URL:https://ministranci.waw.pl/event/sw-marii-magdaleny-2/
END:VEVENT
BEGIN:VEVENT
DTSTART;TZID=UTC:20240721T000000
DTEND;TZID=UTC:20240721T000000
DTSTAMP:20260422T213829
CREATED:20240205T112919Z
LAST-MODIFIED:20240205T112919Z
UID:3479-1721520000-1721520000@ministranci.waw.pl
SUMMARY:św. Wawrzyńca
DESCRIPTION:Wspomnienie św. Wawrzyńca z Brindisli
URL:https://ministranci.waw.pl/event/sw-wawrzynca-2/
END:VEVENT
BEGIN:VEVENT
DTSTART;TZID=UTC:20240720T000000
DTEND;TZID=UTC:20240720T000000
DTSTAMP:20260422T213829
CREATED:20240205T112919Z
LAST-MODIFIED:20240205T112919Z
UID:3478-1721433600-1721433600@ministranci.waw.pl
SUMMARY:bł. Czesława
DESCRIPTION:Wspomnienie błogosławionego Czesława
URL:https://ministranci.waw.pl/event/bl-czeslawa-2/
END:VEVENT
BEGIN:VEVENT
DTSTART;TZID=UTC:20240718T000000
DTEND;TZID=UTC:20240718T000000
DTSTAMP:20260422T213829
CREATED:20240205T112914Z
LAST-MODIFIED:20240205T112914Z
UID:3477-1721260800-1721260800@ministranci.waw.pl
SUMMARY:bł. Szymona z Lipnicy
DESCRIPTION:Wspomnienie błogosławionego Szymona z Lipnicy
URL:https://ministranci.waw.pl/event/bl-szymona-z-lipnicy-2/
END:VEVENT
BEGIN:VEVENT
DTSTART;TZID=UTC:20240717T000000
DTEND;TZID=UTC:20240717T000000
DTSTAMP:20260422T213829
CREATED:20240205T112914Z
LAST-MODIFIED:20240205T112914Z
UID:3476-1721174400-1721174400@ministranci.waw.pl
SUMMARY:bł. Jadwigi
DESCRIPTION:Wspomnienie błogosławionej Jadwigi
URL:https://ministranci.waw.pl/event/bl-jadwigi-2/
END:VEVENT
BEGIN:VEVENT
DTSTART;TZID=UTC:20240716T000000
DTEND;TZID=UTC:20240716T000000
DTSTAMP:20260422T213829
CREATED:20240205T112914Z
LAST-MODIFIED:20240205T112914Z
UID:3475-1721088000-1721088000@ministranci.waw.pl
SUMMARY:Najświętszej Maryi Panny z góry Karmel
DESCRIPTION:Wspomnienie Najświętszej Maryi Panny z góry Karmel.
URL:https://ministranci.waw.pl/event/najswietszej-maryi-panny-z-gory-karmel-2/
END:VEVENT
BEGIN:VEVENT
DTSTART;TZID=UTC:20240715T000000
DTEND;TZID=UTC:20240715T000000
DTSTAMP:20260422T213829
CREATED:20240205T112914Z
LAST-MODIFIED:20240205T112914Z
UID:3474-1721001600-1721001600@ministranci.waw.pl
SUMMARY:św. Bonawentury
DESCRIPTION:Wspomnienie świętego Bonawentury
URL:https://ministranci.waw.pl/event/sw-bonawentury-2/
END:VEVENT
BEGIN:VEVENT
DTSTART;TZID=UTC:20240714T000000
DTEND;TZID=UTC:20240714T000000
DTSTAMP:20260422T213829
CREATED:20240205T112914Z
LAST-MODIFIED:20240205T112914Z
UID:3473-1720915200-1720915200@ministranci.waw.pl
SUMMARY:św. Henryka
DESCRIPTION:Wspomnienie świętego Henryka.
URL:https://ministranci.waw.pl/event/sw-henryka-2/
END:VEVENT
BEGIN:VEVENT
DTSTART;TZID=UTC:20240714T000000
DTEND;TZID=UTC:20240714T000000
DTSTAMP:20260422T213829
CREATED:20240205T112912Z
LAST-MODIFIED:20240205T112912Z
UID:3472-1720915200-1720915200@ministranci.waw.pl
SUMMARY:św. Kamila de Lellis
DESCRIPTION:Wspomnienie świętego Kamila de Lellis
URL:https://ministranci.waw.pl/event/sw-kamila-de-lellis-2/
END:VEVENT
BEGIN:VEVENT
DTSTART;TZID=UTC:20240713T000000
DTEND;TZID=UTC:20240713T000000
DTSTAMP:20260422T213829
CREATED:20240205T112912Z
LAST-MODIFIED:20240205T112912Z
UID:3471-1720828800-1720828800@ministranci.waw.pl
SUMMARY:św. Andrzeja Świerada i Benedykta
DESCRIPTION:Wspomnienie świętych pustelników Andrzeja Świerada i Benedykta.
URL:https://ministranci.waw.pl/event/sw-andrzeja-swierada-i-benedykta-2/
END:VEVENT
BEGIN:VEVENT
DTSTART;TZID=UTC:20240712T000000
DTEND;TZID=UTC:20240712T000000
DTSTAMP:20260422T213829
CREATED:20240205T112912Z
LAST-MODIFIED:20240205T112912Z
UID:3470-1720742400-1720742400@ministranci.waw.pl
SUMMARY:św. Brunona Bonifacego z Kwerfurtu
DESCRIPTION:Wspomnienie świętego Brunona Bonifacego z Kwerfurtu
URL:https://ministranci.waw.pl/event/sw-brunona-bonifacego-z-kwerfurtu-2/
END:VEVENT
BEGIN:VEVENT
DTSTART;TZID=UTC:20240711T000000
DTEND;TZID=UTC:20240711T000000
DTSTAMP:20260422T213829
CREATED:20240205T112912Z
LAST-MODIFIED:20240205T112912Z
UID:3469-1720656000-1720656000@ministranci.waw.pl
SUMMARY:św. Benedykta
DESCRIPTION:Święto świętego Benedykta
URL:https://ministranci.waw.pl/event/sw-benedykta-2/
END:VEVENT
BEGIN:VEVENT
DTSTART;TZID=UTC:20240706T000000
DTEND;TZID=UTC:20240706T000000
DTSTAMP:20260422T213829
CREATED:20240205T112912Z
LAST-MODIFIED:20240205T112912Z
UID:3468-1720224000-1720224000@ministranci.waw.pl
SUMMARY:bł. Marii Teresy Ledóchowskiej
DESCRIPTION:Wspomnienie błogosławionej Marii Teresy Ledóchowskiej
URL:https://ministranci.waw.pl/event/bl-marii-teresy-ledochowskiej-2/
END:VEVENT
BEGIN:VEVENT
DTSTART;TZID=UTC:20240705T000000
DTEND;TZID=UTC:20240705T000000
DTSTAMP:20260422T213829
CREATED:20240205T112908Z
LAST-MODIFIED:20240205T112908Z
UID:3466-1720137600-1720137600@ministranci.waw.pl
SUMMARY:św. Marii Goretti
DESCRIPTION:Wspomnienie świętej Marii Goretti
URL:https://ministranci.waw.pl/event/sw-marii-goretti-2/
END:VEVENT
BEGIN:VEVENT
DTSTART;TZID=UTC:20240705T000000
DTEND;TZID=UTC:20240705T000000
DTSTAMP:20260422T213829
CREATED:20240205T112908Z
LAST-MODIFIED:20240205T112908Z
UID:3467-1720137600-1720137600@ministranci.waw.pl
SUMMARY:św. Antoniego Marii Zaccarii
DESCRIPTION:Wspomnienie świętego Antoniego Marii Zaccarii
URL:https://ministranci.waw.pl/event/sw-antoniego-marii-zaccarii-2/
END:VEVENT
BEGIN:VEVENT
DTSTART;TZID=UTC:20240704T000000
DTEND;TZID=UTC:20240704T000000
DTSTAMP:20260422T213829
CREATED:20240205T112908Z
LAST-MODIFIED:20240205T112908Z
UID:3465-1720051200-1720051200@ministranci.waw.pl
SUMMARY:św. Elżbiety Portugalskiej
DESCRIPTION:Wspomnienie świętej Elżbiety Portugalskiej.
URL:https://ministranci.waw.pl/event/sw-elzbiety-portugalskiej-2/
END:VEVENT
BEGIN:VEVENT
DTSTART;TZID=UTC:20240703T000000
DTEND;TZID=UTC:20240703T000000
DTSTAMP:20260422T213829
CREATED:20240205T112907Z
LAST-MODIFIED:20240205T112907Z
UID:3464-1719964800-1719964800@ministranci.waw.pl
SUMMARY:św. Tomasza Apostoła
DESCRIPTION:Święto świętego Tomasza Apostoła.
URL:https://ministranci.waw.pl/event/sw-tomasza-apostola-2/
END:VEVENT
BEGIN:VEVENT
DTSTART;TZID=UTC:20240630T000000
DTEND;TZID=UTC:20240630T000000
DTSTAMP:20260422T213829
CREATED:20240205T112907Z
LAST-MODIFIED:20240205T112907Z
UID:3463-1719705600-1719705600@ministranci.waw.pl
SUMMARY:św. Pierwszych Męczenników
DESCRIPTION:Wspomnienie świętych Pierwszych Męczenników świętego kościoła rzymskiego.
URL:https://ministranci.waw.pl/event/sw-pierwszych-meczennikow/
END:VEVENT
BEGIN:VEVENT
DTSTART;TZID=UTC:20240629T000000
DTEND;TZID=UTC:20240629T000000
DTSTAMP:20260422T213829
CREATED:20240205T112859Z
LAST-MODIFIED:20240205T112859Z
UID:3462-1719619200-1719619200@ministranci.waw.pl
SUMMARY:Uroczystość świętych Piotra i Pawła
DESCRIPTION:Święto ku czci apostołów Piotra i Pawła
URL:https://ministranci.waw.pl/event/uroczystosc-swietych-piotra-i-pawla/
END:VEVENT
END:VCALENDAR