BEGIN:VCALENDAR
VERSION:2.0
PRODID:-//Liturgiczna Służba Ołtarza - ECPv6.15.18//NONSGML v1.0//EN
CALSCALE:GREGORIAN
METHOD:PUBLISH
X-ORIGINAL-URL:https://ministranci.waw.pl
X-WR-CALDESC:Wydarzenia dla Liturgiczna Służba Ołtarza
REFRESH-INTERVAL;VALUE=DURATION:PT1H
X-Robots-Tag:noindex
X-PUBLISHED-TTL:PT1H
BEGIN:VTIMEZONE
TZID:UTC
BEGIN:STANDARD
TZOFFSETFROM:+0000
TZOFFSETTO:+0000
TZNAME:UTC
DTSTART:20230101T000000
END:STANDARD
END:VTIMEZONE
BEGIN:VEVENT
DTSTART;TZID=UTC:20240825T000000
DTEND;TZID=UTC:20240825T000000
DTSTAMP:20260422T180132
CREATED:20240205T113026Z
LAST-MODIFIED:20240205T113026Z
UID:3512-1724544000-1724544000@ministranci.waw.pl
SUMMARY:św. Ludwika
DESCRIPTION:
URL:https://ministranci.waw.pl/event/sw-ludwika-2/
END:VEVENT
BEGIN:VEVENT
DTSTART;TZID=UTC:20240824T000000
DTEND;TZID=UTC:20240824T000000
DTSTAMP:20260422T180132
CREATED:20240205T113026Z
LAST-MODIFIED:20240205T113026Z
UID:3510-1724457600-1724457600@ministranci.waw.pl
SUMMARY:św. Bartłomieja
DESCRIPTION:apostoła
URL:https://ministranci.waw.pl/event/sw-bartlomieja/
END:VEVENT
BEGIN:VEVENT
DTSTART;TZID=UTC:20240823T000000
DTEND;TZID=UTC:20240823T000000
DTSTAMP:20260422T180132
CREATED:20240205T113026Z
LAST-MODIFIED:20240205T113026Z
UID:3509-1724371200-1724371200@ministranci.waw.pl
SUMMARY:św. Róży z Limy
DESCRIPTION:dziewicy
URL:https://ministranci.waw.pl/event/sw-rozy-z-limy/
END:VEVENT
BEGIN:VEVENT
DTSTART;TZID=UTC:20240822T000000
DTEND;TZID=UTC:20240822T000000
DTSTAMP:20260422T180132
CREATED:20240205T113025Z
LAST-MODIFIED:20240205T113025Z
UID:3508-1724284800-1724284800@ministranci.waw.pl
SUMMARY:Najświętszej Maryi Panny
DESCRIPTION:królowej
URL:https://ministranci.waw.pl/event/najswietszej-maryi-panny-2/
END:VEVENT
BEGIN:VEVENT
DTSTART;TZID=UTC:20240821T000000
DTEND;TZID=UTC:20240821T000000
DTSTAMP:20260422T180132
CREATED:20240205T113015Z
LAST-MODIFIED:20240205T113015Z
UID:3507-1724198400-1724198400@ministranci.waw.pl
SUMMARY:św. Piusa X
DESCRIPTION:papieża
URL:https://ministranci.waw.pl/event/sw-piusa-x/
END:VEVENT
BEGIN:VEVENT
DTSTART;TZID=UTC:20240820T000000
DTEND;TZID=UTC:20240820T000000
DTSTAMP:20260422T180132
CREATED:20240205T113015Z
LAST-MODIFIED:20240205T113015Z
UID:3506-1724112000-1724112000@ministranci.waw.pl
SUMMARY:św. Bernarda
DESCRIPTION:opata i doktora kościoła
URL:https://ministranci.waw.pl/event/sw-bernarda/
END:VEVENT
BEGIN:VEVENT
DTSTART;TZID=UTC:20240819T000000
DTEND;TZID=UTC:20240819T000000
DTSTAMP:20260422T180132
CREATED:20240205T113015Z
LAST-MODIFIED:20240205T113015Z
UID:3505-1724025600-1724025600@ministranci.waw.pl
SUMMARY:św. Jana Eudesa
DESCRIPTION:kapłana
URL:https://ministranci.waw.pl/event/sw-jana-eudesa/
END:VEVENT
BEGIN:VEVENT
DTSTART;TZID=UTC:20240818T000000
DTEND;TZID=UTC:20240818T000000
DTSTAMP:20260422T180132
CREATED:20240205T113015Z
LAST-MODIFIED:20240205T113015Z
UID:3504-1723939200-1723939200@ministranci.waw.pl
SUMMARY:św. Maksymiliana Marii Kolbego
DESCRIPTION:Wspomnienie świętego Maksymiliana Marii Kolbego
URL:https://ministranci.waw.pl/event/sw-maksymiliana-marii-kolbego-4/
END:VEVENT
BEGIN:VEVENT
DTSTART;TZID=UTC:20240817T000000
DTEND;TZID=UTC:20240817T000000
DTSTAMP:20260422T180132
CREATED:20240205T113015Z
LAST-MODIFIED:20240205T113015Z
UID:3503-1723852800-1723852800@ministranci.waw.pl
SUMMARY:św. Jacka
DESCRIPTION:kapłana
URL:https://ministranci.waw.pl/event/sw-jacka/
END:VEVENT
BEGIN:VEVENT
DTSTART;TZID=UTC:20240816T000000
DTEND;TZID=UTC:20240816T000000
DTSTAMP:20260422T180132
CREATED:20240205T113011Z
LAST-MODIFIED:20240205T113011Z
UID:3502-1723766400-1723766400@ministranci.waw.pl
SUMMARY:św. Stefana Węgierskiego
DESCRIPTION:
URL:https://ministranci.waw.pl/event/sw-stefana-wegierskiego-2/
END:VEVENT
BEGIN:VEVENT
DTSTART;TZID=UTC:20240815T000000
DTEND;TZID=UTC:20240815T000000
DTSTAMP:20260422T180132
CREATED:20240205T113011Z
LAST-MODIFIED:20240205T113011Z
UID:3501-1723680000-1723680000@ministranci.waw.pl
SUMMARY:Uroczystość Wniebowzięcia Najświętszej Maryi Panny
DESCRIPTION:Święto upamiętniające wzięcie do nieba Najświętszej Maryji Panny z duszą i ciałem. W Polsce znane jako Święto Matki Boskiej Zielnej.
URL:https://ministranci.waw.pl/event/uroczystosc-wniebowziecia-najswietszej-maryi-panny-2/
END:VEVENT
BEGIN:VEVENT
DTSTART;TZID=UTC:20240814T000000
DTEND;TZID=UTC:20240814T000000
DTSTAMP:20260422T180132
CREATED:20240205T113011Z
LAST-MODIFIED:20240205T113011Z
UID:3500-1723593600-1723593600@ministranci.waw.pl
SUMMARY:św. Maksymiliana Marii Kolbego
DESCRIPTION:Wspomnienie świętego Maksymiliana Marii Kolbego
URL:https://ministranci.waw.pl/event/sw-maksymiliana-marii-kolbego-3/
END:VEVENT
BEGIN:VEVENT
DTSTART;TZID=UTC:20240813T000000
DTEND;TZID=UTC:20240813T000000
DTSTAMP:20260422T180132
CREATED:20240205T113011Z
LAST-MODIFIED:20240205T113011Z
UID:3499-1723507200-1723507200@ministranci.waw.pl
SUMMARY:św. Poncjana i Hipolita
DESCRIPTION:Wspomnienie świętych męczenników Poncjana
URL:https://ministranci.waw.pl/event/sw-poncjana-i-hipolita-2/
END:VEVENT
BEGIN:VEVENT
DTSTART;TZID=UTC:20240811T000000
DTEND;TZID=UTC:20240811T000000
DTSTAMP:20260422T180132
CREATED:20240205T113011Z
LAST-MODIFIED:20240205T113011Z
UID:3498-1723334400-1723334400@ministranci.waw.pl
SUMMARY:NMP Świętolipskiej
DESCRIPTION:Wspomnienie Najświętszej Maryi Panny Świętolipskiej. W diecezji warmińskiej – Wspomnienie obowiązkowe.
URL:https://ministranci.waw.pl/event/nmp-swietolipskiej-2/
END:VEVENT
BEGIN:VEVENT
DTSTART;TZID=UTC:20240811T000000
DTEND;TZID=UTC:20240811T000000
DTSTAMP:20260422T180132
CREATED:20240205T112959Z
LAST-MODIFIED:20240205T112959Z
UID:3497-1723334400-1723334400@ministranci.waw.pl
SUMMARY:św. Klary
DESCRIPTION:dziewicy
URL:https://ministranci.waw.pl/event/sw-klary/
END:VEVENT
BEGIN:VEVENT
DTSTART;TZID=UTC:20240810T000000
DTEND;TZID=UTC:20240810T000000
DTSTAMP:20260422T180132
CREATED:20240205T112959Z
LAST-MODIFIED:20240205T112959Z
UID:3496-1723248000-1723248000@ministranci.waw.pl
SUMMARY:św. Wawrzyńca
DESCRIPTION:diakona i męczennika
URL:https://ministranci.waw.pl/event/sw-wawrzynca-3/
END:VEVENT
BEGIN:VEVENT
DTSTART;TZID=UTC:20240808T000000
DTEND;TZID=UTC:20240808T000000
DTSTAMP:20260422T180132
CREATED:20240205T112959Z
LAST-MODIFIED:20240205T112959Z
UID:3495-1723075200-1723075200@ministranci.waw.pl
SUMMARY:św. Dominika
DESCRIPTION:kapłana
URL:https://ministranci.waw.pl/event/sw-dominika/
END:VEVENT
BEGIN:VEVENT
DTSTART;TZID=UTC:20240807T000000
DTEND;TZID=UTC:20240807T000000
DTSTAMP:20260422T180132
CREATED:20240205T112959Z
LAST-MODIFIED:20240205T112959Z
UID:3493-1722988800-1722988800@ministranci.waw.pl
SUMMARY:św. Męczenników Sykstusa II
DESCRIPTION:papieża i towarzyszy
URL:https://ministranci.waw.pl/event/sw-meczennikow-sykstusa-ii/
END:VEVENT
BEGIN:VEVENT
DTSTART;TZID=UTC:20240807T000000
DTEND;TZID=UTC:20240807T000000
DTSTAMP:20260422T180132
CREATED:20240205T112959Z
LAST-MODIFIED:20240205T112959Z
UID:3494-1722988800-1722988800@ministranci.waw.pl
SUMMARY:św. Kajetana
DESCRIPTION:kapłana
URL:https://ministranci.waw.pl/event/sw-kajetana/
END:VEVENT
BEGIN:VEVENT
DTSTART;TZID=UTC:20240806T000000
DTEND;TZID=UTC:20240806T000000
DTSTAMP:20260422T180132
CREATED:20240205T112954Z
LAST-MODIFIED:20240205T112954Z
UID:3492-1722902400-1722902400@ministranci.waw.pl
SUMMARY:Święto Przemienienia Pańskiego
DESCRIPTION:
URL:https://ministranci.waw.pl/event/swieto-przemienienia-panskiego-2/
END:VEVENT
BEGIN:VEVENT
DTSTART;TZID=UTC:20240805T000000
DTEND;TZID=UTC:20240805T000000
DTSTAMP:20260422T180132
CREATED:20240205T112954Z
LAST-MODIFIED:20240205T112954Z
UID:3491-1722816000-1722816000@ministranci.waw.pl
SUMMARY:Rocznica poświęcenia rzymskiej bazyliki NMP
DESCRIPTION:Rocznica poświęcenia rzymskiej bazyliki Najświętszej Maryi Panny.
URL:https://ministranci.waw.pl/event/rocznica-poswiecenia-rzymskiej-bazyliki-nmp-2/
END:VEVENT
BEGIN:VEVENT
DTSTART;TZID=UTC:20240804T000000
DTEND;TZID=UTC:20240804T000000
DTSTAMP:20260422T180132
CREATED:20240205T112954Z
LAST-MODIFIED:20240205T112954Z
UID:3490-1722729600-1722729600@ministranci.waw.pl
SUMMARY:św. Jana Marii Vianneya
DESCRIPTION:Wspomnienie świętego Jana Marii Vianneya
URL:https://ministranci.waw.pl/event/sw-jana-marii-vianneya-2/
END:VEVENT
BEGIN:VEVENT
DTSTART;TZID=UTC:20240802T000000
DTEND;TZID=UTC:20240802T000000
DTSTAMP:20260422T180132
CREATED:20240205T112954Z
LAST-MODIFIED:20240205T112954Z
UID:3489-1722556800-1722556800@ministranci.waw.pl
SUMMARY:św. Euzebiusza z Vercelli
DESCRIPTION:Wspomnienie świętego Euzebiusza z Vercelli
URL:https://ministranci.waw.pl/event/sw-euzebiusza-z-vercelli-2/
END:VEVENT
BEGIN:VEVENT
DTSTART;TZID=UTC:20240801T000000
DTEND;TZID=UTC:20240801T000000
DTSTAMP:20260422T180132
CREATED:20240205T112953Z
LAST-MODIFIED:20240205T112953Z
UID:3488-1722470400-1722470400@ministranci.waw.pl
SUMMARY:św. Alfonsa Marii Liguoriego
DESCRIPTION:Wspomnienie św. Alfonsa Marii Liguoriego
URL:https://ministranci.waw.pl/event/sw-alfonsa-marii-liguoriego-2/
END:VEVENT
BEGIN:VEVENT
DTSTART;TZID=UTC:20240731T000000
DTEND;TZID=UTC:20240731T000000
DTSTAMP:20260422T180132
CREATED:20240205T112937Z
LAST-MODIFIED:20240205T112937Z
UID:3487-1722384000-1722384000@ministranci.waw.pl
SUMMARY:św. Ignacego z Loyoli
DESCRIPTION:Wspomnienie świętego Ignacego z Loyoli
URL:https://ministranci.waw.pl/event/sw-ignacego-z-loyoli-2/
END:VEVENT
BEGIN:VEVENT
DTSTART;TZID=UTC:20240730T000000
DTEND;TZID=UTC:20240730T000000
DTSTAMP:20260422T180132
CREATED:20240205T112937Z
LAST-MODIFIED:20240205T112937Z
UID:3486-1722297600-1722297600@ministranci.waw.pl
SUMMARY:św. Piotra
DESCRIPTION:Chryzologa
URL:https://ministranci.waw.pl/event/sw-piotra/
END:VEVENT
BEGIN:VEVENT
DTSTART;TZID=UTC:20240729T000000
DTEND;TZID=UTC:20240729T000000
DTSTAMP:20260422T180132
CREATED:20240205T112937Z
LAST-MODIFIED:20240205T112937Z
UID:3485-1722211200-1722211200@ministranci.waw.pl
SUMMARY:św. Marty
DESCRIPTION:Wspomnienie świętej Marty
URL:https://ministranci.waw.pl/event/sw-marty-2/
END:VEVENT
BEGIN:VEVENT
DTSTART;TZID=UTC:20240727T000000
DTEND;TZID=UTC:20240727T000000
DTSTAMP:20260422T180132
CREATED:20240205T112937Z
LAST-MODIFIED:20240205T112937Z
UID:3484-1722038400-1722038400@ministranci.waw.pl
SUMMARY:św. Joachima
DESCRIPTION:Wspomnienie św. Joachima
URL:https://ministranci.waw.pl/event/sw-joachima-2/
END:VEVENT
BEGIN:VEVENT
DTSTART;TZID=UTC:20240726T000000
DTEND;TZID=UTC:20240726T000000
DTSTAMP:20260422T180132
CREATED:20240205T112937Z
LAST-MODIFIED:20240205T112937Z
UID:3483-1721952000-1721952000@ministranci.waw.pl
SUMMARY:św. Joachima i Anny
DESCRIPTION:Wspomnienie świętych Joachima i Anny
URL:https://ministranci.waw.pl/event/sw-joachima-i-anny-2/
END:VEVENT
BEGIN:VEVENT
DTSTART;TZID=UTC:20240724T000000
DTEND;TZID=UTC:20240724T000000
DTSTAMP:20260422T180132
CREATED:20240205T112919Z
LAST-MODIFIED:20240205T112919Z
UID:3482-1721779200-1721779200@ministranci.waw.pl
SUMMARY:bł. Kingi
DESCRIPTION:dziewicy
URL:https://ministranci.waw.pl/event/bl-kingi/
END:VEVENT
END:VCALENDAR