BEGIN:VCALENDAR
VERSION:2.0
PRODID:-//Liturgiczna Służba Ołtarza - ECPv6.15.18//NONSGML v1.0//EN
CALSCALE:GREGORIAN
METHOD:PUBLISH
X-WR-CALNAME:Liturgiczna Służba Ołtarza
X-ORIGINAL-URL:https://ministranci.waw.pl
X-WR-CALDESC:Wydarzenia dla Liturgiczna Służba Ołtarza
REFRESH-INTERVAL;VALUE=DURATION:PT1H
X-Robots-Tag:noindex
X-PUBLISHED-TTL:PT1H
BEGIN:VTIMEZONE
TZID:UTC
BEGIN:STANDARD
TZOFFSETFROM:+0000
TZOFFSETTO:+0000
TZNAME:UTC
DTSTART:20230101T000000
END:STANDARD
END:VTIMEZONE
BEGIN:VEVENT
DTSTART;TZID=UTC:20240925T000000
DTEND;TZID=UTC:20240925T000000
DTSTAMP:20260422T145216
CREATED:20240205T113054Z
LAST-MODIFIED:20240205T113054Z
UID:3531-1727222400-1727222400@ministranci.waw.pl
SUMMARY:bł. Władysława z Gielniowa
DESCRIPTION:Wspomnienie bł. Władysława z Gielniowa
URL:https://ministranci.waw.pl/event/bl-wladyslawa-z-gielniowa-2/
END:VEVENT
BEGIN:VEVENT
DTSTART;TZID=UTC:20240921T000000
DTEND;TZID=UTC:20240921T000000
DTSTAMP:20260422T145216
CREATED:20240205T113054Z
LAST-MODIFIED:20240205T113054Z
UID:3530-1726876800-1726876800@ministranci.waw.pl
SUMMARY:św. Mateusza apostoła i ewangelisty
DESCRIPTION:
URL:https://ministranci.waw.pl/event/sw-mateusza-apostola-i-ewangelisty-2/
END:VEVENT
BEGIN:VEVENT
DTSTART;TZID=UTC:20240920T000000
DTEND;TZID=UTC:20240920T000000
DTSTAMP:20260422T145216
CREATED:20240205T113054Z
LAST-MODIFIED:20240205T113054Z
UID:3529-1726790400-1726790400@ministranci.waw.pl
SUMMARY:św. Andrzeja i Pawła
DESCRIPTION:Wspomnienie św. męczenników Andrzeja Kim Taegon
URL:https://ministranci.waw.pl/event/sw-andrzeja-i-pawla-2/
END:VEVENT
BEGIN:VEVENT
DTSTART;TZID=UTC:20240919T000000
DTEND;TZID=UTC:20240919T000000
DTSTAMP:20260422T145216
CREATED:20240205T113054Z
LAST-MODIFIED:20240205T113054Z
UID:3528-1726704000-1726704000@ministranci.waw.pl
SUMMARY:św. Januarego
DESCRIPTION:Wspomnienie św. Januarego
URL:https://ministranci.waw.pl/event/sw-januarego-2/
END:VEVENT
BEGIN:VEVENT
DTSTART;TZID=UTC:20240918T000000
DTEND;TZID=UTC:20240918T000000
DTSTAMP:20260422T145216
CREATED:20240205T113052Z
LAST-MODIFIED:20240205T113052Z
UID:3527-1726617600-1726617600@ministranci.waw.pl
SUMMARY:Święto św. Stanisława Kostki
DESCRIPTION:Święto świętego Stanisława Kostki
URL:https://ministranci.waw.pl/event/swieto-sw-stanislawa-kostki-2/
END:VEVENT
BEGIN:VEVENT
DTSTART;TZID=UTC:20240917T000000
DTEND;TZID=UTC:20240917T000000
DTSTAMP:20260422T145216
CREATED:20240205T113052Z
LAST-MODIFIED:20240205T113052Z
UID:3526-1726531200-1726531200@ministranci.waw.pl
SUMMARY:św. Roberta Bellarmina
DESCRIPTION:Wspomnienie świętego Roberta Bellarmina
URL:https://ministranci.waw.pl/event/sw-roberta-bellarmina-2/
END:VEVENT
BEGIN:VEVENT
DTSTART;TZID=UTC:20240916T000000
DTEND;TZID=UTC:20240916T000000
DTSTAMP:20260422T145216
CREATED:20240205T113052Z
LAST-MODIFIED:20240205T113052Z
UID:3525-1726444800-1726444800@ministranci.waw.pl
SUMMARY:św. Korneliusza i Cypriana
DESCRIPTION:Wspomnienie świętych męczenników Korneliusza
URL:https://ministranci.waw.pl/event/sw-korneliusza-i-cypriana-2/
END:VEVENT
BEGIN:VEVENT
DTSTART;TZID=UTC:20240915T000000
DTEND;TZID=UTC:20240915T000000
DTSTAMP:20260422T145216
CREATED:20240205T113052Z
LAST-MODIFIED:20240205T113052Z
UID:3524-1726358400-1726358400@ministranci.waw.pl
SUMMARY:Najświętszej Maryi Panny Bolesnej
DESCRIPTION:
URL:https://ministranci.waw.pl/event/najswietszej-maryi-panny-bolesnej-2/
END:VEVENT
BEGIN:VEVENT
DTSTART;TZID=UTC:20240914T000000
DTEND;TZID=UTC:20240914T000000
DTSTAMP:20260422T145216
CREATED:20240205T113052Z
LAST-MODIFIED:20240205T113052Z
UID:3523-1726272000-1726272000@ministranci.waw.pl
SUMMARY:Podwyższenie Krzyża Świętego
DESCRIPTION:
URL:https://ministranci.waw.pl/event/podwyzszenie-krzyza-swietego-2/
END:VEVENT
BEGIN:VEVENT
DTSTART;TZID=UTC:20240913T000000
DTEND;TZID=UTC:20240913T000000
DTSTAMP:20260422T145216
CREATED:20240205T113043Z
LAST-MODIFIED:20240205T113043Z
UID:3522-1726185600-1726185600@ministranci.waw.pl
SUMMARY:św. Jana Chryzostoma
DESCRIPTION:św. Jana Chryzostoma
URL:https://ministranci.waw.pl/event/sw-jana-chryzostoma-2/
END:VEVENT
BEGIN:VEVENT
DTSTART;TZID=UTC:20240912T000000
DTEND;TZID=UTC:20240912T000000
DTSTAMP:20260422T145216
CREATED:20240205T113043Z
LAST-MODIFIED:20240205T113043Z
UID:3521-1726099200-1726099200@ministranci.waw.pl
SUMMARY:Najświętszego imienia Maryi
DESCRIPTION:
URL:https://ministranci.waw.pl/event/najswietszego-imienia-maryi-2/
END:VEVENT
BEGIN:VEVENT
DTSTART;TZID=UTC:20240908T000000
DTEND;TZID=UTC:20240908T000000
DTSTAMP:20260422T145216
CREATED:20240205T113043Z
LAST-MODIFIED:20240205T113043Z
UID:3520-1725753600-1725753600@ministranci.waw.pl
SUMMARY:Narodzenie Najświętszej Maryi Panny
DESCRIPTION:
URL:https://ministranci.waw.pl/event/narodzenie-najswietszej-maryi-panny-2/
END:VEVENT
BEGIN:VEVENT
DTSTART;TZID=UTC:20240907T000000
DTEND;TZID=UTC:20240907T000000
DTSTAMP:20260422T145216
CREATED:20240205T113043Z
LAST-MODIFIED:20240205T113043Z
UID:3519-1725667200-1725667200@ministranci.waw.pl
SUMMARY:bł. Melchiora Grodzieckiego
DESCRIPTION:bł. Melchiora Grodzieckiego
URL:https://ministranci.waw.pl/event/bl-melchiora-grodzieckiego-2/
END:VEVENT
BEGIN:VEVENT
DTSTART;TZID=UTC:20240903T000000
DTEND;TZID=UTC:20240903T000000
DTSTAMP:20260422T145216
CREATED:20240205T113042Z
LAST-MODIFIED:20240205T113042Z
UID:3518-1725321600-1725321600@ministranci.waw.pl
SUMMARY:św. Grzegorza Wielkiego
DESCRIPTION:św. Grzegorza Wielkiego
URL:https://ministranci.waw.pl/event/sw-grzegorza-wielkiego-2/
END:VEVENT
BEGIN:VEVENT
DTSTART;TZID=UTC:20240901T000000
DTEND;TZID=UTC:20240901T000000
DTSTAMP:20260422T145216
CREATED:20240205T113034Z
LAST-MODIFIED:20240205T113034Z
UID:3517-1725148800-1725148800@ministranci.waw.pl
SUMMARY:św. Bronisławy
DESCRIPTION:dziewicy
URL:https://ministranci.waw.pl/event/sw-bronislawy/
END:VEVENT
BEGIN:VEVENT
DTSTART;TZID=UTC:20240829T000000
DTEND;TZID=UTC:20240829T000000
DTSTAMP:20260422T145216
CREATED:20240205T113033Z
LAST-MODIFIED:20240205T113033Z
UID:3516-1724889600-1724889600@ministranci.waw.pl
SUMMARY:Męczeństwo św. Jana Chrzciciela
DESCRIPTION:
URL:https://ministranci.waw.pl/event/meczenstwo-sw-jana-chrzciciela-2/
END:VEVENT
BEGIN:VEVENT
DTSTART;TZID=UTC:20240828T000000
DTEND;TZID=UTC:20240828T000000
DTSTAMP:20260422T145216
CREATED:20240205T113033Z
LAST-MODIFIED:20240205T113033Z
UID:3515-1724803200-1724803200@ministranci.waw.pl
SUMMARY:św. Augustyna
DESCRIPTION:biskupa i doktora kościoła
URL:https://ministranci.waw.pl/event/sw-augustyna/
END:VEVENT
BEGIN:VEVENT
DTSTART;TZID=UTC:20240827T000000
DTEND;TZID=UTC:20240827T000000
DTSTAMP:20260422T145216
CREATED:20240205T113032Z
LAST-MODIFIED:20240205T113032Z
UID:3514-1724716800-1724716800@ministranci.waw.pl
SUMMARY:św. Moniki
DESCRIPTION:
URL:https://ministranci.waw.pl/event/sw-moniki-2/
END:VEVENT
BEGIN:VEVENT
DTSTART;TZID=UTC:20240826T000000
DTEND;TZID=UTC:20240826T000000
DTSTAMP:20260422T145216
CREATED:20240205T113032Z
LAST-MODIFIED:20240205T113032Z
UID:3513-1724630400-1724630400@ministranci.waw.pl
SUMMARY:Uroczystość Najświętszej Maryi Panny Częstochowskiej
DESCRIPTION:
URL:https://ministranci.waw.pl/event/uroczystosc-najswietszej-maryi-panny-czestochowskiej-2/
END:VEVENT
BEGIN:VEVENT
DTSTART;TZID=UTC:20240825T000000
DTEND;TZID=UTC:20240825T000000
DTSTAMP:20260422T145216
CREATED:20240205T113026Z
LAST-MODIFIED:20240205T113026Z
UID:3511-1724544000-1724544000@ministranci.waw.pl
SUMMARY:św. Józefa Kalasantego
DESCRIPTION:kapłana
URL:https://ministranci.waw.pl/event/sw-jozefa-kalasantego/
END:VEVENT
BEGIN:VEVENT
DTSTART;TZID=UTC:20240825T000000
DTEND;TZID=UTC:20240825T000000
DTSTAMP:20260422T145216
CREATED:20240205T113026Z
LAST-MODIFIED:20240205T113026Z
UID:3512-1724544000-1724544000@ministranci.waw.pl
SUMMARY:św. Ludwika
DESCRIPTION:
URL:https://ministranci.waw.pl/event/sw-ludwika-2/
END:VEVENT
BEGIN:VEVENT
DTSTART;TZID=UTC:20240824T000000
DTEND;TZID=UTC:20240824T000000
DTSTAMP:20260422T145216
CREATED:20240205T113026Z
LAST-MODIFIED:20240205T113026Z
UID:3510-1724457600-1724457600@ministranci.waw.pl
SUMMARY:św. Bartłomieja
DESCRIPTION:apostoła
URL:https://ministranci.waw.pl/event/sw-bartlomieja/
END:VEVENT
BEGIN:VEVENT
DTSTART;TZID=UTC:20240823T000000
DTEND;TZID=UTC:20240823T000000
DTSTAMP:20260422T145216
CREATED:20240205T113026Z
LAST-MODIFIED:20240205T113026Z
UID:3509-1724371200-1724371200@ministranci.waw.pl
SUMMARY:św. Róży z Limy
DESCRIPTION:dziewicy
URL:https://ministranci.waw.pl/event/sw-rozy-z-limy/
END:VEVENT
BEGIN:VEVENT
DTSTART;TZID=UTC:20240822T000000
DTEND;TZID=UTC:20240822T000000
DTSTAMP:20260422T145216
CREATED:20240205T113025Z
LAST-MODIFIED:20240205T113025Z
UID:3508-1724284800-1724284800@ministranci.waw.pl
SUMMARY:Najświętszej Maryi Panny
DESCRIPTION:królowej
URL:https://ministranci.waw.pl/event/najswietszej-maryi-panny-2/
END:VEVENT
BEGIN:VEVENT
DTSTART;TZID=UTC:20240821T000000
DTEND;TZID=UTC:20240821T000000
DTSTAMP:20260422T145216
CREATED:20240205T113015Z
LAST-MODIFIED:20240205T113015Z
UID:3507-1724198400-1724198400@ministranci.waw.pl
SUMMARY:św. Piusa X
DESCRIPTION:papieża
URL:https://ministranci.waw.pl/event/sw-piusa-x/
END:VEVENT
BEGIN:VEVENT
DTSTART;TZID=UTC:20240820T000000
DTEND;TZID=UTC:20240820T000000
DTSTAMP:20260422T145216
CREATED:20240205T113015Z
LAST-MODIFIED:20240205T113015Z
UID:3506-1724112000-1724112000@ministranci.waw.pl
SUMMARY:św. Bernarda
DESCRIPTION:opata i doktora kościoła
URL:https://ministranci.waw.pl/event/sw-bernarda/
END:VEVENT
BEGIN:VEVENT
DTSTART;TZID=UTC:20240819T000000
DTEND;TZID=UTC:20240819T000000
DTSTAMP:20260422T145216
CREATED:20240205T113015Z
LAST-MODIFIED:20240205T113015Z
UID:3505-1724025600-1724025600@ministranci.waw.pl
SUMMARY:św. Jana Eudesa
DESCRIPTION:kapłana
URL:https://ministranci.waw.pl/event/sw-jana-eudesa/
END:VEVENT
BEGIN:VEVENT
DTSTART;TZID=UTC:20240818T000000
DTEND;TZID=UTC:20240818T000000
DTSTAMP:20260422T145216
CREATED:20240205T113015Z
LAST-MODIFIED:20240205T113015Z
UID:3504-1723939200-1723939200@ministranci.waw.pl
SUMMARY:św. Maksymiliana Marii Kolbego
DESCRIPTION:Wspomnienie świętego Maksymiliana Marii Kolbego
URL:https://ministranci.waw.pl/event/sw-maksymiliana-marii-kolbego-4/
END:VEVENT
BEGIN:VEVENT
DTSTART;TZID=UTC:20240817T000000
DTEND;TZID=UTC:20240817T000000
DTSTAMP:20260422T145216
CREATED:20240205T113015Z
LAST-MODIFIED:20240205T113015Z
UID:3503-1723852800-1723852800@ministranci.waw.pl
SUMMARY:św. Jacka
DESCRIPTION:kapłana
URL:https://ministranci.waw.pl/event/sw-jacka/
END:VEVENT
BEGIN:VEVENT
DTSTART;TZID=UTC:20240816T000000
DTEND;TZID=UTC:20240816T000000
DTSTAMP:20260422T145216
CREATED:20240205T113011Z
LAST-MODIFIED:20240205T113011Z
UID:3502-1723766400-1723766400@ministranci.waw.pl
SUMMARY:św. Stefana Węgierskiego
DESCRIPTION:
URL:https://ministranci.waw.pl/event/sw-stefana-wegierskiego-2/
END:VEVENT
END:VCALENDAR