BEGIN:VCALENDAR
VERSION:2.0
PRODID:-//Liturgiczna Służba Ołtarza - ECPv6.15.18//NONSGML v1.0//EN
CALSCALE:GREGORIAN
METHOD:PUBLISH
X-WR-CALNAME:Liturgiczna Służba Ołtarza
X-ORIGINAL-URL:https://ministranci.waw.pl
X-WR-CALDESC:Wydarzenia dla Liturgiczna Służba Ołtarza
REFRESH-INTERVAL;VALUE=DURATION:PT1H
X-Robots-Tag:noindex
X-PUBLISHED-TTL:PT1H
BEGIN:VTIMEZONE
TZID:UTC
BEGIN:STANDARD
TZOFFSETFROM:+0000
TZOFFSETTO:+0000
TZNAME:UTC
DTSTART:20230101T000000
END:STANDARD
END:VTIMEZONE
BEGIN:VEVENT
DTSTART;TZID=UTC:20241028T000000
DTEND;TZID=UTC:20241028T000000
DTSTAMP:20260422T094602
CREATED:20240205T113149Z
LAST-MODIFIED:20240205T113149Z
UID:3571-1730073600-1730073600@ministranci.waw.pl
SUMMARY:św. Szymona i Judy Tadeusza
DESCRIPTION:Wspomnienie św. apostołów Szymona i Judy Tadeusza.
URL:https://ministranci.waw.pl/event/sw-szymona-i-judy-tadeusza-2/
END:VEVENT
BEGIN:VEVENT
DTSTART;TZID=UTC:20241024T000000
DTEND;TZID=UTC:20241024T000000
DTSTAMP:20260422T094602
CREATED:20240205T113149Z
LAST-MODIFIED:20240205T113149Z
UID:3570-1729728000-1729728000@ministranci.waw.pl
SUMMARY:św. Antoniego Marii Clareta
DESCRIPTION:Wspomnienie św. Antoniego Marii Clareta
URL:https://ministranci.waw.pl/event/sw-antoniego-marii-clareta-2/
END:VEVENT
BEGIN:VEVENT
DTSTART;TZID=UTC:20241023T000000
DTEND;TZID=UTC:20241023T000000
DTSTAMP:20260422T094602
CREATED:20240205T113149Z
LAST-MODIFIED:20240205T113149Z
UID:3569-1729641600-1729641600@ministranci.waw.pl
SUMMARY:św. Jana Kapistrana
DESCRIPTION:Wspomnienie św. Jana Kapistrana
URL:https://ministranci.waw.pl/event/sw-jana-kapistrana-2/
END:VEVENT
BEGIN:VEVENT
DTSTART;TZID=UTC:20241021T000000
DTEND;TZID=UTC:20241021T000000
DTSTAMP:20260422T094602
CREATED:20240205T113149Z
LAST-MODIFIED:20240205T113149Z
UID:3568-1729468800-1729468800@ministranci.waw.pl
SUMMARY:bł. Jakuba Strzemię
DESCRIPTION:Wspomnienie bł. Jakuba Strzemię
URL:https://ministranci.waw.pl/event/bl-jakuba-strzemie-2/
END:VEVENT
BEGIN:VEVENT
DTSTART;TZID=UTC:20241020T000000
DTEND;TZID=UTC:20241020T000000
DTSTAMP:20260422T094602
CREATED:20240205T113145Z
LAST-MODIFIED:20240205T113146Z
UID:3562-1729382400-1729382400@ministranci.waw.pl
SUMMARY:św. Jana Kantego
DESCRIPTION:Wspomnienie św. Jana Kantego
URL:https://ministranci.waw.pl/event/sw-jana-kantego-2/
END:VEVENT
BEGIN:VEVENT
DTSTART;TZID=UTC:20241019T000000
DTEND;TZID=UTC:20241019T000000
DTSTAMP:20260422T094602
CREATED:20240205T113145Z
LAST-MODIFIED:20240205T113146Z
UID:3560-1729296000-1729296000@ministranci.waw.pl
SUMMARY:św. Pawła od krzyża
DESCRIPTION:Wspomnienie św. Pawła od krzyża
URL:https://ministranci.waw.pl/event/sw-pawla-od-krzyza-2/
END:VEVENT
BEGIN:VEVENT
DTSTART;TZID=UTC:20241019T000000
DTEND;TZID=UTC:20241019T000000
DTSTAMP:20260422T094602
CREATED:20240205T113145Z
LAST-MODIFIED:20240205T113146Z
UID:3561-1729296000-1729296000@ministranci.waw.pl
SUMMARY:św. Jana i Izaaka
DESCRIPTION:Wspomnienie świętych męczenników Jana de Brebeuf
URL:https://ministranci.waw.pl/event/sw-jana-i-izaaka-2/
END:VEVENT
BEGIN:VEVENT
DTSTART;TZID=UTC:20241018T000000
DTEND;TZID=UTC:20241018T000000
DTSTAMP:20260422T094602
CREATED:20240205T113145Z
LAST-MODIFIED:20240205T113146Z
UID:3559-1729209600-1729209600@ministranci.waw.pl
SUMMARY:św. Łukasza
DESCRIPTION:Ewangelisty
URL:https://ministranci.waw.pl/event/sw-lukasza/
END:VEVENT
BEGIN:VEVENT
DTSTART;TZID=UTC:20241017T000000
DTEND;TZID=UTC:20241017T000000
DTSTAMP:20260422T094602
CREATED:20240205T113145Z
LAST-MODIFIED:20240205T113146Z
UID:3558-1729123200-1729123200@ministranci.waw.pl
SUMMARY:św. Ignacego Antiocheńskiego
DESCRIPTION:Wspomnienie św. Ignacego Antiocheńskiego
URL:https://ministranci.waw.pl/event/sw-ignacego-antiochenskiego-2/
END:VEVENT
BEGIN:VEVENT
DTSTART;TZID=UTC:20241016T000000
DTEND;TZID=UTC:20241016T000000
DTSTAMP:20260422T094602
CREATED:20240205T113133Z
LAST-MODIFIED:20240205T113133Z
UID:3557-1729036800-1729036800@ministranci.waw.pl
SUMMARY:św. Jadwigi Śląskiej
DESCRIPTION:W archidiecezji wrocławskiej i w diecezjach katowickiej i opolskiej: Głównej patronki Śląska jest to Uroczystość.
URL:https://ministranci.waw.pl/event/sw-jadwigi-slaskiej-2/
END:VEVENT
BEGIN:VEVENT
DTSTART;TZID=UTC:20241015T000000
DTEND;TZID=UTC:20241015T000000
DTSTAMP:20260422T094602
CREATED:20240205T113133Z
LAST-MODIFIED:20240205T113133Z
UID:3556-1728950400-1728950400@ministranci.waw.pl
SUMMARY:św. Teresy od Jezusa
DESCRIPTION:Wspomnienie św. Teresy od Jezusa
URL:https://ministranci.waw.pl/event/sw-teresy-od-jezusa-2/
END:VEVENT
BEGIN:VEVENT
DTSTART;TZID=UTC:20241014T000000
DTEND;TZID=UTC:20241014T000000
DTSTAMP:20260422T094602
CREATED:20240205T113133Z
LAST-MODIFIED:20240205T113133Z
UID:3555-1728864000-1728864000@ministranci.waw.pl
SUMMARY:św. Kaliksta I
DESCRIPTION:Wspomnienie św. Kaliksta I
URL:https://ministranci.waw.pl/event/sw-kaliksta-i-2/
END:VEVENT
BEGIN:VEVENT
DTSTART;TZID=UTC:20241014T000000
DTEND;TZID=UTC:20241014T000000
DTSTAMP:20260422T094602
CREATED:20240205T113132Z
LAST-MODIFIED:20240205T113132Z
UID:3554-1728864000-1728864000@ministranci.waw.pl
SUMMARY:św. Małgorzaty Marii Alacoque
DESCRIPTION:Wspomnienie św. Małgorzaty Marii Alacoque
URL:https://ministranci.waw.pl/event/sw-malgorzaty-marii-alacoque-2/
END:VEVENT
BEGIN:VEVENT
DTSTART;TZID=UTC:20241014T000000
DTEND;TZID=UTC:20241014T000000
DTSTAMP:20260422T094602
CREATED:20240205T113132Z
LAST-MODIFIED:20240205T113132Z
UID:3553-1728864000-1728864000@ministranci.waw.pl
SUMMARY:św. Radzima Gaudentego
DESCRIPTION:Wspomnienie św. Radzima Gaudentego
URL:https://ministranci.waw.pl/event/sw-radzima-gaudentego-2/
END:VEVENT
BEGIN:VEVENT
DTSTART;TZID=UTC:20241013T000000
DTEND;TZID=UTC:20241013T000000
DTSTAMP:20260422T094602
CREATED:20240205T113126Z
LAST-MODIFIED:20240205T113126Z
UID:3552-1728777600-1728777600@ministranci.waw.pl
SUMMARY:bł. Honorata Koźmińskiego
DESCRIPTION:Wspomnienie bł. Honorata Koźmińskiego
URL:https://ministranci.waw.pl/event/bl-honorata-kozminskiego-2/
END:VEVENT
BEGIN:VEVENT
DTSTART;TZID=UTC:20241010T000000
DTEND;TZID=UTC:20241010T000000
DTSTAMP:20260422T094602
CREATED:20240205T113126Z
LAST-MODIFIED:20240205T113126Z
UID:3550-1728518400-1728518400@ministranci.waw.pl
SUMMARY:św. Dionizego
DESCRIPTION:Wspomnienie świętych męczenników Dionizego
URL:https://ministranci.waw.pl/event/sw-dionizego-2/
END:VEVENT
BEGIN:VEVENT
DTSTART;TZID=UTC:20241010T000000
DTEND;TZID=UTC:20241010T000000
DTSTAMP:20260422T094602
CREATED:20240205T113126Z
LAST-MODIFIED:20240205T113126Z
UID:3551-1728518400-1728518400@ministranci.waw.pl
SUMMARY:św. Jana Leonardiego
DESCRIPTION:Wspomnienie św. Jana Leonardiego
URL:https://ministranci.waw.pl/event/sw-jana-leonardiego-2/
END:VEVENT
BEGIN:VEVENT
DTSTART;TZID=UTC:20241009T000000
DTEND;TZID=UTC:20241009T000000
DTSTAMP:20260422T094602
CREATED:20240205T113126Z
LAST-MODIFIED:20240205T113126Z
UID:3549-1728432000-1728432000@ministranci.waw.pl
SUMMARY:bł. Wincentego Kadłubka
DESCRIPTION:Wspomnienie bł. Wincentego Kadłubka
URL:https://ministranci.waw.pl/event/bl-wincentego-kadlubka-2/
END:VEVENT
BEGIN:VEVENT
DTSTART;TZID=UTC:20241007T000000
DTEND;TZID=UTC:20241007T000000
DTSTAMP:20260422T094602
CREATED:20240205T113126Z
LAST-MODIFIED:20240205T113126Z
UID:3548-1728259200-1728259200@ministranci.waw.pl
SUMMARY:Najświętszej Maryi Panny Różańcowej
DESCRIPTION:
URL:https://ministranci.waw.pl/event/najswietszej-maryi-panny-rozancowej-2/
END:VEVENT
BEGIN:VEVENT
DTSTART;TZID=UTC:20241006T000000
DTEND;TZID=UTC:20241006T000000
DTSTAMP:20260422T094602
CREATED:20240205T113115Z
LAST-MODIFIED:20240205T113116Z
UID:3542-1728172800-1728172800@ministranci.waw.pl
SUMMARY:św. Brunona
DESCRIPTION:Wspomnienie św. Brunona
URL:https://ministranci.waw.pl/event/sw-brunona-2/
END:VEVENT
BEGIN:VEVENT
DTSTART;TZID=UTC:20241004T000000
DTEND;TZID=UTC:20241004T000000
DTSTAMP:20260422T094602
CREATED:20240205T113114Z
LAST-MODIFIED:20240205T113116Z
UID:3541-1728000000-1728000000@ministranci.waw.pl
SUMMARY:św. Franciszka z Asyżu
DESCRIPTION:Wspomnienie św. Franciszka z Asyżu.
URL:https://ministranci.waw.pl/event/sw-franciszka-z-asyzu-2/
END:VEVENT
BEGIN:VEVENT
DTSTART;TZID=UTC:20241003T000000
DTEND;TZID=UTC:20241003T000000
DTSTAMP:20260422T094602
CREATED:20240205T113114Z
LAST-MODIFIED:20240205T113116Z
UID:3540-1727913600-1727913600@ministranci.waw.pl
SUMMARY:bł. Jana z Dukli
DESCRIPTION:Wspomnienie bł. Jana z Dukli
URL:https://ministranci.waw.pl/event/bl-jana-z-dukli-2/
END:VEVENT
BEGIN:VEVENT
DTSTART;TZID=UTC:20241002T000000
DTEND;TZID=UTC:20241002T000000
DTSTAMP:20260422T094602
CREATED:20240205T113114Z
LAST-MODIFIED:20240205T113116Z
UID:3539-1727827200-1727827200@ministranci.waw.pl
SUMMARY:Świętych Aniołów Stróżów
DESCRIPTION:
URL:https://ministranci.waw.pl/event/swietych-aniolow-strozow-2/
END:VEVENT
BEGIN:VEVENT
DTSTART;TZID=UTC:20241001T000000
DTEND;TZID=UTC:20241001T000000
DTSTAMP:20260422T094602
CREATED:20240205T113114Z
LAST-MODIFIED:20240205T113116Z
UID:3538-1727740800-1727740800@ministranci.waw.pl
SUMMARY:św. Teresy od Dzieciątka Jezus
DESCRIPTION:Wspomnienie św. Teresy od Dzieciątka Jezus
URL:https://ministranci.waw.pl/event/sw-teresy-od-dzieciatka-jezus-2/
END:VEVENT
BEGIN:VEVENT
DTSTART;TZID=UTC:20240930T000000
DTEND;TZID=UTC:20240930T000000
DTSTAMP:20260422T094602
CREATED:20240205T113059Z
LAST-MODIFIED:20240205T113059Z
UID:3537-1727654400-1727654400@ministranci.waw.pl
SUMMARY:św. Hieronima
DESCRIPTION:Wspomnienie św. Hieronima
URL:https://ministranci.waw.pl/event/sw-hieronima-2/
END:VEVENT
BEGIN:VEVENT
DTSTART;TZID=UTC:20240929T000000
DTEND;TZID=UTC:20240929T000000
DTSTAMP:20260422T094602
CREATED:20240205T113059Z
LAST-MODIFIED:20240205T113059Z
UID:3536-1727568000-1727568000@ministranci.waw.pl
SUMMARY:św. Archaniołów Michała
DESCRIPTION:Gabriela i Rafała
URL:https://ministranci.waw.pl/event/sw-archaniolow-michala/
END:VEVENT
BEGIN:VEVENT
DTSTART;TZID=UTC:20240928T000000
DTEND;TZID=UTC:20240928T000000
DTSTAMP:20260422T094602
CREATED:20240205T113059Z
LAST-MODIFIED:20240205T113059Z
UID:3535-1727481600-1727481600@ministranci.waw.pl
SUMMARY:św. Wacława
DESCRIPTION:Wspomnienie św. Wacława
URL:https://ministranci.waw.pl/event/sw-waclawa-2/
END:VEVENT
BEGIN:VEVENT
DTSTART;TZID=UTC:20240927T000000
DTEND;TZID=UTC:20240927T000000
DTSTAMP:20260422T094602
CREATED:20240205T113059Z
LAST-MODIFIED:20240205T113059Z
UID:3534-1727395200-1727395200@ministranci.waw.pl
SUMMARY:św. Wincentego a Paulo
DESCRIPTION:
URL:https://ministranci.waw.pl/event/sw-wincentego-a-paulo-2/
END:VEVENT
BEGIN:VEVENT
DTSTART;TZID=UTC:20240926T000000
DTEND;TZID=UTC:20240926T000000
DTSTAMP:20260422T094602
CREATED:20240205T113059Z
LAST-MODIFIED:20240205T113059Z
UID:3533-1727308800-1727308800@ministranci.waw.pl
SUMMARY:św. Kosmy i Damiana
DESCRIPTION:Wspomnienie św. męczenników Kosmy i Damiana
URL:https://ministranci.waw.pl/event/sw-kosmy-i-damiana-2/
END:VEVENT
BEGIN:VEVENT
DTSTART;TZID=UTC:20240926T000000
DTEND;TZID=UTC:20240926T000000
DTSTAMP:20260422T094602
CREATED:20240205T113055Z
LAST-MODIFIED:20240205T113055Z
UID:3532-1727308800-1727308800@ministranci.waw.pl
SUMMARY:św. Wawrzyńca Ruiz
DESCRIPTION:Wspomnienie św. męczenników Wawrzyńca Ruiz i towarzyszy.
URL:https://ministranci.waw.pl/event/sw-wawrzynca-ruiz-2/
END:VEVENT
END:VCALENDAR