BEGIN:VCALENDAR
VERSION:2.0
PRODID:-//Liturgiczna Służba Ołtarza - ECPv6.15.18//NONSGML v1.0//EN
CALSCALE:GREGORIAN
METHOD:PUBLISH
X-WR-CALNAME:Liturgiczna Służba Ołtarza
X-ORIGINAL-URL:https://ministranci.waw.pl
X-WR-CALDESC:Wydarzenia dla Liturgiczna Służba Ołtarza
REFRESH-INTERVAL;VALUE=DURATION:PT1H
X-Robots-Tag:noindex
X-PUBLISHED-TTL:PT1H
BEGIN:VTIMEZONE
TZID:UTC
BEGIN:STANDARD
TZOFFSETFROM:+0000
TZOFFSETTO:+0000
TZNAME:UTC
DTSTART:20230101T000000
END:STANDARD
END:VTIMEZONE
BEGIN:VEVENT
DTSTART;TZID=UTC:20250112T000000
DTEND;TZID=UTC:20250113T000000
DTSTAMP:20260422T012308
CREATED:20241226T172225Z
LAST-MODIFIED:20241226T172225Z
UID:3716-1736640000-1736726400@ministranci.waw.pl
SUMMARY:Święto Chrzest Pański
DESCRIPTION:
URL:https://ministranci.waw.pl/event/swieto-chrzest-panski/
END:VEVENT
BEGIN:VEVENT
DTSTART;TZID=UTC:20250111T000000
DTEND;TZID=UTC:20250112T000000
DTSTAMP:20260422T012308
CREATED:20241226T172225Z
LAST-MODIFIED:20241226T172225Z
UID:3715-1736553600-1736640000@ministranci.waw.pl
SUMMARY:Sobota po Objawieniu Pańskim
DESCRIPTION:
URL:https://ministranci.waw.pl/event/sobota-po-objawieniu-panskim/
END:VEVENT
BEGIN:VEVENT
DTSTART;TZID=UTC:20250110T000000
DTEND;TZID=UTC:20250111T000000
DTSTAMP:20260422T012308
CREATED:20241226T172224Z
LAST-MODIFIED:20241226T172224Z
UID:3714-1736467200-1736553600@ministranci.waw.pl
SUMMARY:Piątek po Objawieniu Pańskim
DESCRIPTION:
URL:https://ministranci.waw.pl/event/piatek-po-objawieniu-panskim/
END:VEVENT
BEGIN:VEVENT
DTSTART;TZID=UTC:20250109T000000
DTEND;TZID=UTC:20250110T000000
DTSTAMP:20260422T012308
CREATED:20241226T172224Z
LAST-MODIFIED:20241226T172224Z
UID:3713-1736380800-1736467200@ministranci.waw.pl
SUMMARY:Czwartek po Objawieniu Pańskim
DESCRIPTION:
URL:https://ministranci.waw.pl/event/czwartek-po-objawieniu-panskim/
END:VEVENT
BEGIN:VEVENT
DTSTART;TZID=UTC:20250108T000000
DTEND;TZID=UTC:20250109T000000
DTSTAMP:20260422T012308
CREATED:20241226T172223Z
LAST-MODIFIED:20241226T172223Z
UID:3712-1736294400-1736380800@ministranci.waw.pl
SUMMARY:Środa po Objawieniu Pańskim
DESCRIPTION:
URL:https://ministranci.waw.pl/event/sroda-po-objawieniu-panskim/
END:VEVENT
BEGIN:VEVENT
DTSTART;TZID=UTC:20250107T000000
DTEND;TZID=UTC:20250108T000000
DTSTAMP:20260422T012308
CREATED:20241226T172223Z
LAST-MODIFIED:20241226T172223Z
UID:3710-1736208000-1736294400@ministranci.waw.pl
SUMMARY:Wtorek po Objawieniu Pańskim
DESCRIPTION:
URL:https://ministranci.waw.pl/event/wtorek-po-objawieniu-panskim/
END:VEVENT
BEGIN:VEVENT
DTSTART;TZID=UTC:20250107T000000
DTEND;TZID=UTC:20250108T000000
DTSTAMP:20260422T012308
CREATED:20241226T172223Z
LAST-MODIFIED:20241226T172223Z
UID:3711-1736208000-1736294400@ministranci.waw.pl
SUMMARY:Wspomnienie Św. Rajmunda z Penyafort prezbitera
DESCRIPTION:
URL:https://ministranci.waw.pl/event/wspomnienie-sw-rajmunda-z-penyafort-prezbitera/
END:VEVENT
BEGIN:VEVENT
DTSTART;TZID=UTC:20250106T000000
DTEND;TZID=UTC:20250107T000000
DTSTAMP:20260422T012308
CREATED:20241226T172223Z
LAST-MODIFIED:20241226T172223Z
UID:3709-1736121600-1736208000@ministranci.waw.pl
SUMMARY:Uroczystość Objawienie Pańskie
DESCRIPTION:
URL:https://ministranci.waw.pl/event/uroczystosc-objawienie-panskie/
END:VEVENT
BEGIN:VEVENT
DTSTART;TZID=UTC:20250105T000000
DTEND;TZID=UTC:20250106T000000
DTSTAMP:20260422T012308
CREATED:20241226T172223Z
LAST-MODIFIED:20241226T172223Z
UID:3708-1736035200-1736121600@ministranci.waw.pl
SUMMARY:II Niedziela po Bożym Narodzeniu
DESCRIPTION:
URL:https://ministranci.waw.pl/event/ii-niedziela-po-bozym-narodzeniu/
END:VEVENT
BEGIN:VEVENT
DTSTART;TZID=UTC:20250104T000000
DTEND;TZID=UTC:20250105T000000
DTSTAMP:20260422T012308
CREATED:20241226T172222Z
LAST-MODIFIED:20241226T172222Z
UID:3707-1735948800-1736035200@ministranci.waw.pl
SUMMARY:Sobota przed Objawieniem Pańskim
DESCRIPTION:
URL:https://ministranci.waw.pl/event/sobota-przed-objawieniem-panskim/
END:VEVENT
BEGIN:VEVENT
DTSTART;TZID=UTC:20250103T000000
DTEND;TZID=UTC:20250104T000000
DTSTAMP:20260422T012308
CREATED:20241226T172222Z
LAST-MODIFIED:20241226T172222Z
UID:3705-1735862400-1735948800@ministranci.waw.pl
SUMMARY:Piątek przed Objawieniem Pańskim
DESCRIPTION:
URL:https://ministranci.waw.pl/event/piatek-przed-objawieniem-panskim/
END:VEVENT
BEGIN:VEVENT
DTSTART;TZID=UTC:20250103T000000
DTEND;TZID=UTC:20250104T000000
DTSTAMP:20260422T012308
CREATED:20241226T172222Z
LAST-MODIFIED:20241226T172222Z
UID:3706-1735862400-1735948800@ministranci.waw.pl
SUMMARY:Wspomnienie Najświętszego Imienia Jezus
DESCRIPTION:
URL:https://ministranci.waw.pl/event/wspomnienie-najswietszego-imienia-jezus/
END:VEVENT
BEGIN:VEVENT
DTSTART;TZID=UTC:20250102T000000
DTEND;TZID=UTC:20250103T000000
DTSTAMP:20260422T012308
CREATED:20241226T172222Z
LAST-MODIFIED:20241226T172222Z
UID:3704-1735776000-1735862400@ministranci.waw.pl
SUMMARY:Wspomnienie Świętych Bazylego Wielkiego i Grzegorza z Nazjanzu biskupów i doktorów Kościoła
DESCRIPTION:
URL:https://ministranci.waw.pl/event/wspomnienie-swietych-bazylego-wielkiego-i-grzegorza-z-nazjanzu-biskupow-i-doktorow-kosciola/
END:VEVENT
BEGIN:VEVENT
DTSTART;TZID=UTC:20250101T000000
DTEND;TZID=UTC:20250102T000000
DTSTAMP:20260422T012308
CREATED:20241226T172221Z
LAST-MODIFIED:20241226T172221Z
UID:3703-1735689600-1735776000@ministranci.waw.pl
SUMMARY:Uroczystość Świętej Bożej Rodzicielki Maryi
DESCRIPTION:
URL:https://ministranci.waw.pl/event/uroczystosc-swietej-bozej-rodzicielki-maryi/
END:VEVENT
BEGIN:VEVENT
DTSTART;TZID=UTC:20241225T000000
DTEND;TZID=UTC:20241225T000000
DTSTAMP:20260422T012308
CREATED:20240205T113239Z
LAST-MODIFIED:20240205T113240Z
UID:3612-1735084800-1735084800@ministranci.waw.pl
SUMMARY:Uroczystość Narodzenia Pańskiego
DESCRIPTION:Święto Bożego Narodzenia to drugie co do ważności (za Wielkanocą) święto chrześcijańskie. Wspominamy prawdę
URL:https://ministranci.waw.pl/event/uroczystosc-narodzenia-panskiego-2/
END:VEVENT
BEGIN:VEVENT
DTSTART;TZID=UTC:20241224T000000
DTEND;TZID=UTC:20241224T000000
DTSTAMP:20260422T012308
CREATED:20240205T113239Z
LAST-MODIFIED:20240205T113240Z
UID:3611-1734998400-1734998400@ministranci.waw.pl
SUMMARY:Wigilia Bożego Narodzenia
DESCRIPTION:Dzień poprzedzający Uroczystość Narodzenia Pańskiego. Tradycją tego dnia jest rodzinna uroczysta kolacja
URL:https://ministranci.waw.pl/event/wigilia-bozego-narodzenia-2/
END:VEVENT
BEGIN:VEVENT
DTSTART;TZID=UTC:20241221T000000
DTEND;TZID=UTC:20241221T000000
DTSTAMP:20260422T012308
CREATED:20240205T113239Z
LAST-MODIFIED:20240205T113240Z
UID:3610-1734739200-1734739200@ministranci.waw.pl
SUMMARY:św. Piotra Kanizjusza
DESCRIPTION:Wspomnienie dodatkowe świętego Piotra Kanizjusza
URL:https://ministranci.waw.pl/event/sw-piotra-kanizjusza-2/
END:VEVENT
BEGIN:VEVENT
DTSTART;TZID=UTC:20241214T000000
DTEND;TZID=UTC:20241214T000000
DTSTAMP:20260422T012308
CREATED:20240205T113238Z
LAST-MODIFIED:20240205T113239Z
UID:3609-1734134400-1734134400@ministranci.waw.pl
SUMMARY:św. Jana od krzyża
DESCRIPTION:Wspomnienie świętego Jana od krzyża
URL:https://ministranci.waw.pl/event/sw-jana-od-krzyza-2/
END:VEVENT
BEGIN:VEVENT
DTSTART;TZID=UTC:20241213T000000
DTEND;TZID=UTC:20241213T000000
DTSTAMP:20260422T012308
CREATED:20240205T113238Z
LAST-MODIFIED:20240205T113239Z
UID:3608-1734048000-1734048000@ministranci.waw.pl
SUMMARY:św. Łucji
DESCRIPTION:Wspomnienie świętej Łucji
URL:https://ministranci.waw.pl/event/sw-lucji-2/
END:VEVENT
BEGIN:VEVENT
DTSTART;TZID=UTC:20241212T000000
DTEND;TZID=UTC:20241212T000000
DTSTAMP:20260422T012308
CREATED:20240205T113229Z
LAST-MODIFIED:20240205T113229Z
UID:3607-1733961600-1733961600@ministranci.waw.pl
SUMMARY:św. Joanny Franciszki de Chantal
DESCRIPTION:Wspomnienie świętej Joanny Franciszki de Chantal
URL:https://ministranci.waw.pl/event/sw-joanny-franciszki-de-chantal-2/
END:VEVENT
BEGIN:VEVENT
DTSTART;TZID=UTC:20241211T000000
DTEND;TZID=UTC:20241211T000000
DTSTAMP:20260422T012308
CREATED:20240205T113229Z
LAST-MODIFIED:20240205T113229Z
UID:3606-1733875200-1733875200@ministranci.waw.pl
SUMMARY:św. Damazego I
DESCRIPTION:Wspomnienie świętego Damazego I
URL:https://ministranci.waw.pl/event/sw-damazego-i-2/
END:VEVENT
BEGIN:VEVENT
DTSTART;TZID=UTC:20241208T000000
DTEND;TZID=UTC:20241208T000000
DTSTAMP:20260422T012308
CREATED:20240205T113229Z
LAST-MODIFIED:20240205T113229Z
UID:3605-1733616000-1733616000@ministranci.waw.pl
SUMMARY:Uroczystość Niepokalanego Poczęcia Najświętszej Maryi Panny
DESCRIPTION:Wspomnienie zachowania Maryi od grzechu pierworodnego.
URL:https://ministranci.waw.pl/event/uroczystosc-niepokalanego-poczecia-najswietszej-maryi-panny-2/
END:VEVENT
BEGIN:VEVENT
DTSTART;TZID=UTC:20241207T000000
DTEND;TZID=UTC:20241207T000000
DTSTAMP:20260422T012308
CREATED:20240205T113229Z
LAST-MODIFIED:20240205T113229Z
UID:3604-1733529600-1733529600@ministranci.waw.pl
SUMMARY:św. Ambrożego
DESCRIPTION:Wspomnienie świętego Ambrożego
URL:https://ministranci.waw.pl/event/sw-ambrozego-2/
END:VEVENT
BEGIN:VEVENT
DTSTART;TZID=UTC:20241206T000000
DTEND;TZID=UTC:20241206T000000
DTSTAMP:20260422T012308
CREATED:20240205T113228Z
LAST-MODIFIED:20240205T113228Z
UID:3603-1733443200-1733443200@ministranci.waw.pl
SUMMARY:św. Mikołaja
DESCRIPTION:Wspomnienie świętego Mikołaja
URL:https://ministranci.waw.pl/event/sw-mikolaja-2/
END:VEVENT
BEGIN:VEVENT
DTSTART;TZID=UTC:20241204T000000
DTEND;TZID=UTC:20241204T000000
DTSTAMP:20260422T012308
CREATED:20240205T113227Z
LAST-MODIFIED:20240205T113227Z
UID:3602-1733270400-1733270400@ministranci.waw.pl
SUMMARY:św. Barbary
DESCRIPTION:Wspomnienie świętej Barbary
URL:https://ministranci.waw.pl/event/sw-barbary-2/
END:VEVENT
BEGIN:VEVENT
DTSTART;TZID=UTC:20241204T000000
DTEND;TZID=UTC:20241204T000000
DTSTAMP:20260422T012308
CREATED:20240205T113227Z
LAST-MODIFIED:20240205T113227Z
UID:3601-1733270400-1733270400@ministranci.waw.pl
SUMMARY:św. Jana Damasceńskiego
DESCRIPTION:Wspomnienie świętego Jana Damasceńskiego
URL:https://ministranci.waw.pl/event/sw-jana-damascenskiego-2/
END:VEVENT
BEGIN:VEVENT
DTSTART;TZID=UTC:20241203T000000
DTEND;TZID=UTC:20241203T000000
DTSTAMP:20260422T012308
CREATED:20240205T113227Z
LAST-MODIFIED:20240205T113227Z
UID:3600-1733184000-1733184000@ministranci.waw.pl
SUMMARY:Franciszka Ksawerego
DESCRIPTION:Wspomnienie świętego Franciszka Ksawerego
URL:https://ministranci.waw.pl/event/franciszka-ksawerego-2/
END:VEVENT
BEGIN:VEVENT
DTSTART;TZID=UTC:20241130T000000
DTEND;TZID=UTC:20241130T000000
DTSTAMP:20260422T012308
CREATED:20240205T113227Z
LAST-MODIFIED:20240205T113227Z
UID:3599-1732924800-1732924800@ministranci.waw.pl
SUMMARY:św. Andrzeja
DESCRIPTION:apostoła
URL:https://ministranci.waw.pl/event/sw-andrzeja/
END:VEVENT
BEGIN:VEVENT
DTSTART;TZID=UTC:20241125T000000
DTEND;TZID=UTC:20241125T000000
DTSTAMP:20260422T012308
CREATED:20240205T113227Z
LAST-MODIFIED:20240205T113227Z
UID:3598-1732492800-1732492800@ministranci.waw.pl
SUMMARY:bł. Marii od Pana Jezusa Dobrego Pasterza
DESCRIPTION:Wspomnienie dowolne błogosławionej Marii od Pana Jezusa Dobrego Pasterza
URL:https://ministranci.waw.pl/event/bl-marii-od-pana-jezusa-dobrego-pasterza-2/
END:VEVENT
BEGIN:VEVENT
DTSTART;TZID=UTC:20241124T000000
DTEND;TZID=UTC:20241124T000000
DTSTAMP:20260422T012308
CREATED:20240205T113225Z
LAST-MODIFIED:20240205T113225Z
UID:3597-1732406400-1732406400@ministranci.waw.pl
SUMMARY:św. Andrzeja Dung-Lac
DESCRIPTION:Wspomnienie obowiązkowe świętych męczenników Andrzeja Dung-Lac
URL:https://ministranci.waw.pl/event/sw-andrzeja-dung-lac-2/
END:VEVENT
END:VCALENDAR