BEGIN:VCALENDAR
VERSION:2.0
PRODID:-//Liturgiczna Służba Ołtarza - ECPv6.15.18//NONSGML v1.0//EN
CALSCALE:GREGORIAN
METHOD:PUBLISH
X-WR-CALNAME:Liturgiczna Służba Ołtarza
X-ORIGINAL-URL:https://ministranci.waw.pl
X-WR-CALDESC:Wydarzenia dla Liturgiczna Służba Ołtarza
REFRESH-INTERVAL;VALUE=DURATION:PT1H
X-Robots-Tag:noindex
X-PUBLISHED-TTL:PT1H
BEGIN:VTIMEZONE
TZID:UTC
BEGIN:STANDARD
TZOFFSETFROM:+0000
TZOFFSETTO:+0000
TZNAME:UTC
DTSTART:20240101T000000
END:STANDARD
END:VTIMEZONE
BEGIN:VEVENT
DTSTART;TZID=UTC:20250201T000000
DTEND;TZID=UTC:20250202T000000
DTSTAMP:20260421T200045
CREATED:20241226T172417Z
LAST-MODIFIED:20241226T172417Z
UID:3743-1738368000-1738454400@ministranci.waw.pl
SUMMARY:Sobota III tygodnia zwykłego
DESCRIPTION:
URL:https://ministranci.waw.pl/event/sobota-iii-tygodnia-zwyklego/
END:VEVENT
BEGIN:VEVENT
DTSTART;TZID=UTC:20250201T000000
DTEND;TZID=UTC:20250202T000000
DTSTAMP:20260421T200045
CREATED:20241226T172417Z
LAST-MODIFIED:20241226T172417Z
UID:3744-1738368000-1738454400@ministranci.waw.pl
SUMMARY:Wspomnienie Najświętszej Maryi Panny
DESCRIPTION:
URL:https://ministranci.waw.pl/event/wspomnienie-najswietszej-maryi-panny-2/
END:VEVENT
BEGIN:VEVENT
DTSTART;TZID=UTC:20250131T000000
DTEND;TZID=UTC:20250201T000000
DTSTAMP:20260421T200045
CREATED:20241226T172403Z
LAST-MODIFIED:20241226T172403Z
UID:3742-1738281600-1738368000@ministranci.waw.pl
SUMMARY:Wspomnienie Św. Jana Bosko prezbitera
DESCRIPTION:
URL:https://ministranci.waw.pl/event/wspomnienie-sw-jana-bosko-prezbitera/
END:VEVENT
BEGIN:VEVENT
DTSTART;TZID=UTC:20250130T000000
DTEND;TZID=UTC:20250131T000000
DTSTAMP:20260421T200045
CREATED:20241226T172402Z
LAST-MODIFIED:20241226T172402Z
UID:3741-1738195200-1738281600@ministranci.waw.pl
SUMMARY:Czwartek III tygodnia zwykłego
DESCRIPTION:
URL:https://ministranci.waw.pl/event/czwartek-iii-tygodnia-zwyklego/
END:VEVENT
BEGIN:VEVENT
DTSTART;TZID=UTC:20250129T000000
DTEND;TZID=UTC:20250130T000000
DTSTAMP:20260421T200045
CREATED:20241226T172402Z
LAST-MODIFIED:20241226T172402Z
UID:3740-1738108800-1738195200@ministranci.waw.pl
SUMMARY:Środa III tygodnia zwykłego
DESCRIPTION:
URL:https://ministranci.waw.pl/event/sroda-iii-tygodnia-zwyklego/
END:VEVENT
BEGIN:VEVENT
DTSTART;TZID=UTC:20250128T000000
DTEND;TZID=UTC:20250129T000000
DTSTAMP:20260421T200045
CREATED:20241226T172402Z
LAST-MODIFIED:20241226T172402Z
UID:3739-1738022400-1738108800@ministranci.waw.pl
SUMMARY:Wspomnienie Św. Tomasza z Akwinu prezbitera i doktora Kościoła
DESCRIPTION:
URL:https://ministranci.waw.pl/event/wspomnienie-sw-tomasza-z-akwinu-prezbitera-i-doktora-kosciola/
END:VEVENT
BEGIN:VEVENT
DTSTART;TZID=UTC:20250127T000000
DTEND;TZID=UTC:20250128T000000
DTSTAMP:20260421T200045
CREATED:20241226T172402Z
LAST-MODIFIED:20241226T172402Z
UID:3738-1737936000-1738022400@ministranci.waw.pl
SUMMARY:Wspomnienie Św. Anieli Merici dziewicy
DESCRIPTION:
URL:https://ministranci.waw.pl/event/wspomnienie-sw-anieli-merici-dziewicy/
END:VEVENT
BEGIN:VEVENT
DTSTART;TZID=UTC:20250127T000000
DTEND;TZID=UTC:20250128T000000
DTSTAMP:20260421T200045
CREATED:20241226T172348Z
LAST-MODIFIED:20241226T172348Z
UID:3737-1737936000-1738022400@ministranci.waw.pl
SUMMARY:Poniedziałek III tygodnia zwykłego
DESCRIPTION:
URL:https://ministranci.waw.pl/event/poniedzialek-iii-tygodnia-zwyklego/
END:VEVENT
BEGIN:VEVENT
DTSTART;TZID=UTC:20250126T000000
DTEND;TZID=UTC:20250127T000000
DTSTAMP:20260421T200045
CREATED:20241226T172348Z
LAST-MODIFIED:20241226T172348Z
UID:3736-1737849600-1737936000@ministranci.waw.pl
SUMMARY:III Niedziela Zwykła
DESCRIPTION:
URL:https://ministranci.waw.pl/event/iii-niedziela-zwykla/
END:VEVENT
BEGIN:VEVENT
DTSTART;TZID=UTC:20250125T000000
DTEND;TZID=UTC:20250126T000000
DTSTAMP:20260421T200045
CREATED:20241226T172348Z
LAST-MODIFIED:20241226T172348Z
UID:3735-1737763200-1737849600@ministranci.waw.pl
SUMMARY:Święto Nawrócenie św. Pawła Apostoła
DESCRIPTION:
URL:https://ministranci.waw.pl/event/swieto-nawrocenie-sw-pawla-apostola/
END:VEVENT
BEGIN:VEVENT
DTSTART;TZID=UTC:20250124T000000
DTEND;TZID=UTC:20250125T000000
DTSTAMP:20260421T200045
CREATED:20241226T172347Z
LAST-MODIFIED:20241226T172347Z
UID:3734-1737676800-1737763200@ministranci.waw.pl
SUMMARY:Wspomnienie Św. Franciszka Salezego biskupa i doktora Kościoła
DESCRIPTION:
URL:https://ministranci.waw.pl/event/wspomnienie-sw-franciszka-salezego-biskupa-i-doktora-kosciola/
END:VEVENT
BEGIN:VEVENT
DTSTART;TZID=UTC:20250123T000000
DTEND;TZID=UTC:20250124T000000
DTSTAMP:20260421T200045
CREATED:20241226T172347Z
LAST-MODIFIED:20241226T172347Z
UID:3733-1737590400-1737676800@ministranci.waw.pl
SUMMARY:Czwartek II tygodnia zwykłego
DESCRIPTION:
URL:https://ministranci.waw.pl/event/czwartek-ii-tygodnia-zwyklego/
END:VEVENT
BEGIN:VEVENT
DTSTART;TZID=UTC:20250122T000000
DTEND;TZID=UTC:20250123T000000
DTSTAMP:20260421T200045
CREATED:20241226T172322Z
LAST-MODIFIED:20241226T172322Z
UID:3732-1737504000-1737590400@ministranci.waw.pl
SUMMARY:Wspomnienie Św. Wincentego diakona i męczennika
DESCRIPTION:
URL:https://ministranci.waw.pl/event/wspomnienie-sw-wincentego-diakona-i-meczennika/
END:VEVENT
BEGIN:VEVENT
DTSTART;TZID=UTC:20250122T000000
DTEND;TZID=UTC:20250123T000000
DTSTAMP:20260421T200045
CREATED:20241226T172322Z
LAST-MODIFIED:20241226T172322Z
UID:3730-1737504000-1737590400@ministranci.waw.pl
SUMMARY:Środa II tygodnia zwykłego
DESCRIPTION:
URL:https://ministranci.waw.pl/event/sroda-ii-tygodnia-zwyklego/
END:VEVENT
BEGIN:VEVENT
DTSTART;TZID=UTC:20250122T000000
DTEND;TZID=UTC:20250123T000000
DTSTAMP:20260421T200045
CREATED:20241226T172322Z
LAST-MODIFIED:20241226T172322Z
UID:3731-1737504000-1737590400@ministranci.waw.pl
SUMMARY:Wspomnienie Św. Wincentego Pallottiego prezbitera
DESCRIPTION:
URL:https://ministranci.waw.pl/event/wspomnienie-sw-wincentego-pallottiego-prezbitera/
END:VEVENT
BEGIN:VEVENT
DTSTART;TZID=UTC:20250121T000000
DTEND;TZID=UTC:20250122T000000
DTSTAMP:20260421T200045
CREATED:20241226T172322Z
LAST-MODIFIED:20241226T172322Z
UID:3729-1737417600-1737504000@ministranci.waw.pl
SUMMARY:Wspomnienie Św. Agnieszki dziewicy i męczennicy
DESCRIPTION:
URL:https://ministranci.waw.pl/event/wspomnienie-sw-agnieszki-dziewicy-i-meczennicy/
END:VEVENT
BEGIN:VEVENT
DTSTART;TZID=UTC:20250120T000000
DTEND;TZID=UTC:20250121T000000
DTSTAMP:20260421T200045
CREATED:20241226T172322Z
LAST-MODIFIED:20241226T172322Z
UID:3728-1737331200-1737417600@ministranci.waw.pl
SUMMARY:Wspomnienie Św. Sebastiana męczennika
DESCRIPTION:
URL:https://ministranci.waw.pl/event/wspomnienie-sw-sebastiana-meczennika/
END:VEVENT
BEGIN:VEVENT
DTSTART;TZID=UTC:20250120T000000
DTEND;TZID=UTC:20250121T000000
DTSTAMP:20260421T200045
CREATED:20241226T172304Z
LAST-MODIFIED:20241226T172304Z
UID:3727-1737331200-1737417600@ministranci.waw.pl
SUMMARY:Wspomnienie Św. Fabiana papieża i męczennika
DESCRIPTION:
URL:https://ministranci.waw.pl/event/wspomnienie-sw-fabiana-papieza-i-meczennika/
END:VEVENT
BEGIN:VEVENT
DTSTART;TZID=UTC:20250120T000000
DTEND;TZID=UTC:20250121T000000
DTSTAMP:20260421T200045
CREATED:20241226T172304Z
LAST-MODIFIED:20241226T172304Z
UID:3726-1737331200-1737417600@ministranci.waw.pl
SUMMARY:Poniedziałek II tygodnia zwykłego
DESCRIPTION:
URL:https://ministranci.waw.pl/event/poniedzialek-ii-tygodnia-zwyklego/
END:VEVENT
BEGIN:VEVENT
DTSTART;TZID=UTC:20250119T000000
DTEND;TZID=UTC:20250120T000000
DTSTAMP:20260421T200045
CREATED:20241226T172304Z
LAST-MODIFIED:20241226T172304Z
UID:3725-1737244800-1737331200@ministranci.waw.pl
SUMMARY:II Niedziela Zwykła
DESCRIPTION:
URL:https://ministranci.waw.pl/event/ii-niedziela-zwykla/
END:VEVENT
BEGIN:VEVENT
DTSTART;TZID=UTC:20250118T000000
DTEND;TZID=UTC:20250119T000000
DTSTAMP:20260421T200045
CREATED:20241226T172304Z
LAST-MODIFIED:20241226T172304Z
UID:3723-1737158400-1737244800@ministranci.waw.pl
SUMMARY:Sobota I tygodnia zwykłego
DESCRIPTION:
URL:https://ministranci.waw.pl/event/sobota-i-tygodnia-zwyklego/
END:VEVENT
BEGIN:VEVENT
DTSTART;TZID=UTC:20250118T000000
DTEND;TZID=UTC:20250119T000000
DTSTAMP:20260421T200045
CREATED:20241226T172304Z
LAST-MODIFIED:20241226T172304Z
UID:3724-1737158400-1737244800@ministranci.waw.pl
SUMMARY:Wspomnienie Najświętszej Maryi Panny
DESCRIPTION:
URL:https://ministranci.waw.pl/event/wspomnienie-najswietszej-maryi-panny/
END:VEVENT
BEGIN:VEVENT
DTSTART;TZID=UTC:20250117T000000
DTEND;TZID=UTC:20250118T000000
DTSTAMP:20260421T200045
CREATED:20241226T172240Z
LAST-MODIFIED:20241226T172240Z
UID:3722-1737072000-1737158400@ministranci.waw.pl
SUMMARY:Wspomnienie Św. Antoniego opata
DESCRIPTION:
URL:https://ministranci.waw.pl/event/wspomnienie-sw-antoniego-opata/
END:VEVENT
BEGIN:VEVENT
DTSTART;TZID=UTC:20250116T000000
DTEND;TZID=UTC:20250117T000000
DTSTAMP:20260421T200045
CREATED:20241226T172240Z
LAST-MODIFIED:20241226T172240Z
UID:3721-1736985600-1737072000@ministranci.waw.pl
SUMMARY:Czwartek I tygodnia zwykłego
DESCRIPTION:
URL:https://ministranci.waw.pl/event/czwartek-i-tygodnia-zwyklego/
END:VEVENT
BEGIN:VEVENT
DTSTART;TZID=UTC:20250115T000000
DTEND;TZID=UTC:20250116T000000
DTSTAMP:20260421T200045
CREATED:20241226T172240Z
LAST-MODIFIED:20241226T172240Z
UID:3720-1736899200-1736985600@ministranci.waw.pl
SUMMARY:Środa I tygodnia zwykłego
DESCRIPTION:
URL:https://ministranci.waw.pl/event/sroda-i-tygodnia-zwyklego/
END:VEVENT
BEGIN:VEVENT
DTSTART;TZID=UTC:20250114T000000
DTEND;TZID=UTC:20250115T000000
DTSTAMP:20260421T200045
CREATED:20241226T172240Z
LAST-MODIFIED:20241226T172240Z
UID:3719-1736812800-1736899200@ministranci.waw.pl
SUMMARY:Wtorek I tygodnia zwykłego
DESCRIPTION:
URL:https://ministranci.waw.pl/event/wtorek-i-tygodnia-zwyklego/
END:VEVENT
BEGIN:VEVENT
DTSTART;TZID=UTC:20250113T000000
DTEND;TZID=UTC:20250114T000000
DTSTAMP:20260421T200045
CREATED:20241226T172240Z
LAST-MODIFIED:20241226T172240Z
UID:3718-1736726400-1736812800@ministranci.waw.pl
SUMMARY:Wspomnienie Św. Hilarego biskupa i doktora Kościoła
DESCRIPTION:
URL:https://ministranci.waw.pl/event/wspomnienie-sw-hilarego-biskupa-i-doktora-kosciola/
END:VEVENT
BEGIN:VEVENT
DTSTART;TZID=UTC:20250113T000000
DTEND;TZID=UTC:20250114T000000
DTSTAMP:20260421T200045
CREATED:20241226T172225Z
LAST-MODIFIED:20241226T172225Z
UID:3717-1736726400-1736812800@ministranci.waw.pl
SUMMARY:Poniedziałek I tygodnia zwykłego
DESCRIPTION:
URL:https://ministranci.waw.pl/event/poniedzialek-i-tygodnia-zwyklego/
END:VEVENT
BEGIN:VEVENT
DTSTART;TZID=UTC:20250112T000000
DTEND;TZID=UTC:20250113T000000
DTSTAMP:20260421T200045
CREATED:20241226T172225Z
LAST-MODIFIED:20241226T172225Z
UID:3716-1736640000-1736726400@ministranci.waw.pl
SUMMARY:Święto Chrzest Pański
DESCRIPTION:
URL:https://ministranci.waw.pl/event/swieto-chrzest-panski/
END:VEVENT
BEGIN:VEVENT
DTSTART;TZID=UTC:20250111T000000
DTEND;TZID=UTC:20250112T000000
DTSTAMP:20260421T200045
CREATED:20241226T172225Z
LAST-MODIFIED:20241226T172225Z
UID:3715-1736553600-1736640000@ministranci.waw.pl
SUMMARY:Sobota po Objawieniu Pańskim
DESCRIPTION:
URL:https://ministranci.waw.pl/event/sobota-po-objawieniu-panskim/
END:VEVENT
END:VCALENDAR