BEGIN:VCALENDAR
VERSION:2.0
PRODID:-//Liturgiczna Służba Ołtarza - ECPv6.15.18//NONSGML v1.0//EN
CALSCALE:GREGORIAN
METHOD:PUBLISH
X-ORIGINAL-URL:https://ministranci.waw.pl
X-WR-CALDESC:Wydarzenia dla Liturgiczna Służba Ołtarza
REFRESH-INTERVAL;VALUE=DURATION:PT1H
X-Robots-Tag:noindex
X-PUBLISHED-TTL:PT1H
BEGIN:VTIMEZONE
TZID:UTC
BEGIN:STANDARD
TZOFFSETFROM:+0000
TZOFFSETTO:+0000
TZNAME:UTC
DTSTART:20240101T000000
END:STANDARD
END:VTIMEZONE
BEGIN:VEVENT
DTSTART;TZID=UTC:20250302T000000
DTEND;TZID=UTC:20250303T000000
DTSTAMP:20260421T132052
CREATED:20241226T172618Z
LAST-MODIFIED:20241226T172618Z
UID:3784-1740873600-1740960000@ministranci.waw.pl
SUMMARY:VIII Niedziela Zwykła
DESCRIPTION:
URL:https://ministranci.waw.pl/event/viii-niedziela-zwykla/
END:VEVENT
BEGIN:VEVENT
DTSTART;TZID=UTC:20250301T000000
DTEND;TZID=UTC:20250302T000000
DTSTAMP:20260421T132052
CREATED:20241226T172617Z
LAST-MODIFIED:20241226T172617Z
UID:3783-1740787200-1740873600@ministranci.waw.pl
SUMMARY:Wspomnienie Najświętszej Maryi Panny
DESCRIPTION:
URL:https://ministranci.waw.pl/event/wspomnienie-najswietszej-maryi-panny-5/
END:VEVENT
BEGIN:VEVENT
DTSTART;TZID=UTC:20250301T000000
DTEND;TZID=UTC:20250302T000000
DTSTAMP:20260421T132052
CREATED:20241226T172603Z
LAST-MODIFIED:20241226T172603Z
UID:3782-1740787200-1740873600@ministranci.waw.pl
SUMMARY:Sobota VII tygodnia zwykłego
DESCRIPTION:
URL:https://ministranci.waw.pl/event/sobota-vii-tygodnia-zwyklego/
END:VEVENT
BEGIN:VEVENT
DTSTART;TZID=UTC:20250228T000000
DTEND;TZID=UTC:20250301T000000
DTSTAMP:20260421T132052
CREATED:20241226T172603Z
LAST-MODIFIED:20241226T172603Z
UID:3781-1740700800-1740787200@ministranci.waw.pl
SUMMARY:Piątek VII tygodnia zwykłego
DESCRIPTION:
URL:https://ministranci.waw.pl/event/piatek-vii-tygodnia-zwyklego/
END:VEVENT
BEGIN:VEVENT
DTSTART;TZID=UTC:20250227T000000
DTEND;TZID=UTC:20250228T000000
DTSTAMP:20260421T132052
CREATED:20241226T172603Z
LAST-MODIFIED:20241226T172603Z
UID:3780-1740614400-1740700800@ministranci.waw.pl
SUMMARY:Wspomnienie Św. Grzegorza z Nareku opata i doktora Kościoła
DESCRIPTION:
URL:https://ministranci.waw.pl/event/wspomnienie-sw-grzegorza-z-nareku-opata-i-doktora-kosciola/
END:VEVENT
BEGIN:VEVENT
DTSTART;TZID=UTC:20250227T000000
DTEND;TZID=UTC:20250228T000000
DTSTAMP:20260421T132052
CREATED:20241226T172602Z
LAST-MODIFIED:20241226T172602Z
UID:3779-1740614400-1740700800@ministranci.waw.pl
SUMMARY:Czwartek VII tygodnia zwykłego
DESCRIPTION:
URL:https://ministranci.waw.pl/event/czwartek-vii-tygodnia-zwyklego/
END:VEVENT
BEGIN:VEVENT
DTSTART;TZID=UTC:20250226T000000
DTEND;TZID=UTC:20250227T000000
DTSTAMP:20260421T132052
CREATED:20241226T172602Z
LAST-MODIFIED:20241226T172602Z
UID:3778-1740528000-1740614400@ministranci.waw.pl
SUMMARY:Środa VII tygodnia zwykłego
DESCRIPTION:
URL:https://ministranci.waw.pl/event/sroda-vii-tygodnia-zwyklego/
END:VEVENT
BEGIN:VEVENT
DTSTART;TZID=UTC:20250225T000000
DTEND;TZID=UTC:20250226T000000
DTSTAMP:20260421T132052
CREATED:20241226T172548Z
LAST-MODIFIED:20241226T172548Z
UID:3777-1740441600-1740528000@ministranci.waw.pl
SUMMARY:Wtorek VII tygodnia zwykłego
DESCRIPTION:
URL:https://ministranci.waw.pl/event/wtorek-vii-tygodnia-zwyklego/
END:VEVENT
BEGIN:VEVENT
DTSTART;TZID=UTC:20250224T000000
DTEND;TZID=UTC:20250225T000000
DTSTAMP:20260421T132052
CREATED:20241226T172548Z
LAST-MODIFIED:20241226T172548Z
UID:3776-1740355200-1740441600@ministranci.waw.pl
SUMMARY:Poniedziałek VII tygodnia zwykłego
DESCRIPTION:
URL:https://ministranci.waw.pl/event/poniedzialek-vii-tygodnia-zwyklego/
END:VEVENT
BEGIN:VEVENT
DTSTART;TZID=UTC:20250223T000000
DTEND;TZID=UTC:20250224T000000
DTSTAMP:20260421T132052
CREATED:20241226T172548Z
LAST-MODIFIED:20241226T172548Z
UID:3775-1740268800-1740355200@ministranci.waw.pl
SUMMARY:VII Niedziela Zwykła
DESCRIPTION:
URL:https://ministranci.waw.pl/event/vii-niedziela-zwykla/
END:VEVENT
BEGIN:VEVENT
DTSTART;TZID=UTC:20250222T000000
DTEND;TZID=UTC:20250223T000000
DTSTAMP:20260421T132052
CREATED:20241226T172548Z
LAST-MODIFIED:20241226T172548Z
UID:3774-1740182400-1740268800@ministranci.waw.pl
SUMMARY:Święto Katedry św. Piotra Apostoła
DESCRIPTION:
URL:https://ministranci.waw.pl/event/swieto-katedry-sw-piotra-apostola/
END:VEVENT
BEGIN:VEVENT
DTSTART;TZID=UTC:20250221T000000
DTEND;TZID=UTC:20250222T000000
DTSTAMP:20260421T132052
CREATED:20241226T172547Z
LAST-MODIFIED:20241226T172547Z
UID:3773-1740096000-1740182400@ministranci.waw.pl
SUMMARY:Wspomnienie Św. Piotra Damianiego biskupa i doktora Kościoła
DESCRIPTION:
URL:https://ministranci.waw.pl/event/wspomnienie-sw-piotra-damianiego-biskupa-i-doktora-kosciola/
END:VEVENT
BEGIN:VEVENT
DTSTART;TZID=UTC:20250221T000000
DTEND;TZID=UTC:20250222T000000
DTSTAMP:20260421T132052
CREATED:20241226T172533Z
LAST-MODIFIED:20241226T172533Z
UID:3772-1740096000-1740182400@ministranci.waw.pl
SUMMARY:Piątek VI tygodnia zwykłego
DESCRIPTION:
URL:https://ministranci.waw.pl/event/piatek-vi-tygodnia-zwyklego/
END:VEVENT
BEGIN:VEVENT
DTSTART;TZID=UTC:20250220T000000
DTEND;TZID=UTC:20250221T000000
DTSTAMP:20260421T132052
CREATED:20241226T172533Z
LAST-MODIFIED:20241226T172533Z
UID:3771-1740009600-1740096000@ministranci.waw.pl
SUMMARY:Czwartek VI tygodnia zwykłego
DESCRIPTION:
URL:https://ministranci.waw.pl/event/czwartek-vi-tygodnia-zwyklego/
END:VEVENT
BEGIN:VEVENT
DTSTART;TZID=UTC:20250219T000000
DTEND;TZID=UTC:20250220T000000
DTSTAMP:20260421T132052
CREATED:20241226T172532Z
LAST-MODIFIED:20241226T172532Z
UID:3770-1739923200-1740009600@ministranci.waw.pl
SUMMARY:Środa VI tygodnia zwykłego
DESCRIPTION:
URL:https://ministranci.waw.pl/event/sroda-vi-tygodnia-zwyklego/
END:VEVENT
BEGIN:VEVENT
DTSTART;TZID=UTC:20250218T000000
DTEND;TZID=UTC:20250219T000000
DTSTAMP:20260421T132052
CREATED:20241226T172532Z
LAST-MODIFIED:20241226T172532Z
UID:3769-1739836800-1739923200@ministranci.waw.pl
SUMMARY:Wtorek VI tygodnia zwykłego
DESCRIPTION:
URL:https://ministranci.waw.pl/event/wtorek-vi-tygodnia-zwyklego/
END:VEVENT
BEGIN:VEVENT
DTSTART;TZID=UTC:20250217T000000
DTEND;TZID=UTC:20250218T000000
DTSTAMP:20260421T132052
CREATED:20241226T172532Z
LAST-MODIFIED:20241226T172532Z
UID:3768-1739750400-1739836800@ministranci.waw.pl
SUMMARY:Wspomnienie Świętych Siedmiu Założycieli Zakonu Serwitów Najświętszej Maryi Panny
DESCRIPTION:
URL:https://ministranci.waw.pl/event/wspomnienie-swietych-siedmiu-zalozycieli-zakonu-serwitow-najswietszej-maryi-panny/
END:VEVENT
BEGIN:VEVENT
DTSTART;TZID=UTC:20250217T000000
DTEND;TZID=UTC:20250218T000000
DTSTAMP:20260421T132052
CREATED:20241226T172518Z
LAST-MODIFIED:20241226T172518Z
UID:3767-1739750400-1739836800@ministranci.waw.pl
SUMMARY:Poniedziałek VI tygodnia zwykłego
DESCRIPTION:
URL:https://ministranci.waw.pl/event/poniedzialek-vi-tygodnia-zwyklego/
END:VEVENT
BEGIN:VEVENT
DTSTART;TZID=UTC:20250216T000000
DTEND;TZID=UTC:20250217T000000
DTSTAMP:20260421T132052
CREATED:20241226T172518Z
LAST-MODIFIED:20241226T172518Z
UID:3766-1739664000-1739750400@ministranci.waw.pl
SUMMARY:VI Niedziela Zwykła
DESCRIPTION:
URL:https://ministranci.waw.pl/event/vi-niedziela-zwykla/
END:VEVENT
BEGIN:VEVENT
DTSTART;TZID=UTC:20250215T000000
DTEND;TZID=UTC:20250216T000000
DTSTAMP:20260421T132052
CREATED:20241226T172518Z
LAST-MODIFIED:20241226T172518Z
UID:3764-1739577600-1739664000@ministranci.waw.pl
SUMMARY:Sobota V tygodnia zwykłego
DESCRIPTION:
URL:https://ministranci.waw.pl/event/sobota-v-tygodnia-zwyklego/
END:VEVENT
BEGIN:VEVENT
DTSTART;TZID=UTC:20250215T000000
DTEND;TZID=UTC:20250216T000000
DTSTAMP:20260421T132052
CREATED:20241226T172518Z
LAST-MODIFIED:20241226T172518Z
UID:3765-1739577600-1739664000@ministranci.waw.pl
SUMMARY:Wspomnienie Najświętszej Maryi Panny
DESCRIPTION:
URL:https://ministranci.waw.pl/event/wspomnienie-najswietszej-maryi-panny-4/
END:VEVENT
BEGIN:VEVENT
DTSTART;TZID=UTC:20250214T000000
DTEND;TZID=UTC:20250215T000000
DTSTAMP:20260421T132052
CREATED:20241226T172517Z
LAST-MODIFIED:20241226T172517Z
UID:3763-1739491200-1739577600@ministranci.waw.pl
SUMMARY:Święto Świętych Cyryla mnicha i Metodego biskupa
DESCRIPTION:
URL:https://ministranci.waw.pl/event/swieto-swietych-cyryla-mnicha-i-metodego-biskupa/
END:VEVENT
BEGIN:VEVENT
DTSTART;TZID=UTC:20250213T000000
DTEND;TZID=UTC:20250214T000000
DTSTAMP:20260421T132052
CREATED:20241226T172503Z
LAST-MODIFIED:20241226T172503Z
UID:3762-1739404800-1739491200@ministranci.waw.pl
SUMMARY:Czwartek V tygodnia zwykłego
DESCRIPTION:
URL:https://ministranci.waw.pl/event/czwartek-v-tygodnia-zwyklego/
END:VEVENT
BEGIN:VEVENT
DTSTART;TZID=UTC:20250212T000000
DTEND;TZID=UTC:20250213T000000
DTSTAMP:20260421T132052
CREATED:20241226T172503Z
LAST-MODIFIED:20241226T172503Z
UID:3761-1739318400-1739404800@ministranci.waw.pl
SUMMARY:Środa V tygodnia zwykłego
DESCRIPTION:
URL:https://ministranci.waw.pl/event/sroda-v-tygodnia-zwyklego/
END:VEVENT
BEGIN:VEVENT
DTSTART;TZID=UTC:20250211T000000
DTEND;TZID=UTC:20250212T000000
DTSTAMP:20260421T132052
CREATED:20241226T172502Z
LAST-MODIFIED:20241226T172502Z
UID:3760-1739232000-1739318400@ministranci.waw.pl
SUMMARY:Wspomnienie Najświętszej Maryi Panny z Lourdes
DESCRIPTION:
URL:https://ministranci.waw.pl/event/wspomnienie-najswietszej-maryi-panny-z-lourdes/
END:VEVENT
BEGIN:VEVENT
DTSTART;TZID=UTC:20250211T000000
DTEND;TZID=UTC:20250212T000000
DTSTAMP:20260421T132052
CREATED:20241226T172502Z
LAST-MODIFIED:20241226T172502Z
UID:3759-1739232000-1739318400@ministranci.waw.pl
SUMMARY:Wtorek V tygodnia zwykłego
DESCRIPTION:
URL:https://ministranci.waw.pl/event/wtorek-v-tygodnia-zwyklego/
END:VEVENT
BEGIN:VEVENT
DTSTART;TZID=UTC:20250210T000000
DTEND;TZID=UTC:20250211T000000
DTSTAMP:20260421T132052
CREATED:20241226T172502Z
LAST-MODIFIED:20241226T172502Z
UID:3758-1739145600-1739232000@ministranci.waw.pl
SUMMARY:Wspomnienie Św. Scholastyki dziewicy
DESCRIPTION:
URL:https://ministranci.waw.pl/event/wspomnienie-sw-scholastyki-dziewicy/
END:VEVENT
BEGIN:VEVENT
DTSTART;TZID=UTC:20250209T000000
DTEND;TZID=UTC:20250210T000000
DTSTAMP:20260421T132052
CREATED:20241226T172448Z
LAST-MODIFIED:20241226T172448Z
UID:3757-1739059200-1739145600@ministranci.waw.pl
SUMMARY:V Niedziela Zwykła
DESCRIPTION:
URL:https://ministranci.waw.pl/event/v-niedziela-zwykla/
END:VEVENT
BEGIN:VEVENT
DTSTART;TZID=UTC:20250208T000000
DTEND;TZID=UTC:20250209T000000
DTSTAMP:20260421T132052
CREATED:20241226T172448Z
LAST-MODIFIED:20241226T172448Z
UID:3755-1738972800-1739059200@ministranci.waw.pl
SUMMARY:Wspomnienie Św. Józefiny Bakhity dziewicy
DESCRIPTION:
URL:https://ministranci.waw.pl/event/wspomnienie-sw-jozefiny-bakhity-dziewicy/
END:VEVENT
BEGIN:VEVENT
DTSTART;TZID=UTC:20250208T000000
DTEND;TZID=UTC:20250209T000000
DTSTAMP:20260421T132052
CREATED:20241226T172448Z
LAST-MODIFIED:20241226T172448Z
UID:3756-1738972800-1739059200@ministranci.waw.pl
SUMMARY:Wspomnienie Najświętszej Maryi Panny
DESCRIPTION:
URL:https://ministranci.waw.pl/event/wspomnienie-najswietszej-maryi-panny-3/
END:VEVENT
END:VCALENDAR