BEGIN:VCALENDAR
VERSION:2.0
PRODID:-//Liturgiczna Służba Ołtarza - ECPv6.15.18//NONSGML v1.0//EN
CALSCALE:GREGORIAN
METHOD:PUBLISH
X-ORIGINAL-URL:https://ministranci.waw.pl
X-WR-CALDESC:Wydarzenia dla Liturgiczna Służba Ołtarza
REFRESH-INTERVAL;VALUE=DURATION:PT1H
X-Robots-Tag:noindex
X-PUBLISHED-TTL:PT1H
BEGIN:VTIMEZONE
TZID:UTC
BEGIN:STANDARD
TZOFFSETFROM:+0000
TZOFFSETTO:+0000
TZNAME:UTC
DTSTART:20240101T000000
END:STANDARD
END:VTIMEZONE
BEGIN:VEVENT
DTSTART;TZID=UTC:20250423T000000
DTEND;TZID=UTC:20250424T000000
DTSTAMP:20260421T030533
CREATED:20241226T182605Z
LAST-MODIFIED:20241226T182605Z
UID:3844-1745366400-1745452800@ministranci.waw.pl
SUMMARY:Uroczystość Środa w Oktawie Wielkanocy
DESCRIPTION:
URL:https://ministranci.waw.pl/event/uroczystosc-sroda-w-oktawie-wielkanocy/
END:VEVENT
BEGIN:VEVENT
DTSTART;TZID=UTC:20250422T000000
DTEND;TZID=UTC:20250423T000000
DTSTAMP:20260421T030533
CREATED:20241226T182605Z
LAST-MODIFIED:20241226T182605Z
UID:3843-1745280000-1745366400@ministranci.waw.pl
SUMMARY:Uroczystość Wtorek w Oktawie Wielkanocy
DESCRIPTION:
URL:https://ministranci.waw.pl/event/uroczystosc-wtorek-w-oktawie-wielkanocy/
END:VEVENT
BEGIN:VEVENT
DTSTART;TZID=UTC:20250421T000000
DTEND;TZID=UTC:20250422T000000
DTSTAMP:20260421T030533
CREATED:20241226T173750Z
LAST-MODIFIED:20241226T173750Z
UID:3842-1745193600-1745280000@ministranci.waw.pl
SUMMARY:Uroczystość Poniedziałek w Oktawie Wielkanocy
DESCRIPTION:
URL:https://ministranci.waw.pl/event/uroczystosc-poniedzialek-w-oktawie-wielkanocy/
END:VEVENT
BEGIN:VEVENT
DTSTART;TZID=UTC:20250420T000000
DTEND;TZID=UTC:20250421T000000
DTSTAMP:20260421T030533
CREATED:20241226T173750Z
LAST-MODIFIED:20241226T173750Z
UID:3841-1745107200-1745193600@ministranci.waw.pl
SUMMARY:Niedziela Zmartwychwstania Pańskiego
DESCRIPTION:
URL:https://ministranci.waw.pl/event/niedziela-zmartwychwstania-panskiego/
END:VEVENT
BEGIN:VEVENT
DTSTART;TZID=UTC:20250419T000000
DTEND;TZID=UTC:20250420T000000
DTSTAMP:20260421T030533
CREATED:20241226T173750Z
LAST-MODIFIED:20241226T173750Z
UID:3840-1745020800-1745107200@ministranci.waw.pl
SUMMARY:Wielka Sobota
DESCRIPTION:
URL:https://ministranci.waw.pl/event/wielka-sobota-2/
END:VEVENT
BEGIN:VEVENT
DTSTART;TZID=UTC:20250418T000000
DTEND;TZID=UTC:20250419T000000
DTSTAMP:20260421T030533
CREATED:20241226T173750Z
LAST-MODIFIED:20241226T173750Z
UID:3839-1744934400-1745020800@ministranci.waw.pl
SUMMARY:Wielki Piątek: Męki Pańskiej
DESCRIPTION:
URL:https://ministranci.waw.pl/event/wielki-piatek-meki-panskiej/
END:VEVENT
BEGIN:VEVENT
DTSTART;TZID=UTC:20250417T000000
DTEND;TZID=UTC:20250418T000000
DTSTAMP:20260421T030533
CREATED:20241226T173750Z
LAST-MODIFIED:20241226T173750Z
UID:3838-1744848000-1744934400@ministranci.waw.pl
SUMMARY:Wielki Czwartek: Wieczerzy Pańskiej
DESCRIPTION:
URL:https://ministranci.waw.pl/event/wielki-czwartek-wieczerzy-panskiej/
END:VEVENT
BEGIN:VEVENT
DTSTART;TZID=UTC:20250416T000000
DTEND;TZID=UTC:20250417T000000
DTSTAMP:20260421T030533
CREATED:20241226T173550Z
LAST-MODIFIED:20241226T173550Z
UID:3837-1744761600-1744848000@ministranci.waw.pl
SUMMARY:Wielka Środa
DESCRIPTION:
URL:https://ministranci.waw.pl/event/wielka-sroda/
END:VEVENT
BEGIN:VEVENT
DTSTART;TZID=UTC:20250415T000000
DTEND;TZID=UTC:20250416T000000
DTSTAMP:20260421T030533
CREATED:20241226T173550Z
LAST-MODIFIED:20241226T173550Z
UID:3836-1744675200-1744761600@ministranci.waw.pl
SUMMARY:Wielki Wtorek
DESCRIPTION:
URL:https://ministranci.waw.pl/event/wielki-wtorek/
END:VEVENT
BEGIN:VEVENT
DTSTART;TZID=UTC:20250414T000000
DTEND;TZID=UTC:20250415T000000
DTSTAMP:20260421T030533
CREATED:20241226T173550Z
LAST-MODIFIED:20241226T173550Z
UID:3835-1744588800-1744675200@ministranci.waw.pl
SUMMARY:Wielki Poniedziałek
DESCRIPTION:
URL:https://ministranci.waw.pl/event/wielki-poniedzialek/
END:VEVENT
BEGIN:VEVENT
DTSTART;TZID=UTC:20250413T000000
DTEND;TZID=UTC:20250414T000000
DTSTAMP:20260421T030533
CREATED:20241226T173550Z
LAST-MODIFIED:20241226T173550Z
UID:3834-1744502400-1744588800@ministranci.waw.pl
SUMMARY:Niedziela Palmowa Męki Pańskiej
DESCRIPTION:
URL:https://ministranci.waw.pl/event/niedziela-palmowa-meki-panskiej/
END:VEVENT
BEGIN:VEVENT
DTSTART;TZID=UTC:20250412T000000
DTEND;TZID=UTC:20250413T000000
DTSTAMP:20260421T030533
CREATED:20241226T173550Z
LAST-MODIFIED:20241226T173550Z
UID:3833-1744416000-1744502400@ministranci.waw.pl
SUMMARY:Sobota V tygodnia Wielkiego Postu
DESCRIPTION:
URL:https://ministranci.waw.pl/event/sobota-v-tygodnia-wielkiego-postu/
END:VEVENT
BEGIN:VEVENT
DTSTART;TZID=UTC:20250411T000000
DTEND;TZID=UTC:20250412T000000
DTSTAMP:20260421T030533
CREATED:20241226T173350Z
LAST-MODIFIED:20241226T173350Z
UID:3832-1744329600-1744416000@ministranci.waw.pl
SUMMARY:Piątek V tygodnia Wielkiego Postu
DESCRIPTION:
URL:https://ministranci.waw.pl/event/piatek-v-tygodnia-wielkiego-postu/
END:VEVENT
BEGIN:VEVENT
DTSTART;TZID=UTC:20250410T000000
DTEND;TZID=UTC:20250411T000000
DTSTAMP:20260421T030533
CREATED:20241226T173350Z
LAST-MODIFIED:20241226T173350Z
UID:3831-1744243200-1744329600@ministranci.waw.pl
SUMMARY:Czwartek V tygodnia Wielkiego Postu
DESCRIPTION:
URL:https://ministranci.waw.pl/event/czwartek-v-tygodnia-wielkiego-postu/
END:VEVENT
BEGIN:VEVENT
DTSTART;TZID=UTC:20250409T000000
DTEND;TZID=UTC:20250410T000000
DTSTAMP:20260421T030533
CREATED:20241226T173350Z
LAST-MODIFIED:20241226T173350Z
UID:3830-1744156800-1744243200@ministranci.waw.pl
SUMMARY:Środa V tygodnia Wielkiego Postu
DESCRIPTION:
URL:https://ministranci.waw.pl/event/sroda-v-tygodnia-wielkiego-postu/
END:VEVENT
BEGIN:VEVENT
DTSTART;TZID=UTC:20250408T000000
DTEND;TZID=UTC:20250409T000000
DTSTAMP:20260421T030533
CREATED:20241226T173350Z
LAST-MODIFIED:20241226T173350Z
UID:3829-1744070400-1744156800@ministranci.waw.pl
SUMMARY:Wtorek V tygodnia Wielkiego Postu
DESCRIPTION:
URL:https://ministranci.waw.pl/event/wtorek-v-tygodnia-wielkiego-postu/
END:VEVENT
BEGIN:VEVENT
DTSTART;TZID=UTC:20250407T000000
DTEND;TZID=UTC:20250408T000000
DTSTAMP:20260421T030533
CREATED:20241226T173350Z
LAST-MODIFIED:20241226T173350Z
UID:3828-1743984000-1744070400@ministranci.waw.pl
SUMMARY:Wspomnienie Św. Jana Chrzciciela de la Salle prezbitera
DESCRIPTION:
URL:https://ministranci.waw.pl/event/wspomnienie-sw-jana-chrzciciela-de-la-salle-prezbitera/
END:VEVENT
BEGIN:VEVENT
DTSTART;TZID=UTC:20250407T000000
DTEND;TZID=UTC:20250408T000000
DTSTAMP:20260421T030533
CREATED:20241226T173150Z
LAST-MODIFIED:20241226T173150Z
UID:3827-1743984000-1744070400@ministranci.waw.pl
SUMMARY:Poniedziałek V tygodnia Wielkiego Postu
DESCRIPTION:
URL:https://ministranci.waw.pl/event/poniedzialek-v-tygodnia-wielkiego-postu/
END:VEVENT
BEGIN:VEVENT
DTSTART;TZID=UTC:20250406T000000
DTEND;TZID=UTC:20250407T000000
DTSTAMP:20260421T030533
CREATED:20241226T173150Z
LAST-MODIFIED:20241226T173150Z
UID:3826-1743897600-1743984000@ministranci.waw.pl
SUMMARY:V Niedziela Wielkiego Postu
DESCRIPTION:
URL:https://ministranci.waw.pl/event/v-niedziela-wielkiego-postu/
END:VEVENT
BEGIN:VEVENT
DTSTART;TZID=UTC:20250405T000000
DTEND;TZID=UTC:20250406T000000
DTSTAMP:20260421T030533
CREATED:20241226T173150Z
LAST-MODIFIED:20241226T173150Z
UID:3824-1743811200-1743897600@ministranci.waw.pl
SUMMARY:Sobota IV tygodnia Wielkiego Postu
DESCRIPTION:
URL:https://ministranci.waw.pl/event/sobota-iv-tygodnia-wielkiego-postu/
END:VEVENT
BEGIN:VEVENT
DTSTART;TZID=UTC:20250405T000000
DTEND;TZID=UTC:20250406T000000
DTSTAMP:20260421T030533
CREATED:20241226T173150Z
LAST-MODIFIED:20241226T173150Z
UID:3825-1743811200-1743897600@ministranci.waw.pl
SUMMARY:Wspomnienie Św. Wincentego Ferreriusza prezbitera
DESCRIPTION:
URL:https://ministranci.waw.pl/event/wspomnienie-sw-wincentego-ferreriusza-prezbitera/
END:VEVENT
BEGIN:VEVENT
DTSTART;TZID=UTC:20250404T000000
DTEND;TZID=UTC:20250405T000000
DTSTAMP:20260421T030533
CREATED:20241226T173150Z
LAST-MODIFIED:20241226T173150Z
UID:3823-1743724800-1743811200@ministranci.waw.pl
SUMMARY:Wspomnienie Św. Izydora biskupa i doktora Kościoła
DESCRIPTION:
URL:https://ministranci.waw.pl/event/wspomnienie-sw-izydora-biskupa-i-doktora-kosciola/
END:VEVENT
BEGIN:VEVENT
DTSTART;TZID=UTC:20250404T000000
DTEND;TZID=UTC:20250405T000000
DTSTAMP:20260421T030533
CREATED:20241226T172949Z
LAST-MODIFIED:20241226T172949Z
UID:3822-1743724800-1743811200@ministranci.waw.pl
SUMMARY:Piątek IV tygodnia Wielkiego Postu
DESCRIPTION:
URL:https://ministranci.waw.pl/event/piatek-iv-tygodnia-wielkiego-postu/
END:VEVENT
BEGIN:VEVENT
DTSTART;TZID=UTC:20250403T000000
DTEND;TZID=UTC:20250404T000000
DTSTAMP:20260421T030533
CREATED:20241226T172949Z
LAST-MODIFIED:20241226T172949Z
UID:3821-1743638400-1743724800@ministranci.waw.pl
SUMMARY:Czwartek IV tygodnia Wielkiego Postu
DESCRIPTION:
URL:https://ministranci.waw.pl/event/czwartek-iv-tygodnia-wielkiego-postu/
END:VEVENT
BEGIN:VEVENT
DTSTART;TZID=UTC:20250402T000000
DTEND;TZID=UTC:20250403T000000
DTSTAMP:20260421T030533
CREATED:20241226T172949Z
LAST-MODIFIED:20241226T172949Z
UID:3819-1743552000-1743638400@ministranci.waw.pl
SUMMARY:Środa IV tygodnia Wielkiego Postu
DESCRIPTION:
URL:https://ministranci.waw.pl/event/sroda-iv-tygodnia-wielkiego-postu/
END:VEVENT
BEGIN:VEVENT
DTSTART;TZID=UTC:20250402T000000
DTEND;TZID=UTC:20250403T000000
DTSTAMP:20260421T030533
CREATED:20241226T172949Z
LAST-MODIFIED:20241226T172949Z
UID:3820-1743552000-1743638400@ministranci.waw.pl
SUMMARY:Wspomnienie Św. Franciszka z Paoli pustelnika
DESCRIPTION:
URL:https://ministranci.waw.pl/event/wspomnienie-sw-franciszka-z-paoli-pustelnika/
END:VEVENT
BEGIN:VEVENT
DTSTART;TZID=UTC:20250401T000000
DTEND;TZID=UTC:20250402T000000
DTSTAMP:20260421T030533
CREATED:20241226T172949Z
LAST-MODIFIED:20241226T172949Z
UID:3818-1743465600-1743552000@ministranci.waw.pl
SUMMARY:Wtorek IV tygodnia Wielkiego Postu
DESCRIPTION:
URL:https://ministranci.waw.pl/event/wtorek-iv-tygodnia-wielkiego-postu/
END:VEVENT
BEGIN:VEVENT
DTSTART;TZID=UTC:20250331T000000
DTEND;TZID=UTC:20250401T000000
DTSTAMP:20260421T030533
CREATED:20241226T172748Z
LAST-MODIFIED:20241226T172748Z
UID:3817-1743379200-1743465600@ministranci.waw.pl
SUMMARY:Poniedziałek IV tygodnia Wielkiego Postu
DESCRIPTION:
URL:https://ministranci.waw.pl/event/poniedzialek-iv-tygodnia-wielkiego-postu/
END:VEVENT
BEGIN:VEVENT
DTSTART;TZID=UTC:20250330T000000
DTEND;TZID=UTC:20250331T000000
DTSTAMP:20260421T030533
CREATED:20241226T172748Z
LAST-MODIFIED:20241226T172748Z
UID:3816-1743292800-1743379200@ministranci.waw.pl
SUMMARY:IV Niedziela Wielkiego Postu „Laetare”
DESCRIPTION:
URL:https://ministranci.waw.pl/event/iv-niedziela-wielkiego-postu-laetare/
END:VEVENT
BEGIN:VEVENT
DTSTART;TZID=UTC:20250329T000000
DTEND;TZID=UTC:20250330T000000
DTSTAMP:20260421T030533
CREATED:20241226T172748Z
LAST-MODIFIED:20241226T172748Z
UID:3815-1743206400-1743292800@ministranci.waw.pl
SUMMARY:Sobota III tygodnia Wielkiego Postu
DESCRIPTION:
URL:https://ministranci.waw.pl/event/sobota-iii-tygodnia-wielkiego-postu/
END:VEVENT
END:VCALENDAR