BEGIN:VCALENDAR
VERSION:2.0
PRODID:-//Liturgiczna Służba Ołtarza - ECPv6.15.18//NONSGML v1.0//EN
CALSCALE:GREGORIAN
METHOD:PUBLISH
X-ORIGINAL-URL:https://ministranci.waw.pl
X-WR-CALDESC:Wydarzenia dla Liturgiczna Służba Ołtarza
REFRESH-INTERVAL;VALUE=DURATION:PT1H
X-Robots-Tag:noindex
X-PUBLISHED-TTL:PT1H
BEGIN:VTIMEZONE
TZID:UTC
BEGIN:STANDARD
TZOFFSETFROM:+0000
TZOFFSETTO:+0000
TZNAME:UTC
DTSTART:20240101T000000
END:STANDARD
END:VTIMEZONE
BEGIN:VEVENT
DTSTART;TZID=UTC:20250614T000000
DTEND;TZID=UTC:20250615T000000
DTSTAMP:20260420T152639
CREATED:20241226T183016Z
LAST-MODIFIED:20241226T183016Z
UID:3913-1749859200-1749945600@ministranci.waw.pl
SUMMARY:Wspomnienie Bł. Michała Kozala biskupa i męczennika
DESCRIPTION:
URL:https://ministranci.waw.pl/event/wspomnienie-bl-michala-kozala-biskupa-i-meczennika/
END:VEVENT
BEGIN:VEVENT
DTSTART;TZID=UTC:20250613T000000
DTEND;TZID=UTC:20250614T000000
DTSTAMP:20260420T152639
CREATED:20241226T183006Z
LAST-MODIFIED:20241226T183006Z
UID:3912-1749772800-1749859200@ministranci.waw.pl
SUMMARY:Wspomnienie Św. Antoniego z Padwy prezbitera i doktora Kościoła
DESCRIPTION:
URL:https://ministranci.waw.pl/event/wspomnienie-sw-antoniego-z-padwy-prezbitera-i-doktora-kosciola/
END:VEVENT
BEGIN:VEVENT
DTSTART;TZID=UTC:20250612T000000
DTEND;TZID=UTC:20250613T000000
DTSTAMP:20260420T152639
CREATED:20241226T183006Z
LAST-MODIFIED:20241226T183006Z
UID:3911-1749686400-1749772800@ministranci.waw.pl
SUMMARY:Święto Jezusa Chrystusa Najwyższego i Wiecznego Kapłana
DESCRIPTION:
URL:https://ministranci.waw.pl/event/swieto-jezusa-chrystusa-najwyzszego-i-wiecznego-kaplana/
END:VEVENT
BEGIN:VEVENT
DTSTART;TZID=UTC:20250611T000000
DTEND;TZID=UTC:20250612T000000
DTSTAMP:20260420T152639
CREATED:20241226T183006Z
LAST-MODIFIED:20241226T183006Z
UID:3910-1749600000-1749686400@ministranci.waw.pl
SUMMARY:Wspomnienie Św. Barnaby Apostoła
DESCRIPTION:
URL:https://ministranci.waw.pl/event/wspomnienie-sw-barnaby-apostola/
END:VEVENT
BEGIN:VEVENT
DTSTART;TZID=UTC:20250610T000000
DTEND;TZID=UTC:20250611T000000
DTSTAMP:20260420T152639
CREATED:20241226T183006Z
LAST-MODIFIED:20241226T183006Z
UID:3909-1749513600-1749600000@ministranci.waw.pl
SUMMARY:Wtorek X tygodnia zwykłego
DESCRIPTION:
URL:https://ministranci.waw.pl/event/wtorek-x-tygodnia-zwyklego/
END:VEVENT
BEGIN:VEVENT
DTSTART;TZID=UTC:20250609T000000
DTEND;TZID=UTC:20250610T000000
DTSTAMP:20260420T152639
CREATED:20241226T183006Z
LAST-MODIFIED:20241226T183006Z
UID:3908-1749427200-1749513600@ministranci.waw.pl
SUMMARY:Święto Najświętszej Maryi Panny Matki Kościoła
DESCRIPTION:
URL:https://ministranci.waw.pl/event/swieto-najswietszej-maryi-panny-matki-kosciola/
END:VEVENT
BEGIN:VEVENT
DTSTART;TZID=UTC:20250608T000000
DTEND;TZID=UTC:20250609T000000
DTSTAMP:20260420T152639
CREATED:20241226T182959Z
LAST-MODIFIED:20241226T182959Z
UID:3907-1749340800-1749427200@ministranci.waw.pl
SUMMARY:Uroczystość Niedziela Zesłania Ducha Świętego
DESCRIPTION:
URL:https://ministranci.waw.pl/event/uroczystosc-niedziela-zeslania-ducha-swietego/
END:VEVENT
BEGIN:VEVENT
DTSTART;TZID=UTC:20250607T000000
DTEND;TZID=UTC:20250608T000000
DTSTAMP:20260420T152639
CREATED:20241226T182959Z
LAST-MODIFIED:20241226T182959Z
UID:3906-1749254400-1749340800@ministranci.waw.pl
SUMMARY:Sobota VII Tygodnia Wielkanocnego
DESCRIPTION:
URL:https://ministranci.waw.pl/event/sobota-vii-tygodnia-wielkanocnego/
END:VEVENT
BEGIN:VEVENT
DTSTART;TZID=UTC:20250606T000000
DTEND;TZID=UTC:20250607T000000
DTSTAMP:20260420T152639
CREATED:20241226T182959Z
LAST-MODIFIED:20241226T182959Z
UID:3905-1749168000-1749254400@ministranci.waw.pl
SUMMARY:Wspomnienie Św. Norberta biskupa
DESCRIPTION:
URL:https://ministranci.waw.pl/event/wspomnienie-sw-norberta-biskupa/
END:VEVENT
BEGIN:VEVENT
DTSTART;TZID=UTC:20250606T000000
DTEND;TZID=UTC:20250607T000000
DTSTAMP:20260420T152639
CREATED:20241226T182958Z
LAST-MODIFIED:20241226T182958Z
UID:3904-1749168000-1749254400@ministranci.waw.pl
SUMMARY:Piątek VII Tygodnia Wielkanocnego
DESCRIPTION:
URL:https://ministranci.waw.pl/event/piatek-vii-tygodnia-wielkanocnego/
END:VEVENT
BEGIN:VEVENT
DTSTART;TZID=UTC:20250605T000000
DTEND;TZID=UTC:20250606T000000
DTSTAMP:20260420T152639
CREATED:20241226T182958Z
LAST-MODIFIED:20241226T182958Z
UID:3903-1749081600-1749168000@ministranci.waw.pl
SUMMARY:Wspomnienie Św. Bonifacego biskupa i męczennika
DESCRIPTION:
URL:https://ministranci.waw.pl/event/wspomnienie-sw-bonifacego-biskupa-i-meczennika/
END:VEVENT
BEGIN:VEVENT
DTSTART;TZID=UTC:20250604T000000
DTEND;TZID=UTC:20250605T000000
DTSTAMP:20260420T152639
CREATED:20241226T182942Z
LAST-MODIFIED:20241226T182942Z
UID:3902-1748995200-1749081600@ministranci.waw.pl
SUMMARY:Środa VII Tygodnia Wielkanocnego
DESCRIPTION:
URL:https://ministranci.waw.pl/event/sroda-vii-tygodnia-wielkanocnego/
END:VEVENT
BEGIN:VEVENT
DTSTART;TZID=UTC:20250603T000000
DTEND;TZID=UTC:20250604T000000
DTSTAMP:20260420T152639
CREATED:20241226T182942Z
LAST-MODIFIED:20241226T182942Z
UID:3901-1748908800-1748995200@ministranci.waw.pl
SUMMARY:Wspomnienie Świętych męczenników Karola Lwangi i Towarzyszy
DESCRIPTION:
URL:https://ministranci.waw.pl/event/wspomnienie-swietych-meczennikow-karola-lwangi-i-towarzyszy/
END:VEVENT
BEGIN:VEVENT
DTSTART;TZID=UTC:20250602T000000
DTEND;TZID=UTC:20250603T000000
DTSTAMP:20260420T152639
CREATED:20241226T182942Z
LAST-MODIFIED:20241226T182942Z
UID:3899-1748822400-1748908800@ministranci.waw.pl
SUMMARY:Poniedziałek VII Tygodnia Wielkanocnego
DESCRIPTION:
URL:https://ministranci.waw.pl/event/poniedzialek-vii-tygodnia-wielkanocnego/
END:VEVENT
BEGIN:VEVENT
DTSTART;TZID=UTC:20250602T000000
DTEND;TZID=UTC:20250603T000000
DTSTAMP:20260420T152639
CREATED:20241226T182942Z
LAST-MODIFIED:20241226T182942Z
UID:3900-1748822400-1748908800@ministranci.waw.pl
SUMMARY:Wspomnienie Świętych męczenników Marcelina i Piotra
DESCRIPTION:
URL:https://ministranci.waw.pl/event/wspomnienie-swietych-meczennikow-marcelina-i-piotra/
END:VEVENT
BEGIN:VEVENT
DTSTART;TZID=UTC:20250601T000000
DTEND;TZID=UTC:20250602T000000
DTSTAMP:20260420T152639
CREATED:20241226T182942Z
LAST-MODIFIED:20241226T182942Z
UID:3898-1748736000-1748822400@ministranci.waw.pl
SUMMARY:Uroczystość Wniebowstąpienie Pańskie
DESCRIPTION:
URL:https://ministranci.waw.pl/event/uroczystosc-wniebowstapienie-panskie/
END:VEVENT
BEGIN:VEVENT
DTSTART;TZID=UTC:20250531T000000
DTEND;TZID=UTC:20250601T000000
DTSTAMP:20260420T152639
CREATED:20241226T182925Z
LAST-MODIFIED:20241226T182925Z
UID:3897-1748649600-1748736000@ministranci.waw.pl
SUMMARY:Święto Nawiedzenie Najświętszej Maryi Panny
DESCRIPTION:
URL:https://ministranci.waw.pl/event/swieto-nawiedzenie-najswietszej-maryi-panny/
END:VEVENT
BEGIN:VEVENT
DTSTART;TZID=UTC:20250530T000000
DTEND;TZID=UTC:20250531T000000
DTSTAMP:20260420T152639
CREATED:20241226T182925Z
LAST-MODIFIED:20241226T182925Z
UID:3896-1748563200-1748649600@ministranci.waw.pl
SUMMARY:Wspomnienie Św. Zdzisławy
DESCRIPTION:
URL:https://ministranci.waw.pl/event/wspomnienie-sw-zdzislawy/
END:VEVENT
BEGIN:VEVENT
DTSTART;TZID=UTC:20250530T000000
DTEND;TZID=UTC:20250531T000000
DTSTAMP:20260420T152639
CREATED:20241226T182925Z
LAST-MODIFIED:20241226T182925Z
UID:3894-1748563200-1748649600@ministranci.waw.pl
SUMMARY:Piątek VI Tygodnia Wielkanocnego
DESCRIPTION:
URL:https://ministranci.waw.pl/event/piatek-vi-tygodnia-wielkanocnego/
END:VEVENT
BEGIN:VEVENT
DTSTART;TZID=UTC:20250530T000000
DTEND;TZID=UTC:20250531T000000
DTSTAMP:20260420T152639
CREATED:20241226T182925Z
LAST-MODIFIED:20241226T182925Z
UID:3895-1748563200-1748649600@ministranci.waw.pl
SUMMARY:Wspomnienie Św. Jana Sarkandra prezbitera i męczennika
DESCRIPTION:
URL:https://ministranci.waw.pl/event/wspomnienie-sw-jana-sarkandra-prezbitera-i-meczennika/
END:VEVENT
BEGIN:VEVENT
DTSTART;TZID=UTC:20250529T000000
DTEND;TZID=UTC:20250530T000000
DTSTAMP:20260420T152639
CREATED:20241226T182925Z
LAST-MODIFIED:20241226T182925Z
UID:3893-1748476800-1748563200@ministranci.waw.pl
SUMMARY:Wspomnienie Św. Urszuli Ledóchowskiej dziewicy
DESCRIPTION:
URL:https://ministranci.waw.pl/event/wspomnienie-sw-urszuli-ledochowskiej-dziewicy/
END:VEVENT
BEGIN:VEVENT
DTSTART;TZID=UTC:20250528T000000
DTEND;TZID=UTC:20250529T000000
DTSTAMP:20260420T152639
CREATED:20241226T182908Z
LAST-MODIFIED:20241226T182908Z
UID:3892-1748390400-1748476800@ministranci.waw.pl
SUMMARY:Wspomnienie Bł. Stefan Wyszyński biskupa
DESCRIPTION:
URL:https://ministranci.waw.pl/event/wspomnienie-bl-stefan-wyszynski-biskupa/
END:VEVENT
BEGIN:VEVENT
DTSTART;TZID=UTC:20250528T000000
DTEND;TZID=UTC:20250529T000000
DTSTAMP:20260420T152639
CREATED:20241226T182907Z
LAST-MODIFIED:20241226T182907Z
UID:3891-1748390400-1748476800@ministranci.waw.pl
SUMMARY:Środa VI Tygodnia Wielkanocnego
DESCRIPTION:
URL:https://ministranci.waw.pl/event/sroda-vi-tygodnia-wielkanocnego/
END:VEVENT
BEGIN:VEVENT
DTSTART;TZID=UTC:20250527T000000
DTEND;TZID=UTC:20250528T000000
DTSTAMP:20260420T152639
CREATED:20241226T182907Z
LAST-MODIFIED:20241226T182907Z
UID:3890-1748304000-1748390400@ministranci.waw.pl
SUMMARY:Wspomnienie Św. Pawła VI papieża
DESCRIPTION:
URL:https://ministranci.waw.pl/event/wspomnienie-sw-pawla-vi-papieza/
END:VEVENT
BEGIN:VEVENT
DTSTART;TZID=UTC:20250527T000000
DTEND;TZID=UTC:20250528T000000
DTSTAMP:20260420T152639
CREATED:20241226T182907Z
LAST-MODIFIED:20241226T182907Z
UID:3888-1748304000-1748390400@ministranci.waw.pl
SUMMARY:Wtorek VI Tygodnia Wielkanocnego
DESCRIPTION:
URL:https://ministranci.waw.pl/event/wtorek-vi-tygodnia-wielkanocnego/
END:VEVENT
BEGIN:VEVENT
DTSTART;TZID=UTC:20250527T000000
DTEND;TZID=UTC:20250528T000000
DTSTAMP:20260420T152639
CREATED:20241226T182907Z
LAST-MODIFIED:20241226T182907Z
UID:3889-1748304000-1748390400@ministranci.waw.pl
SUMMARY:Wspomnienie Św. Augustyna z Canterbury biskupa
DESCRIPTION:
URL:https://ministranci.waw.pl/event/wspomnienie-sw-augustyna-z-canterbury-biskupa/
END:VEVENT
BEGIN:VEVENT
DTSTART;TZID=UTC:20250526T000000
DTEND;TZID=UTC:20250527T000000
DTSTAMP:20260420T152639
CREATED:20241226T182851Z
LAST-MODIFIED:20241226T182851Z
UID:3887-1748217600-1748304000@ministranci.waw.pl
SUMMARY:Wspomnienie Św. Filipa Nereusza prezbitera
DESCRIPTION:
URL:https://ministranci.waw.pl/event/wspomnienie-sw-filipa-nereusza-prezbitera/
END:VEVENT
BEGIN:VEVENT
DTSTART;TZID=UTC:20250525T000000
DTEND;TZID=UTC:20250526T000000
DTSTAMP:20260420T152639
CREATED:20241226T182851Z
LAST-MODIFIED:20241226T182851Z
UID:3886-1748131200-1748217600@ministranci.waw.pl
SUMMARY:VI Niedziela Wielkanocna
DESCRIPTION:
URL:https://ministranci.waw.pl/event/vi-niedziela-wielkanocna/
END:VEVENT
BEGIN:VEVENT
DTSTART;TZID=UTC:20250524T000000
DTEND;TZID=UTC:20250525T000000
DTSTAMP:20260420T152639
CREATED:20241226T182851Z
LAST-MODIFIED:20241226T182851Z
UID:3885-1748044800-1748131200@ministranci.waw.pl
SUMMARY:Wspomnienie Najświętszej Maryi Panny Wspomożycielki Wiernych
DESCRIPTION:
URL:https://ministranci.waw.pl/event/wspomnienie-najswietszej-maryi-panny-wspomozycielki-wiernych/
END:VEVENT
BEGIN:VEVENT
DTSTART;TZID=UTC:20250523T000000
DTEND;TZID=UTC:20250524T000000
DTSTAMP:20260420T152639
CREATED:20241226T182851Z
LAST-MODIFIED:20241226T182851Z
UID:3884-1747958400-1748044800@ministranci.waw.pl
SUMMARY:Piątek V Tygodnia Wielkanocnego
DESCRIPTION:
URL:https://ministranci.waw.pl/event/piatek-v-tygodnia-wielkanocnego/
END:VEVENT
END:VCALENDAR