BEGIN:VCALENDAR
VERSION:2.0
PRODID:-//Liturgiczna Służba Ołtarza - ECPv6.15.18//NONSGML v1.0//EN
CALSCALE:GREGORIAN
METHOD:PUBLISH
X-ORIGINAL-URL:https://ministranci.waw.pl
X-WR-CALDESC:Wydarzenia dla Liturgiczna Służba Ołtarza
REFRESH-INTERVAL;VALUE=DURATION:PT1H
X-Robots-Tag:noindex
X-PUBLISHED-TTL:PT1H
BEGIN:VTIMEZONE
TZID:UTC
BEGIN:STANDARD
TZOFFSETFROM:+0000
TZOFFSETTO:+0000
TZNAME:UTC
DTSTART:20250101T000000
END:STANDARD
END:VTIMEZONE
BEGIN:VEVENT
DTSTART;TZID=UTC:20261212T000000
DTEND;TZID=UTC:20261213T000000
DTSTAMP:20260419T231704
CREATED:20260102T133049Z
LAST-MODIFIED:20260102T133049Z
UID:4861-1797033600-1797120000@ministranci.waw.pl
SUMMARY:Najświętszej Maryi Panny z Guadalupe
DESCRIPTION:
URL:https://ministranci.waw.pl/event/najswietszej-maryi-panny-z-guadalupe/
END:VEVENT
BEGIN:VEVENT
DTSTART;TZID=UTC:20261213T000000
DTEND;TZID=UTC:20261214T000000
DTSTAMP:20260419T231704
CREATED:20260102T133049Z
LAST-MODIFIED:20260102T133049Z
UID:4862-1797120000-1797206400@ministranci.waw.pl
SUMMARY:III Niedziela Adwentu
DESCRIPTION:
URL:https://ministranci.waw.pl/event/iii-niedziela-adwentu-2/
END:VEVENT
BEGIN:VEVENT
DTSTART;TZID=UTC:20261214T000000
DTEND;TZID=UTC:20261215T000000
DTSTAMP:20260419T231704
CREATED:20260102T133049Z
LAST-MODIFIED:20260102T133049Z
UID:4863-1797206400-1797292800@ministranci.waw.pl
SUMMARY:Św. Jana od Krzyża prezbitera i doktora Kościoła
DESCRIPTION:
URL:https://ministranci.waw.pl/event/sw-jana-od-krzyza-prezbitera-i-doktora-kosciola/
END:VEVENT
BEGIN:VEVENT
DTSTART;TZID=UTC:20261215T000000
DTEND;TZID=UTC:20261216T000000
DTSTAMP:20260419T231704
CREATED:20260102T133049Z
LAST-MODIFIED:20260102T133049Z
UID:4864-1797292800-1797379200@ministranci.waw.pl
SUMMARY:Wtorek III tygodnia Adwentu
DESCRIPTION:
URL:https://ministranci.waw.pl/event/wtorek-iii-tygodnia-adwentu-2/
END:VEVENT
BEGIN:VEVENT
DTSTART;TZID=UTC:20261216T000000
DTEND;TZID=UTC:20261217T000000
DTSTAMP:20260419T231704
CREATED:20260102T133104Z
LAST-MODIFIED:20260102T133104Z
UID:4865-1797379200-1797465600@ministranci.waw.pl
SUMMARY:Środa III tygodnia Adwentu
DESCRIPTION:
URL:https://ministranci.waw.pl/event/sroda-iii-tygodnia-adwentu/
END:VEVENT
BEGIN:VEVENT
DTSTART;TZID=UTC:20261217T000000
DTEND;TZID=UTC:20261218T000000
DTSTAMP:20260419T231704
CREATED:20260102T133104Z
LAST-MODIFIED:20260102T133104Z
UID:4866-1797465600-1797552000@ministranci.waw.pl
SUMMARY:Dzień adwentu (17 grudnia)
DESCRIPTION:
URL:https://ministranci.waw.pl/event/dzien-adwentu-17-grudnia-2/
END:VEVENT
BEGIN:VEVENT
DTSTART;TZID=UTC:20261218T000000
DTEND;TZID=UTC:20261219T000000
DTSTAMP:20260419T231704
CREATED:20260102T133104Z
LAST-MODIFIED:20260102T133104Z
UID:4867-1797552000-1797638400@ministranci.waw.pl
SUMMARY:Dzień adwentu (18 grudnia)
DESCRIPTION:
URL:https://ministranci.waw.pl/event/dzien-adwentu-18-grudnia-2/
END:VEVENT
BEGIN:VEVENT
DTSTART;TZID=UTC:20261219T000000
DTEND;TZID=UTC:20261220T000000
DTSTAMP:20260419T231704
CREATED:20260102T133104Z
LAST-MODIFIED:20260102T133104Z
UID:4868-1797638400-1797724800@ministranci.waw.pl
SUMMARY:Dzień adwentu (19 grudnia)
DESCRIPTION:
URL:https://ministranci.waw.pl/event/dzien-adwentu-19-grudnia-2/
END:VEVENT
BEGIN:VEVENT
DTSTART;TZID=UTC:20261220T000000
DTEND;TZID=UTC:20261221T000000
DTSTAMP:20260419T231704
CREATED:20260102T133104Z
LAST-MODIFIED:20260102T133104Z
UID:4869-1797724800-1797811200@ministranci.waw.pl
SUMMARY:IV Niedziela Adwentu
DESCRIPTION:
URL:https://ministranci.waw.pl/event/iv-niedziela-adwentu-2/
END:VEVENT
BEGIN:VEVENT
DTSTART;TZID=UTC:20261221T000000
DTEND;TZID=UTC:20261222T000000
DTSTAMP:20260419T231704
CREATED:20260102T133119Z
LAST-MODIFIED:20260102T133119Z
UID:4870-1797811200-1797897600@ministranci.waw.pl
SUMMARY:Dzień adwentu (21 grudnia)
DESCRIPTION:
URL:https://ministranci.waw.pl/event/dzien-adwentu-21-grudnia/
END:VEVENT
BEGIN:VEVENT
DTSTART;TZID=UTC:20261221T000000
DTEND;TZID=UTC:20261222T000000
DTSTAMP:20260419T231704
CREATED:20260102T133119Z
LAST-MODIFIED:20260102T133119Z
UID:4871-1797811200-1797897600@ministranci.waw.pl
SUMMARY:Św. Piotra Kanizjusza prezbitera i doktora Kościoła
DESCRIPTION:
URL:https://ministranci.waw.pl/event/sw-piotra-kanizjusza-prezbitera-i-doktora-kosciola/
END:VEVENT
BEGIN:VEVENT
DTSTART;TZID=UTC:20261222T000000
DTEND;TZID=UTC:20261223T000000
DTSTAMP:20260419T231704
CREATED:20260102T133119Z
LAST-MODIFIED:20260102T133119Z
UID:4872-1797897600-1797984000@ministranci.waw.pl
SUMMARY:Dzień adwentu (22 grudnia)
DESCRIPTION:
URL:https://ministranci.waw.pl/event/dzien-adwentu-22-grudnia-2/
END:VEVENT
BEGIN:VEVENT
DTSTART;TZID=UTC:20261223T000000
DTEND;TZID=UTC:20261224T000000
DTSTAMP:20260419T231704
CREATED:20260102T133119Z
LAST-MODIFIED:20260102T133119Z
UID:4873-1797984000-1798070400@ministranci.waw.pl
SUMMARY:Dzień adwentu (23 grudnia)
DESCRIPTION:
URL:https://ministranci.waw.pl/event/dzien-adwentu-23-grudnia-2/
END:VEVENT
BEGIN:VEVENT
DTSTART;TZID=UTC:20261224T000000
DTEND;TZID=UTC:20261225T000000
DTSTAMP:20260419T231704
CREATED:20260102T133119Z
LAST-MODIFIED:20260102T133119Z
UID:4874-1798070400-1798156800@ministranci.waw.pl
SUMMARY:Dzień adwentu (24 grudnia)
DESCRIPTION:
URL:https://ministranci.waw.pl/event/dzien-adwentu-24-grudnia-2/
END:VEVENT
BEGIN:VEVENT
DTSTART;TZID=UTC:20261225T000000
DTEND;TZID=UTC:20261226T000000
DTSTAMP:20260419T231704
CREATED:20260102T133134Z
LAST-MODIFIED:20260102T133134Z
UID:4875-1798156800-1798243200@ministranci.waw.pl
SUMMARY:Narodzenie Pańskie
DESCRIPTION:
URL:https://ministranci.waw.pl/event/narodzenie-panskie/
END:VEVENT
BEGIN:VEVENT
DTSTART;TZID=UTC:20261226T000000
DTEND;TZID=UTC:20261227T000000
DTSTAMP:20260419T231705
CREATED:20260102T133134Z
LAST-MODIFIED:20260102T133134Z
UID:4876-1798243200-1798329600@ministranci.waw.pl
SUMMARY:Św. Szczepana pierwszego męczennika
DESCRIPTION:
URL:https://ministranci.waw.pl/event/sw-szczepana-pierwszego-meczennika/
END:VEVENT
BEGIN:VEVENT
DTSTART;TZID=UTC:20261227T000000
DTEND;TZID=UTC:20261228T000000
DTSTAMP:20260419T231705
CREATED:20260102T133134Z
LAST-MODIFIED:20260102T133134Z
UID:4877-1798329600-1798416000@ministranci.waw.pl
SUMMARY:Świętej Rodziny Jezusa Maryi i Józefa
DESCRIPTION:
URL:https://ministranci.waw.pl/event/swietej-rodziny-jezusa-maryi-i-jozefa/
END:VEVENT
BEGIN:VEVENT
DTSTART;TZID=UTC:20261228T000000
DTEND;TZID=UTC:20261229T000000
DTSTAMP:20260419T231705
CREATED:20260102T133134Z
LAST-MODIFIED:20260102T133134Z
UID:4878-1798416000-1798502400@ministranci.waw.pl
SUMMARY:Świętych Młodziaków męczenników
DESCRIPTION:
URL:https://ministranci.waw.pl/event/swietych-mlodziakow-meczennikow/
END:VEVENT
BEGIN:VEVENT
DTSTART;TZID=UTC:20261229T000000
DTEND;TZID=UTC:20261230T000000
DTSTAMP:20260419T231705
CREATED:20260102T133134Z
LAST-MODIFIED:20260102T133134Z
UID:4879-1798502400-1798588800@ministranci.waw.pl
SUMMARY:V dzień w oktawie Narodzenia Pańskiego
DESCRIPTION:
URL:https://ministranci.waw.pl/event/v-dzien-w-oktawie-narodzenia-panskiego-2/
END:VEVENT
BEGIN:VEVENT
DTSTART;VALUE=DATE:20261231
DTEND;VALUE=DATE:20270101
DTSTAMP:20260419T231705
CREATED:20230703T144022Z
LAST-MODIFIED:20260102T134142Z
UID:3280-1798675200-1798761599@ministranci.waw.pl
SUMMARY:św. Sylwestra I
DESCRIPTION:Wspomnienie dodatkowe świętego Sylwestra I papieża.
URL:https://ministranci.waw.pl/event/sw-sylwestra-i/
END:VEVENT
END:VCALENDAR