BEGIN:VCALENDAR
VERSION:2.0
PRODID:-//Liturgiczna Służba Ołtarza - ECPv6.15.18//NONSGML v1.0//EN
CALSCALE:GREGORIAN
METHOD:PUBLISH
X-WR-CALNAME:Liturgiczna Służba Ołtarza
X-ORIGINAL-URL:https://ministranci.waw.pl
X-WR-CALDESC:Wydarzenia dla Liturgiczna Służba Ołtarza
REFRESH-INTERVAL;VALUE=DURATION:PT1H
X-Robots-Tag:noindex
X-PUBLISHED-TTL:PT1H
BEGIN:VTIMEZONE
TZID:UTC
BEGIN:STANDARD
TZOFFSETFROM:+0000
TZOFFSETTO:+0000
TZNAME:UTC
DTSTART:20240101T000000
END:STANDARD
END:VTIMEZONE
BEGIN:VEVENT
DTSTART;TZID=UTC:20250714T000000
DTEND;TZID=UTC:20250715T000000
DTSTAMP:20260420T082543
CREATED:20241226T183425Z
LAST-MODIFIED:20241226T183425Z
UID:3953-1752451200-1752537600@ministranci.waw.pl
SUMMARY:Wspomnienie Św. Henryka
DESCRIPTION:
URL:https://ministranci.waw.pl/event/wspomnienie-sw-henryka/
END:VEVENT
BEGIN:VEVENT
DTSTART;TZID=UTC:20250714T000000
DTEND;TZID=UTC:20250715T000000
DTSTAMP:20260420T082543
CREATED:20241226T183225Z
LAST-MODIFIED:20241226T183225Z
UID:3952-1752451200-1752537600@ministranci.waw.pl
SUMMARY:Poniedziałek XV tygodnia zwykłego
DESCRIPTION:
URL:https://ministranci.waw.pl/event/poniedzialek-xv-tygodnia-zwyklego/
END:VEVENT
BEGIN:VEVENT
DTSTART;TZID=UTC:20250713T000000
DTEND;TZID=UTC:20250714T000000
DTSTAMP:20260420T082543
CREATED:20241226T183225Z
LAST-MODIFIED:20241226T183225Z
UID:3951-1752364800-1752451200@ministranci.waw.pl
SUMMARY:XV Niedziela Zwykła
DESCRIPTION:
URL:https://ministranci.waw.pl/event/xv-niedziela-zwykla/
END:VEVENT
BEGIN:VEVENT
DTSTART;TZID=UTC:20250712T000000
DTEND;TZID=UTC:20250713T000000
DTSTAMP:20260420T082543
CREATED:20241226T183225Z
LAST-MODIFIED:20241226T183225Z
UID:3950-1752278400-1752364800@ministranci.waw.pl
SUMMARY:Wspomnienie Św. Brunona Bonifacego z Kwerfurtu biskupa i męczennika
DESCRIPTION:
URL:https://ministranci.waw.pl/event/wspomnienie-sw-brunona-bonifacego-z-kwerfurtu-biskupa-i-meczennika/
END:VEVENT
BEGIN:VEVENT
DTSTART;TZID=UTC:20250711T000000
DTEND;TZID=UTC:20250712T000000
DTSTAMP:20260420T082543
CREATED:20241226T183225Z
LAST-MODIFIED:20241226T183225Z
UID:3949-1752192000-1752278400@ministranci.waw.pl
SUMMARY:Święto Św. Benedykta opata
DESCRIPTION:
URL:https://ministranci.waw.pl/event/swieto-sw-benedykta-opata/
END:VEVENT
BEGIN:VEVENT
DTSTART;TZID=UTC:20250710T000000
DTEND;TZID=UTC:20250711T000000
DTSTAMP:20260420T082543
CREATED:20241226T183225Z
LAST-MODIFIED:20241226T183225Z
UID:3948-1752105600-1752192000@ministranci.waw.pl
SUMMARY:Czwartek XIV tygodnia zwykłego
DESCRIPTION:
URL:https://ministranci.waw.pl/event/czwartek-xiv-tygodnia-zwyklego/
END:VEVENT
BEGIN:VEVENT
DTSTART;TZID=UTC:20250709T000000
DTEND;TZID=UTC:20250710T000000
DTSTAMP:20260420T082543
CREATED:20241226T183210Z
LAST-MODIFIED:20241226T183210Z
UID:3946-1752019200-1752105600@ministranci.waw.pl
SUMMARY:Środa XIV tygodnia zwykłego
DESCRIPTION:
URL:https://ministranci.waw.pl/event/sroda-xiv-tygodnia-zwyklego/
END:VEVENT
BEGIN:VEVENT
DTSTART;TZID=UTC:20250709T000000
DTEND;TZID=UTC:20250710T000000
DTSTAMP:20260420T082543
CREATED:20241226T183210Z
LAST-MODIFIED:20241226T183210Z
UID:3947-1752019200-1752105600@ministranci.waw.pl
SUMMARY:Wspomnienie Świętych męczenników Augustyna Zhao Rong prezbitera i Towarzyszy
DESCRIPTION:
URL:https://ministranci.waw.pl/event/wspomnienie-swietych-meczennikow-augustyna-zhao-rong-prezbitera-i-towarzyszy/
END:VEVENT
BEGIN:VEVENT
DTSTART;TZID=UTC:20250708T000000
DTEND;TZID=UTC:20250709T000000
DTSTAMP:20260420T082543
CREATED:20241226T183210Z
LAST-MODIFIED:20241226T183210Z
UID:3945-1751932800-1752019200@ministranci.waw.pl
SUMMARY:Wspomnienie Św. Jana z Dukli prezbitera
DESCRIPTION:
URL:https://ministranci.waw.pl/event/wspomnienie-sw-jana-z-dukli-prezbitera/
END:VEVENT
BEGIN:VEVENT
DTSTART;TZID=UTC:20250707T000000
DTEND;TZID=UTC:20250708T000000
DTSTAMP:20260420T082543
CREATED:20241226T183210Z
LAST-MODIFIED:20241226T183210Z
UID:3944-1751846400-1751932800@ministranci.waw.pl
SUMMARY:Poniedziałek XIV tygodnia zwykłego
DESCRIPTION:
URL:https://ministranci.waw.pl/event/poniedzialek-xiv-tygodnia-zwyklego/
END:VEVENT
BEGIN:VEVENT
DTSTART;TZID=UTC:20250706T000000
DTEND;TZID=UTC:20250707T000000
DTSTAMP:20260420T082543
CREATED:20241226T183210Z
LAST-MODIFIED:20241226T183210Z
UID:3943-1751760000-1751846400@ministranci.waw.pl
SUMMARY:XIV Niedziela Zwykła
DESCRIPTION:
URL:https://ministranci.waw.pl/event/xiv-niedziela-zwykla/
END:VEVENT
BEGIN:VEVENT
DTSTART;TZID=UTC:20250705T000000
DTEND;TZID=UTC:20250706T000000
DTSTAMP:20260420T082543
CREATED:20241226T183139Z
LAST-MODIFIED:20241226T183139Z
UID:3941-1751673600-1751760000@ministranci.waw.pl
SUMMARY:Wspomnienie Św. Marii Goretti dziewicy i męczennicy
DESCRIPTION:
URL:https://ministranci.waw.pl/event/wspomnienie-sw-marii-goretti-dziewicy-i-meczennicy/
END:VEVENT
BEGIN:VEVENT
DTSTART;TZID=UTC:20250705T000000
DTEND;TZID=UTC:20250706T000000
DTSTAMP:20260420T082543
CREATED:20241226T183139Z
LAST-MODIFIED:20241226T183139Z
UID:3942-1751673600-1751760000@ministranci.waw.pl
SUMMARY:Wspomnienie Najświętszej Maryi Panny
DESCRIPTION:
URL:https://ministranci.waw.pl/event/wspomnienie-najswietszej-maryi-panny-6/
END:VEVENT
BEGIN:VEVENT
DTSTART;TZID=UTC:20250705T000000
DTEND;TZID=UTC:20250706T000000
DTSTAMP:20260420T082543
CREATED:20241226T183139Z
LAST-MODIFIED:20241226T183139Z
UID:3939-1751673600-1751760000@ministranci.waw.pl
SUMMARY:Sobota XIII tygodnia zwykłego
DESCRIPTION:
URL:https://ministranci.waw.pl/event/sobota-xiii-tygodnia-zwyklego/
END:VEVENT
BEGIN:VEVENT
DTSTART;TZID=UTC:20250705T000000
DTEND;TZID=UTC:20250706T000000
DTSTAMP:20260420T082543
CREATED:20241226T183139Z
LAST-MODIFIED:20241226T183139Z
UID:3940-1751673600-1751760000@ministranci.waw.pl
SUMMARY:Wspomnienie Św. Antoniego Marii Zaccarii prezbitera
DESCRIPTION:
URL:https://ministranci.waw.pl/event/wspomnienie-sw-antoniego-marii-zaccarii-prezbitera/
END:VEVENT
BEGIN:VEVENT
DTSTART;TZID=UTC:20250704T000000
DTEND;TZID=UTC:20250705T000000
DTSTAMP:20260420T082543
CREATED:20241226T183139Z
LAST-MODIFIED:20241226T183139Z
UID:3938-1751587200-1751673600@ministranci.waw.pl
SUMMARY:Wspomnienie Św. Elżbiety Portugalskiej
DESCRIPTION:
URL:https://ministranci.waw.pl/event/wspomnienie-sw-elzbiety-portugalskiej/
END:VEVENT
BEGIN:VEVENT
DTSTART;TZID=UTC:20250704T000000
DTEND;TZID=UTC:20250705T000000
DTSTAMP:20260420T082543
CREATED:20241226T183124Z
LAST-MODIFIED:20241226T183124Z
UID:3937-1751587200-1751673600@ministranci.waw.pl
SUMMARY:Piątek XIII tygodnia zwykłego
DESCRIPTION:
URL:https://ministranci.waw.pl/event/piatek-xiii-tygodnia-zwyklego/
END:VEVENT
BEGIN:VEVENT
DTSTART;TZID=UTC:20250703T000000
DTEND;TZID=UTC:20250704T000000
DTSTAMP:20260420T082543
CREATED:20241226T183124Z
LAST-MODIFIED:20241226T183124Z
UID:3936-1751500800-1751587200@ministranci.waw.pl
SUMMARY:Święto Św. Tomasza Apostoła
DESCRIPTION:
URL:https://ministranci.waw.pl/event/swieto-sw-tomasza-apostola/
END:VEVENT
BEGIN:VEVENT
DTSTART;TZID=UTC:20250702T000000
DTEND;TZID=UTC:20250703T000000
DTSTAMP:20260420T082543
CREATED:20241226T183124Z
LAST-MODIFIED:20241226T183124Z
UID:3935-1751414400-1751500800@ministranci.waw.pl
SUMMARY:Środa XIII tygodnia zwykłego
DESCRIPTION:
URL:https://ministranci.waw.pl/event/sroda-xiii-tygodnia-zwyklego/
END:VEVENT
BEGIN:VEVENT
DTSTART;TZID=UTC:20250701T000000
DTEND;TZID=UTC:20250702T000000
DTSTAMP:20260420T082543
CREATED:20241226T183123Z
LAST-MODIFIED:20241226T183123Z
UID:3933-1751328000-1751414400@ministranci.waw.pl
SUMMARY:Wtorek XIII tygodnia zwykłego
DESCRIPTION:
URL:https://ministranci.waw.pl/event/wtorek-xiii-tygodnia-zwyklego/
END:VEVENT
BEGIN:VEVENT
DTSTART;TZID=UTC:20250701T000000
DTEND;TZID=UTC:20250702T000000
DTSTAMP:20260420T082543
CREATED:20241226T183123Z
LAST-MODIFIED:20241226T183123Z
UID:3934-1751328000-1751414400@ministranci.waw.pl
SUMMARY:Wspomnienie Św. Ottona z Bambergu biskupa
DESCRIPTION:
URL:https://ministranci.waw.pl/event/wspomnienie-sw-ottona-z-bambergu-biskupa/
END:VEVENT
BEGIN:VEVENT
DTSTART;TZID=UTC:20250630T000000
DTEND;TZID=UTC:20250701T000000
DTSTAMP:20260420T082543
CREATED:20241226T183106Z
LAST-MODIFIED:20241226T183106Z
UID:3931-1751241600-1751328000@ministranci.waw.pl
SUMMARY:Poniedziałek XIII tygodnia zwykłego
DESCRIPTION:
URL:https://ministranci.waw.pl/event/poniedzialek-xiii-tygodnia-zwyklego/
END:VEVENT
BEGIN:VEVENT
DTSTART;TZID=UTC:20250630T000000
DTEND;TZID=UTC:20250701T000000
DTSTAMP:20260420T082543
CREATED:20241226T183106Z
LAST-MODIFIED:20241226T183106Z
UID:3932-1751241600-1751328000@ministranci.waw.pl
SUMMARY:Wspomnienie Świętych pierwszych męczenników świętego Kościoła Rzymskiego
DESCRIPTION:
URL:https://ministranci.waw.pl/event/wspomnienie-swietych-pierwszych-meczennikow-swietego-kosciola-rzymskiego/
END:VEVENT
BEGIN:VEVENT
DTSTART;TZID=UTC:20250629T000000
DTEND;TZID=UTC:20250630T000000
DTSTAMP:20260420T082543
CREATED:20241226T183106Z
LAST-MODIFIED:20241226T183106Z
UID:3930-1751155200-1751241600@ministranci.waw.pl
SUMMARY:Uroczystość Świętych Apostołów Piotra i Pawła
DESCRIPTION:
URL:https://ministranci.waw.pl/event/uroczystosc-swietych-apostolow-piotra-i-pawla/
END:VEVENT
BEGIN:VEVENT
DTSTART;TZID=UTC:20250628T000000
DTEND;TZID=UTC:20250629T000000
DTSTAMP:20260420T082543
CREATED:20241226T183106Z
LAST-MODIFIED:20241226T183106Z
UID:3928-1751068800-1751155200@ministranci.waw.pl
SUMMARY:Wspomnienie Niepokalanego Serca Najświętszej Maryi Panny
DESCRIPTION:
URL:https://ministranci.waw.pl/event/wspomnienie-niepokalanego-serca-najswietszej-maryi-panny/
END:VEVENT
BEGIN:VEVENT
DTSTART;TZID=UTC:20250628T000000
DTEND;TZID=UTC:20250629T000000
DTSTAMP:20260420T082543
CREATED:20241226T183106Z
LAST-MODIFIED:20241226T183106Z
UID:3929-1751068800-1751155200@ministranci.waw.pl
SUMMARY:Wspomnienie Św. Ireneusza biskupa męczennika i doktora Kościoła
DESCRIPTION:
URL:https://ministranci.waw.pl/event/wspomnienie-sw-ireneusza-biskupa-meczennika-i-doktora-kosciola/
END:VEVENT
BEGIN:VEVENT
DTSTART;TZID=UTC:20250627T000000
DTEND;TZID=UTC:20250628T000000
DTSTAMP:20260420T082543
CREATED:20241226T183052Z
LAST-MODIFIED:20241226T183052Z
UID:3927-1750982400-1751068800@ministranci.waw.pl
SUMMARY:Uroczystość Najświętszego Serca Pana Jezusa
DESCRIPTION:
URL:https://ministranci.waw.pl/event/uroczystosc-najswietszego-serca-pana-jezusa-2/
END:VEVENT
BEGIN:VEVENT
DTSTART;TZID=UTC:20250626T000000
DTEND;TZID=UTC:20250627T000000
DTSTAMP:20260420T082543
CREATED:20241226T183051Z
LAST-MODIFIED:20241226T183051Z
UID:3925-1750896000-1750982400@ministranci.waw.pl
SUMMARY:Czwartek XII tygodnia zwykłego
DESCRIPTION:
URL:https://ministranci.waw.pl/event/czwartek-xii-tygodnia-zwyklego/
END:VEVENT
BEGIN:VEVENT
DTSTART;TZID=UTC:20250626T000000
DTEND;TZID=UTC:20250627T000000
DTSTAMP:20260420T082543
CREATED:20241226T183051Z
LAST-MODIFIED:20241226T183051Z
UID:3926-1750896000-1750982400@ministranci.waw.pl
SUMMARY:Wspomnienie Św. Zygmunta Gorazdowskiego prezbitera
DESCRIPTION:
URL:https://ministranci.waw.pl/event/wspomnienie-sw-zygmunta-gorazdowskiego-prezbitera/
END:VEVENT
BEGIN:VEVENT
DTSTART;TZID=UTC:20250625T000000
DTEND;TZID=UTC:20250626T000000
DTSTAMP:20260420T082543
CREATED:20241226T183051Z
LAST-MODIFIED:20241226T183051Z
UID:3924-1750809600-1750896000@ministranci.waw.pl
SUMMARY:Środa XII tygodnia zwykłego
DESCRIPTION:
URL:https://ministranci.waw.pl/event/sroda-xii-tygodnia-zwyklego/
END:VEVENT
END:VCALENDAR