BEGIN:VCALENDAR
VERSION:2.0
PRODID:-//Liturgiczna Służba Ołtarza - ECPv6.15.18//NONSGML v1.0//EN
CALSCALE:GREGORIAN
METHOD:PUBLISH
X-ORIGINAL-URL:https://ministranci.waw.pl
X-WR-CALDESC:Wydarzenia dla Liturgiczna Służba Ołtarza
REFRESH-INTERVAL;VALUE=DURATION:PT1H
X-Robots-Tag:noindex
X-PUBLISHED-TTL:PT1H
BEGIN:VTIMEZONE
TZID:UTC
BEGIN:STANDARD
TZOFFSETFROM:+0000
TZOFFSETTO:+0000
TZNAME:UTC
DTSTART:20250101T000000
END:STANDARD
END:VTIMEZONE
BEGIN:VEVENT
DTSTART;TZID=UTC:20261123T000000
DTEND;TZID=UTC:20261124T000000
DTSTAMP:20260419T182400
CREATED:20260102T132919Z
LAST-MODIFIED:20260102T132919Z
UID:4831-1795392000-1795478400@ministranci.waw.pl
SUMMARY:Poniedziałek XXXIV tygodnia zwykłego
DESCRIPTION:
URL:https://ministranci.waw.pl/event/poniedzialek-xxxiv-tygodnia-zwyklego/
END:VEVENT
BEGIN:VEVENT
DTSTART;TZID=UTC:20261123T000000
DTEND;TZID=UTC:20261124T000000
DTSTAMP:20260419T182400
CREATED:20260102T132919Z
LAST-MODIFIED:20260102T132919Z
UID:4832-1795392000-1795478400@ministranci.waw.pl
SUMMARY:Św. Klemensa I papieża i męczennika
DESCRIPTION:
URL:https://ministranci.waw.pl/event/sw-klemensa-i-papieza-i-meczennika/
END:VEVENT
BEGIN:VEVENT
DTSTART;TZID=UTC:20261123T000000
DTEND;TZID=UTC:20261124T000000
DTSTAMP:20260419T182400
CREATED:20260102T132919Z
LAST-MODIFIED:20260102T132919Z
UID:4833-1795392000-1795478400@ministranci.waw.pl
SUMMARY:Św. Kolumbana opata
DESCRIPTION:
URL:https://ministranci.waw.pl/event/sw-kolumbana-opata/
END:VEVENT
BEGIN:VEVENT
DTSTART;TZID=UTC:20261124T000000
DTEND;TZID=UTC:20261125T000000
DTSTAMP:20260419T182400
CREATED:20260102T132919Z
LAST-MODIFIED:20260102T132919Z
UID:4834-1795478400-1795564800@ministranci.waw.pl
SUMMARY:Świętych męczenników Andrzeja Dung-Lac prezbitera i Towarzyszy
DESCRIPTION:
URL:https://ministranci.waw.pl/event/swietych-meczennikow-andrzeja-dung-lac-prezbitera-i-towarzyszy/
END:VEVENT
BEGIN:VEVENT
DTSTART;TZID=UTC:20261125T000000
DTEND;TZID=UTC:20261126T000000
DTSTAMP:20260419T182400
CREATED:20260102T132934Z
LAST-MODIFIED:20260102T132934Z
UID:4835-1795564800-1795651200@ministranci.waw.pl
SUMMARY:Środa XXXIV tygodnia zwykłego
DESCRIPTION:
URL:https://ministranci.waw.pl/event/sroda-xxxiv-tygodnia-zwyklego-2/
END:VEVENT
BEGIN:VEVENT
DTSTART;TZID=UTC:20261125T000000
DTEND;TZID=UTC:20261126T000000
DTSTAMP:20260419T182400
CREATED:20260102T132934Z
LAST-MODIFIED:20260102T132934Z
UID:4836-1795564800-1795651200@ministranci.waw.pl
SUMMARY:Bł. Marii od Pana Jezusa Dobrego Pasterza (Franciszki Siedliskiej) zakonnicy
DESCRIPTION:
URL:https://ministranci.waw.pl/event/bl-marii-od-pana-jezusa-dobrego-pasterza-franciszki-siedliskiej-zakonnicy/
END:VEVENT
BEGIN:VEVENT
DTSTART;TZID=UTC:20261125T000000
DTEND;TZID=UTC:20261126T000000
DTSTAMP:20260419T182400
CREATED:20260102T132934Z
LAST-MODIFIED:20260102T132934Z
UID:4837-1795564800-1795651200@ministranci.waw.pl
SUMMARY:Św. Katarzyny Aleksandryjskiej dziewicy i męczennicy
DESCRIPTION:
URL:https://ministranci.waw.pl/event/sw-katarzyny-aleksandryjskiej-dziewicy-i-meczennicy/
END:VEVENT
BEGIN:VEVENT
DTSTART;TZID=UTC:20261126T000000
DTEND;TZID=UTC:20261127T000000
DTSTAMP:20260419T182400
CREATED:20260102T132934Z
LAST-MODIFIED:20260102T132934Z
UID:4838-1795651200-1795737600@ministranci.waw.pl
SUMMARY:Czwartek XXXIV tygodnia zwykłego
DESCRIPTION:
URL:https://ministranci.waw.pl/event/czwartek-xxxiv-tygodnia-zwyklego-2/
END:VEVENT
BEGIN:VEVENT
DTSTART;TZID=UTC:20261127T000000
DTEND;TZID=UTC:20261128T000000
DTSTAMP:20260419T182400
CREATED:20260102T132934Z
LAST-MODIFIED:20260102T132934Z
UID:4839-1795737600-1795824000@ministranci.waw.pl
SUMMARY:Piątek XXXIV tygodnia zwykłego
DESCRIPTION:
URL:https://ministranci.waw.pl/event/piatek-xxxiv-tygodnia-zwyklego-2/
END:VEVENT
BEGIN:VEVENT
DTSTART;TZID=UTC:20261128T000000
DTEND;TZID=UTC:20261129T000000
DTSTAMP:20260419T182400
CREATED:20260102T132949Z
LAST-MODIFIED:20260102T132949Z
UID:4840-1795824000-1795910400@ministranci.waw.pl
SUMMARY:Sobota XXXIV tygodnia zwykłego
DESCRIPTION:
URL:https://ministranci.waw.pl/event/sobota-xxxiv-tygodnia-zwyklego-2/
END:VEVENT
BEGIN:VEVENT
DTSTART;TZID=UTC:20261128T000000
DTEND;TZID=UTC:20261129T000000
DTSTAMP:20260419T182400
CREATED:20260102T132949Z
LAST-MODIFIED:20260102T132949Z
UID:4841-1795824000-1795910400@ministranci.waw.pl
SUMMARY:Najświętszej Maryi Panny
DESCRIPTION:
URL:https://ministranci.waw.pl/event/najswietszej-maryi-panny-19/
END:VEVENT
BEGIN:VEVENT
DTSTART;TZID=UTC:20261129T000000
DTEND;TZID=UTC:20261130T000000
DTSTAMP:20260419T182400
CREATED:20260102T132949Z
LAST-MODIFIED:20260102T132949Z
UID:4842-1795910400-1795996800@ministranci.waw.pl
SUMMARY:I Niedziela Adwentu
DESCRIPTION:
URL:https://ministranci.waw.pl/event/i-niedziela-adwentu-2/
END:VEVENT
BEGIN:VEVENT
DTSTART;TZID=UTC:20261130T000000
DTEND;TZID=UTC:20261201T000000
DTSTAMP:20260419T182400
CREATED:20260102T132949Z
LAST-MODIFIED:20260102T132949Z
UID:4843-1795996800-1796083200@ministranci.waw.pl
SUMMARY:Św. Andrzeja Apostoła
DESCRIPTION:
URL:https://ministranci.waw.pl/event/sw-andrzeja-apostola-2/
END:VEVENT
BEGIN:VEVENT
DTSTART;TZID=UTC:20261201T000000
DTEND;TZID=UTC:20261202T000000
DTSTAMP:20260419T182400
CREATED:20260102T132949Z
LAST-MODIFIED:20260102T132949Z
UID:4844-1796083200-1796169600@ministranci.waw.pl
SUMMARY:Wtorek I tygodnia Adwentu
DESCRIPTION:
URL:https://ministranci.waw.pl/event/wtorek-i-tygodnia-adwentu-2/
END:VEVENT
BEGIN:VEVENT
DTSTART;TZID=UTC:20261202T000000
DTEND;TZID=UTC:20261203T000000
DTSTAMP:20260419T182400
CREATED:20260102T133004Z
LAST-MODIFIED:20260102T133004Z
UID:4845-1796169600-1796256000@ministranci.waw.pl
SUMMARY:Środa I tygodnia Adwentu
DESCRIPTION:
URL:https://ministranci.waw.pl/event/sroda-i-tygodnia-adwentu/
END:VEVENT
BEGIN:VEVENT
DTSTART;TZID=UTC:20261203T000000
DTEND;TZID=UTC:20261204T000000
DTSTAMP:20260419T182400
CREATED:20260102T133004Z
LAST-MODIFIED:20260102T133004Z
UID:4846-1796256000-1796342400@ministranci.waw.pl
SUMMARY:Św. Franciszka Ksawerego prezbitera
DESCRIPTION:
URL:https://ministranci.waw.pl/event/sw-franciszka-ksawerego-prezbitera/
END:VEVENT
BEGIN:VEVENT
DTSTART;TZID=UTC:20261204T000000
DTEND;TZID=UTC:20261205T000000
DTSTAMP:20260419T182400
CREATED:20260102T133004Z
LAST-MODIFIED:20260102T133004Z
UID:4847-1796342400-1796428800@ministranci.waw.pl
SUMMARY:Piątek I tygodnia Adwentu
DESCRIPTION:
URL:https://ministranci.waw.pl/event/piatek-i-tygodnia-adwentu-2/
END:VEVENT
BEGIN:VEVENT
DTSTART;TZID=UTC:20261204T000000
DTEND;TZID=UTC:20261205T000000
DTSTAMP:20260419T182400
CREATED:20260102T133004Z
LAST-MODIFIED:20260102T133004Z
UID:4848-1796342400-1796428800@ministranci.waw.pl
SUMMARY:Św. Barbary dziewicy i męczennicy
DESCRIPTION:
URL:https://ministranci.waw.pl/event/sw-barbary-dziewicy-i-meczennicy/
END:VEVENT
BEGIN:VEVENT
DTSTART;TZID=UTC:20261204T000000
DTEND;TZID=UTC:20261205T000000
DTSTAMP:20260419T182400
CREATED:20260102T133004Z
LAST-MODIFIED:20260102T133004Z
UID:4849-1796342400-1796428800@ministranci.waw.pl
SUMMARY:Św. Jana Damasceńskiego prezbitera i doktora Kościoła
DESCRIPTION:
URL:https://ministranci.waw.pl/event/sw-jana-damascenskiego-prezbitera-i-doktora-kosciola/
END:VEVENT
BEGIN:VEVENT
DTSTART;TZID=UTC:20261205T000000
DTEND;TZID=UTC:20261206T000000
DTSTAMP:20260419T182400
CREATED:20260102T133019Z
LAST-MODIFIED:20260102T133019Z
UID:4850-1796428800-1796515200@ministranci.waw.pl
SUMMARY:Sobota I tygodnia Adwentu
DESCRIPTION:
URL:https://ministranci.waw.pl/event/sobota-i-tygodnia-adwentu-2/
END:VEVENT
BEGIN:VEVENT
DTSTART;TZID=UTC:20261206T000000
DTEND;TZID=UTC:20261207T000000
DTSTAMP:20260419T182400
CREATED:20260102T133019Z
LAST-MODIFIED:20260102T133019Z
UID:4851-1796515200-1796601600@ministranci.waw.pl
SUMMARY:II Niedziela Adwentu
DESCRIPTION:
URL:https://ministranci.waw.pl/event/ii-niedziela-adwentu-2/
END:VEVENT
BEGIN:VEVENT
DTSTART;TZID=UTC:20261207T000000
DTEND;TZID=UTC:20261208T000000
DTSTAMP:20260419T182400
CREATED:20260102T133019Z
LAST-MODIFIED:20260102T133019Z
UID:4852-1796601600-1796688000@ministranci.waw.pl
SUMMARY:Św. Ambrożego biskupa i doktora Kościoła
DESCRIPTION:
URL:https://ministranci.waw.pl/event/sw-ambrozego-biskupa-i-doktora-kosciola/
END:VEVENT
BEGIN:VEVENT
DTSTART;TZID=UTC:20261208T000000
DTEND;TZID=UTC:20261209T000000
DTSTAMP:20260419T182400
CREATED:20260102T133019Z
LAST-MODIFIED:20260102T133019Z
UID:4853-1796688000-1796774400@ministranci.waw.pl
SUMMARY:Niepokalane poczęcie Najświętszej Maryi Panny
DESCRIPTION:
URL:https://ministranci.waw.pl/event/niepokalane-poczecie-najswietszej-maryi-panny/
END:VEVENT
BEGIN:VEVENT
DTSTART;TZID=UTC:20261209T000000
DTEND;TZID=UTC:20261210T000000
DTSTAMP:20260419T182400
CREATED:20260102T133019Z
LAST-MODIFIED:20260102T133019Z
UID:4854-1796774400-1796860800@ministranci.waw.pl
SUMMARY:Środa II tygodnia Adwentu
DESCRIPTION:
URL:https://ministranci.waw.pl/event/sroda-ii-tygodnia-adwentu-2/
END:VEVENT
BEGIN:VEVENT
DTSTART;TZID=UTC:20261209T000000
DTEND;TZID=UTC:20261210T000000
DTSTAMP:20260419T182400
CREATED:20260102T133034Z
LAST-MODIFIED:20260102T133034Z
UID:4855-1796774400-1796860800@ministranci.waw.pl
SUMMARY:Św. Jana Diego Cuauhtlatoatzin
DESCRIPTION:
URL:https://ministranci.waw.pl/event/sw-jana-diego-cuauhtlatoatzin/
END:VEVENT
BEGIN:VEVENT
DTSTART;TZID=UTC:20261210T000000
DTEND;TZID=UTC:20261211T000000
DTSTAMP:20260419T182400
CREATED:20260102T133034Z
LAST-MODIFIED:20260102T133034Z
UID:4856-1796860800-1796947200@ministranci.waw.pl
SUMMARY:Czwartek II tygodnia Adwentu
DESCRIPTION:
URL:https://ministranci.waw.pl/event/czwartek-ii-tygodnia-adwentu-2/
END:VEVENT
BEGIN:VEVENT
DTSTART;TZID=UTC:20261210T000000
DTEND;TZID=UTC:20261211T000000
DTSTAMP:20260419T182400
CREATED:20260102T133034Z
LAST-MODIFIED:20260102T133034Z
UID:4857-1796860800-1796947200@ministranci.waw.pl
SUMMARY:Najświętszej Maryi Panny Loretańskiej
DESCRIPTION:
URL:https://ministranci.waw.pl/event/najswietszej-maryi-panny-loretanskiej/
END:VEVENT
BEGIN:VEVENT
DTSTART;TZID=UTC:20261211T000000
DTEND;TZID=UTC:20261212T000000
DTSTAMP:20260419T182400
CREATED:20260102T133034Z
LAST-MODIFIED:20260102T133034Z
UID:4858-1796947200-1797033600@ministranci.waw.pl
SUMMARY:Piątek II tygodnia Adwentu
DESCRIPTION:
URL:https://ministranci.waw.pl/event/piatek-ii-tygodnia-adwentu-2/
END:VEVENT
BEGIN:VEVENT
DTSTART;TZID=UTC:20261211T000000
DTEND;TZID=UTC:20261212T000000
DTSTAMP:20260419T182400
CREATED:20260102T133034Z
LAST-MODIFIED:20260102T133034Z
UID:4859-1796947200-1797033600@ministranci.waw.pl
SUMMARY:Św. Damazego I papieża
DESCRIPTION:
URL:https://ministranci.waw.pl/event/sw-damazego-i-papieza/
END:VEVENT
BEGIN:VEVENT
DTSTART;TZID=UTC:20261212T000000
DTEND;TZID=UTC:20261213T000000
DTSTAMP:20260419T182400
CREATED:20260102T133049Z
LAST-MODIFIED:20260102T133049Z
UID:4861-1797033600-1797120000@ministranci.waw.pl
SUMMARY:Najświętszej Maryi Panny z Guadalupe
DESCRIPTION:
URL:https://ministranci.waw.pl/event/najswietszej-maryi-panny-z-guadalupe/
END:VEVENT
END:VCALENDAR