BEGIN:VCALENDAR
VERSION:2.0
PRODID:-//Liturgiczna Służba Ołtarza - ECPv6.15.18//NONSGML v1.0//EN
CALSCALE:GREGORIAN
METHOD:PUBLISH
X-WR-CALNAME:Liturgiczna Służba Ołtarza
X-ORIGINAL-URL:https://ministranci.waw.pl
X-WR-CALDESC:Wydarzenia dla Liturgiczna Służba Ołtarza
REFRESH-INTERVAL;VALUE=DURATION:PT1H
X-Robots-Tag:noindex
X-PUBLISHED-TTL:PT1H
BEGIN:VTIMEZONE
TZID:UTC
BEGIN:STANDARD
TZOFFSETFROM:+0000
TZOFFSETTO:+0000
TZNAME:UTC
DTSTART:20240101T000000
END:STANDARD
END:VTIMEZONE
BEGIN:VEVENT
DTSTART;TZID=UTC:20250803T000000
DTEND;TZID=UTC:20250804T000000
DTSTAMP:20260420T024451
CREATED:20241226T183805Z
LAST-MODIFIED:20241226T183805Z
UID:3983-1754179200-1754265600@ministranci.waw.pl
SUMMARY:XVIII Niedziela Zwykła
DESCRIPTION:
URL:https://ministranci.waw.pl/event/xviii-niedziela-zwykla/
END:VEVENT
BEGIN:VEVENT
DTSTART;TZID=UTC:20250802T000000
DTEND;TZID=UTC:20250803T000000
DTSTAMP:20260420T024451
CREATED:20241226T183750Z
LAST-MODIFIED:20241226T183750Z
UID:3979-1754092800-1754179200@ministranci.waw.pl
SUMMARY:Sobota XVII tygodnia zwykłego
DESCRIPTION:
URL:https://ministranci.waw.pl/event/sobota-xvii-tygodnia-zwyklego/
END:VEVENT
BEGIN:VEVENT
DTSTART;TZID=UTC:20250802T000000
DTEND;TZID=UTC:20250803T000000
DTSTAMP:20260420T024451
CREATED:20241226T183750Z
LAST-MODIFIED:20241226T183750Z
UID:3980-1754092800-1754179200@ministranci.waw.pl
SUMMARY:Wspomnienie Św. Euzebiusza z Vercelli biskupa
DESCRIPTION:
URL:https://ministranci.waw.pl/event/wspomnienie-sw-euzebiusza-z-vercelli-biskupa/
END:VEVENT
BEGIN:VEVENT
DTSTART;TZID=UTC:20250802T000000
DTEND;TZID=UTC:20250803T000000
DTSTAMP:20260420T024451
CREATED:20241226T183750Z
LAST-MODIFIED:20241226T183750Z
UID:3981-1754092800-1754179200@ministranci.waw.pl
SUMMARY:Wspomnienie Św. Piotra Juliani Eymarda prezbitera
DESCRIPTION:
URL:https://ministranci.waw.pl/event/wspomnienie-sw-piotra-juliani-eymarda-prezbitera/
END:VEVENT
BEGIN:VEVENT
DTSTART;TZID=UTC:20250802T000000
DTEND;TZID=UTC:20250803T000000
DTSTAMP:20260420T024451
CREATED:20241226T183750Z
LAST-MODIFIED:20241226T183750Z
UID:3982-1754092800-1754179200@ministranci.waw.pl
SUMMARY:Wspomnienie Najświętszej Maryi Panny
DESCRIPTION:
URL:https://ministranci.waw.pl/event/wspomnienie-najswietszej-maryi-panny-8/
END:VEVENT
BEGIN:VEVENT
DTSTART;TZID=UTC:20250801T000000
DTEND;TZID=UTC:20250802T000000
DTSTAMP:20260420T024451
CREATED:20241226T183750Z
LAST-MODIFIED:20241226T183750Z
UID:3978-1754006400-1754092800@ministranci.waw.pl
SUMMARY:Wspomnienie Św. Alfonsa Marii Liguoriego biskupa i doktora Kościoła
DESCRIPTION:
URL:https://ministranci.waw.pl/event/wspomnienie-sw-alfonsa-marii-liguoriego-biskupa-i-doktora-kosciola/
END:VEVENT
BEGIN:VEVENT
DTSTART;TZID=UTC:20250731T000000
DTEND;TZID=UTC:20250801T000000
DTSTAMP:20260420T024451
CREATED:20241226T183723Z
LAST-MODIFIED:20241226T183723Z
UID:3977-1753920000-1754006400@ministranci.waw.pl
SUMMARY:Wspomnienie Św. Ignacego z Loyoli prezbitera
DESCRIPTION:
URL:https://ministranci.waw.pl/event/wspomnienie-sw-ignacego-z-loyoli-prezbitera/
END:VEVENT
BEGIN:VEVENT
DTSTART;TZID=UTC:20250730T000000
DTEND;TZID=UTC:20250731T000000
DTSTAMP:20260420T024451
CREATED:20241226T183723Z
LAST-MODIFIED:20241226T183723Z
UID:3975-1753833600-1753920000@ministranci.waw.pl
SUMMARY:Środa XVII tygodnia zwykłego
DESCRIPTION:
URL:https://ministranci.waw.pl/event/sroda-xvii-tygodnia-zwyklego/
END:VEVENT
BEGIN:VEVENT
DTSTART;TZID=UTC:20250730T000000
DTEND;TZID=UTC:20250731T000000
DTSTAMP:20260420T024451
CREATED:20241226T183723Z
LAST-MODIFIED:20241226T183723Z
UID:3976-1753833600-1753920000@ministranci.waw.pl
SUMMARY:Wspomnienie Św. Piotra Chryzologa biskupa i doktora Kościoła
DESCRIPTION:
URL:https://ministranci.waw.pl/event/wspomnienie-sw-piotra-chryzologa-biskupa-i-doktora-kosciola/
END:VEVENT
BEGIN:VEVENT
DTSTART;TZID=UTC:20250729T000000
DTEND;TZID=UTC:20250730T000000
DTSTAMP:20260420T024451
CREATED:20241226T183722Z
LAST-MODIFIED:20241226T183722Z
UID:3974-1753747200-1753833600@ministranci.waw.pl
SUMMARY:Wspomnienie Świętych Marty Marii i Łazarza
DESCRIPTION:
URL:https://ministranci.waw.pl/event/wspomnienie-swietych-marty-marii-i-lazarza/
END:VEVENT
BEGIN:VEVENT
DTSTART;TZID=UTC:20250728T000000
DTEND;TZID=UTC:20250729T000000
DTSTAMP:20260420T024451
CREATED:20241226T183722Z
LAST-MODIFIED:20241226T183722Z
UID:3973-1753660800-1753747200@ministranci.waw.pl
SUMMARY:Wspomnienie Św. Sarbeliusza Makhlufa prezbitera
DESCRIPTION:
URL:https://ministranci.waw.pl/event/wspomnienie-sw-sarbeliusza-makhlufa-prezbitera/
END:VEVENT
BEGIN:VEVENT
DTSTART;TZID=UTC:20250728T000000
DTEND;TZID=UTC:20250729T000000
DTSTAMP:20260420T024451
CREATED:20241226T183708Z
LAST-MODIFIED:20241226T183708Z
UID:3972-1753660800-1753747200@ministranci.waw.pl
SUMMARY:Poniedziałek XVII tygodnia zwykłego
DESCRIPTION:
URL:https://ministranci.waw.pl/event/poniedzialek-xvii-tygodnia-zwyklego/
END:VEVENT
BEGIN:VEVENT
DTSTART;TZID=UTC:20250727T000000
DTEND;TZID=UTC:20250728T000000
DTSTAMP:20260420T024451
CREATED:20241226T183708Z
LAST-MODIFIED:20241226T183708Z
UID:3971-1753574400-1753660800@ministranci.waw.pl
SUMMARY:XVII Niedziela Zwykła
DESCRIPTION:
URL:https://ministranci.waw.pl/event/xvii-niedziela-zwykla/
END:VEVENT
BEGIN:VEVENT
DTSTART;TZID=UTC:20250726T000000
DTEND;TZID=UTC:20250727T000000
DTSTAMP:20260420T024451
CREATED:20241226T183708Z
LAST-MODIFIED:20241226T183708Z
UID:3970-1753488000-1753574400@ministranci.waw.pl
SUMMARY:Wspomnienie Świętych Joachima i Anny rodziców Najświętszej Maryi Panny
DESCRIPTION:
URL:https://ministranci.waw.pl/event/wspomnienie-swietych-joachima-i-anny-rodzicow-najswietszej-maryi-panny/
END:VEVENT
BEGIN:VEVENT
DTSTART;TZID=UTC:20250725T000000
DTEND;TZID=UTC:20250726T000000
DTSTAMP:20260420T024451
CREATED:20241226T183708Z
LAST-MODIFIED:20241226T183708Z
UID:3969-1753401600-1753488000@ministranci.waw.pl
SUMMARY:Święto Św. Jakuba Apostoła
DESCRIPTION:
URL:https://ministranci.waw.pl/event/swieto-sw-jakuba-apostola/
END:VEVENT
BEGIN:VEVENT
DTSTART;TZID=UTC:20250724T000000
DTEND;TZID=UTC:20250725T000000
DTSTAMP:20260420T024451
CREATED:20241226T183707Z
LAST-MODIFIED:20241226T183707Z
UID:3968-1753315200-1753401600@ministranci.waw.pl
SUMMARY:Wspomnienie Św. Kingi dziewicy
DESCRIPTION:
URL:https://ministranci.waw.pl/event/wspomnienie-sw-kingi-dziewicy/
END:VEVENT
BEGIN:VEVENT
DTSTART;TZID=UTC:20250723T000000
DTEND;TZID=UTC:20250724T000000
DTSTAMP:20260420T024451
CREATED:20241226T183634Z
LAST-MODIFIED:20241226T183634Z
UID:3967-1753228800-1753315200@ministranci.waw.pl
SUMMARY:Święto Św. Brygidy zakonnicy
DESCRIPTION:
URL:https://ministranci.waw.pl/event/swieto-sw-brygidy-zakonnicy/
END:VEVENT
BEGIN:VEVENT
DTSTART;TZID=UTC:20250722T000000
DTEND;TZID=UTC:20250723T000000
DTSTAMP:20260420T024451
CREATED:20241226T183634Z
LAST-MODIFIED:20241226T183634Z
UID:3966-1753142400-1753228800@ministranci.waw.pl
SUMMARY:Święto Św. Marii Magdaleny
DESCRIPTION:
URL:https://ministranci.waw.pl/event/swieto-sw-marii-magdaleny/
END:VEVENT
BEGIN:VEVENT
DTSTART;TZID=UTC:20250721T000000
DTEND;TZID=UTC:20250722T000000
DTSTAMP:20260420T024451
CREATED:20241226T183634Z
LAST-MODIFIED:20241226T183634Z
UID:3963-1753056000-1753142400@ministranci.waw.pl
SUMMARY:Poniedziałek XVI tygodnia zwykłego
DESCRIPTION:
URL:https://ministranci.waw.pl/event/poniedzialek-xvi-tygodnia-zwyklego/
END:VEVENT
BEGIN:VEVENT
DTSTART;TZID=UTC:20250721T000000
DTEND;TZID=UTC:20250722T000000
DTSTAMP:20260420T024451
CREATED:20241226T183634Z
LAST-MODIFIED:20241226T183634Z
UID:3964-1753056000-1753142400@ministranci.waw.pl
SUMMARY:Wspomnienie Św. Apolinarego biskupa i męczennika
DESCRIPTION:
URL:https://ministranci.waw.pl/event/wspomnienie-sw-apolinarego-biskupa-i-meczennika/
END:VEVENT
BEGIN:VEVENT
DTSTART;TZID=UTC:20250721T000000
DTEND;TZID=UTC:20250722T000000
DTSTAMP:20260420T024451
CREATED:20241226T183634Z
LAST-MODIFIED:20241226T183634Z
UID:3965-1753056000-1753142400@ministranci.waw.pl
SUMMARY:Wspomnienie Św. Wawrzyńca z Brindisi prezbitera i doktora Kościoła
DESCRIPTION:
URL:https://ministranci.waw.pl/event/wspomnienie-sw-wawrzynca-z-brindisi-prezbitera-i-doktora-kosciola/
END:VEVENT
BEGIN:VEVENT
DTSTART;TZID=UTC:20250720T000000
DTEND;TZID=UTC:20250721T000000
DTSTAMP:20260420T024451
CREATED:20241226T183620Z
LAST-MODIFIED:20241226T183620Z
UID:3962-1752969600-1753056000@ministranci.waw.pl
SUMMARY:XVI Niedziela Zwykła
DESCRIPTION:
URL:https://ministranci.waw.pl/event/xvi-niedziela-zwykla/
END:VEVENT
BEGIN:VEVENT
DTSTART;TZID=UTC:20250719T000000
DTEND;TZID=UTC:20250720T000000
DTSTAMP:20260420T024451
CREATED:20241226T183620Z
LAST-MODIFIED:20241226T183620Z
UID:3960-1752883200-1752969600@ministranci.waw.pl
SUMMARY:Sobota XV tygodnia zwykłego
DESCRIPTION:
URL:https://ministranci.waw.pl/event/sobota-xv-tygodnia-zwyklego/
END:VEVENT
BEGIN:VEVENT
DTSTART;TZID=UTC:20250719T000000
DTEND;TZID=UTC:20250720T000000
DTSTAMP:20260420T024451
CREATED:20241226T183620Z
LAST-MODIFIED:20241226T183620Z
UID:3961-1752883200-1752969600@ministranci.waw.pl
SUMMARY:Wspomnienie Najświętszej Maryi Panny
DESCRIPTION:
URL:https://ministranci.waw.pl/event/wspomnienie-najswietszej-maryi-panny-7/
END:VEVENT
BEGIN:VEVENT
DTSTART;TZID=UTC:20250718T000000
DTEND;TZID=UTC:20250719T000000
DTSTAMP:20260420T024451
CREATED:20241226T183619Z
LAST-MODIFIED:20241226T183619Z
UID:3958-1752796800-1752883200@ministranci.waw.pl
SUMMARY:Piątek XV tygodnia zwykłego
DESCRIPTION:
URL:https://ministranci.waw.pl/event/piatek-xv-tygodnia-zwyklego/
END:VEVENT
BEGIN:VEVENT
DTSTART;TZID=UTC:20250718T000000
DTEND;TZID=UTC:20250719T000000
DTSTAMP:20260420T024451
CREATED:20241226T183619Z
LAST-MODIFIED:20241226T183619Z
UID:3959-1752796800-1752883200@ministranci.waw.pl
SUMMARY:Wspomnienie Św. Szymona z Lipnicy prezbitera
DESCRIPTION:
URL:https://ministranci.waw.pl/event/wspomnienie-sw-szymona-z-lipnicy-prezbitera/
END:VEVENT
BEGIN:VEVENT
DTSTART;TZID=UTC:20250717T000000
DTEND;TZID=UTC:20250718T000000
DTSTAMP:20260420T024451
CREATED:20241226T183426Z
LAST-MODIFIED:20241226T183426Z
UID:3957-1752710400-1752796800@ministranci.waw.pl
SUMMARY:Czwartek XV tygodnia zwykłego
DESCRIPTION:
URL:https://ministranci.waw.pl/event/czwartek-xv-tygodnia-zwyklego/
END:VEVENT
BEGIN:VEVENT
DTSTART;TZID=UTC:20250716T000000
DTEND;TZID=UTC:20250717T000000
DTSTAMP:20260420T024451
CREATED:20241226T183426Z
LAST-MODIFIED:20241226T183426Z
UID:3956-1752624000-1752710400@ministranci.waw.pl
SUMMARY:Wspomnienie Najświętszej Maryi Panny z Góry Karmel
DESCRIPTION:
URL:https://ministranci.waw.pl/event/wspomnienie-najswietszej-maryi-panny-z-gory-karmel/
END:VEVENT
BEGIN:VEVENT
DTSTART;TZID=UTC:20250715T000000
DTEND;TZID=UTC:20250716T000000
DTSTAMP:20260420T024451
CREATED:20241226T183426Z
LAST-MODIFIED:20241226T183426Z
UID:3955-1752537600-1752624000@ministranci.waw.pl
SUMMARY:Wspomnienie Św. Bonawentury biskupa i doktora Kościoła
DESCRIPTION:
URL:https://ministranci.waw.pl/event/wspomnienie-sw-bonawentury-biskupa-i-doktora-kosciola/
END:VEVENT
BEGIN:VEVENT
DTSTART;TZID=UTC:20250714T000000
DTEND;TZID=UTC:20250715T000000
DTSTAMP:20260420T024451
CREATED:20241226T183426Z
LAST-MODIFIED:20241226T183426Z
UID:3954-1752451200-1752537600@ministranci.waw.pl
SUMMARY:Wspomnienie Św. Kamila de Lellis prezbitera
DESCRIPTION:
URL:https://ministranci.waw.pl/event/wspomnienie-sw-kamila-de-lellis-prezbitera/
END:VEVENT
END:VCALENDAR