BEGIN:VCALENDAR
VERSION:2.0
PRODID:-//Liturgiczna Służba Ołtarza - ECPv6.15.18//NONSGML v1.0//EN
CALSCALE:GREGORIAN
METHOD:PUBLISH
X-ORIGINAL-URL:https://ministranci.waw.pl
X-WR-CALDESC:Wydarzenia dla Liturgiczna Służba Ołtarza
REFRESH-INTERVAL;VALUE=DURATION:PT1H
X-Robots-Tag:noindex
X-PUBLISHED-TTL:PT1H
BEGIN:VTIMEZONE
TZID:UTC
BEGIN:STANDARD
TZOFFSETFROM:+0000
TZOFFSETTO:+0000
TZNAME:UTC
DTSTART:20240101T000000
END:STANDARD
END:VTIMEZONE
BEGIN:VEVENT
DTSTART;TZID=UTC:20250816T000000
DTEND;TZID=UTC:20250817T000000
DTSTAMP:20260419T232055
CREATED:20241226T184233Z
LAST-MODIFIED:20241226T184233Z
UID:4001-1755302400-1755388800@ministranci.waw.pl
SUMMARY:Sobota XIX tygodnia zwykłego
DESCRIPTION:
URL:https://ministranci.waw.pl/event/sobota-xix-tygodnia-zwyklego/
END:VEVENT
BEGIN:VEVENT
DTSTART;TZID=UTC:20250816T000000
DTEND;TZID=UTC:20250817T000000
DTSTAMP:20260419T232055
CREATED:20241226T184233Z
LAST-MODIFIED:20241226T184233Z
UID:4002-1755302400-1755388800@ministranci.waw.pl
SUMMARY:Wspomnienie Św. Stefana Węgierskiego
DESCRIPTION:
URL:https://ministranci.waw.pl/event/wspomnienie-sw-stefana-wegierskiego/
END:VEVENT
BEGIN:VEVENT
DTSTART;TZID=UTC:20250815T000000
DTEND;TZID=UTC:20250816T000000
DTSTAMP:20260419T232055
CREATED:20241226T184233Z
LAST-MODIFIED:20241226T184233Z
UID:4000-1755216000-1755302400@ministranci.waw.pl
SUMMARY:Uroczystość Wniebowzięcie Najświętszej Maryi Panny
DESCRIPTION:
URL:https://ministranci.waw.pl/event/uroczystosc-wniebowziecie-najswietszej-maryi-panny/
END:VEVENT
BEGIN:VEVENT
DTSTART;TZID=UTC:20250814T000000
DTEND;TZID=UTC:20250815T000000
DTSTAMP:20260419T232055
CREATED:20241226T184232Z
LAST-MODIFIED:20241226T184232Z
UID:3999-1755129600-1755216000@ministranci.waw.pl
SUMMARY:Wspomnienie Św. Maksymiliana Marii Kolbego prezbitera i męczennika
DESCRIPTION:
URL:https://ministranci.waw.pl/event/wspomnienie-sw-maksymiliana-marii-kolbego-prezbitera-i-meczennika/
END:VEVENT
BEGIN:VEVENT
DTSTART;TZID=UTC:20250813T000000
DTEND;TZID=UTC:20250814T000000
DTSTAMP:20260419T232055
CREATED:20241226T184232Z
LAST-MODIFIED:20241226T184232Z
UID:3998-1755043200-1755129600@ministranci.waw.pl
SUMMARY:Wspomnienie Świętych męczenników Poncjana papieża i Hipolita prezbitera
DESCRIPTION:
URL:https://ministranci.waw.pl/event/wspomnienie-swietych-meczennikow-poncjana-papieza-i-hipolita-prezbitera/
END:VEVENT
BEGIN:VEVENT
DTSTART;TZID=UTC:20250813T000000
DTEND;TZID=UTC:20250814T000000
DTSTAMP:20260419T232055
CREATED:20241226T184205Z
LAST-MODIFIED:20241226T184205Z
UID:3997-1755043200-1755129600@ministranci.waw.pl
SUMMARY:Środa XIX tygodnia zwykłego
DESCRIPTION:
URL:https://ministranci.waw.pl/event/sroda-xix-tygodnia-zwyklego/
END:VEVENT
BEGIN:VEVENT
DTSTART;TZID=UTC:20250812T000000
DTEND;TZID=UTC:20250813T000000
DTSTAMP:20260419T232055
CREATED:20241226T184205Z
LAST-MODIFIED:20241226T184205Z
UID:3995-1754956800-1755043200@ministranci.waw.pl
SUMMARY:Wtorek XIX tygodnia zwykłego
DESCRIPTION:
URL:https://ministranci.waw.pl/event/wtorek-xix-tygodnia-zwyklego/
END:VEVENT
BEGIN:VEVENT
DTSTART;TZID=UTC:20250812T000000
DTEND;TZID=UTC:20250813T000000
DTSTAMP:20260419T232055
CREATED:20241226T184205Z
LAST-MODIFIED:20241226T184205Z
UID:3996-1754956800-1755043200@ministranci.waw.pl
SUMMARY:Wspomnienie Św. Joanny Franciszki de Chantal zakonnicy
DESCRIPTION:
URL:https://ministranci.waw.pl/event/wspomnienie-sw-joanny-franciszki-de-chantal-zakonnicy/
END:VEVENT
BEGIN:VEVENT
DTSTART;TZID=UTC:20250811T000000
DTEND;TZID=UTC:20250812T000000
DTSTAMP:20260419T232055
CREATED:20241226T184205Z
LAST-MODIFIED:20241226T184205Z
UID:3994-1754870400-1754956800@ministranci.waw.pl
SUMMARY:Wspomnienie Św. Klary dziewicy
DESCRIPTION:
URL:https://ministranci.waw.pl/event/wspomnienie-sw-klary-dziewicy/
END:VEVENT
BEGIN:VEVENT
DTSTART;TZID=UTC:20250810T000000
DTEND;TZID=UTC:20250811T000000
DTSTAMP:20260419T232055
CREATED:20241226T184205Z
LAST-MODIFIED:20241226T184205Z
UID:3993-1754784000-1754870400@ministranci.waw.pl
SUMMARY:XIX Niedziela Zwykła
DESCRIPTION:
URL:https://ministranci.waw.pl/event/xix-niedziela-zwykla/
END:VEVENT
BEGIN:VEVENT
DTSTART;TZID=UTC:20250809T000000
DTEND;TZID=UTC:20250810T000000
DTSTAMP:20260419T232055
CREATED:20241226T184005Z
LAST-MODIFIED:20241226T184005Z
UID:3992-1754697600-1754784000@ministranci.waw.pl
SUMMARY:Święto Św. Teresy Benedykty od Krzyża dziewicy i męczennicy
DESCRIPTION:
URL:https://ministranci.waw.pl/event/swieto-sw-teresy-benedykty-od-krzyza-dziewicy-i-meczennicy/
END:VEVENT
BEGIN:VEVENT
DTSTART;TZID=UTC:20250808T000000
DTEND;TZID=UTC:20250809T000000
DTSTAMP:20260419T232055
CREATED:20241226T184005Z
LAST-MODIFIED:20241226T184005Z
UID:3991-1754611200-1754697600@ministranci.waw.pl
SUMMARY:Wspomnienie Św. Dominika prezbitera
DESCRIPTION:
URL:https://ministranci.waw.pl/event/wspomnienie-sw-dominika-prezbitera/
END:VEVENT
BEGIN:VEVENT
DTSTART;TZID=UTC:20250807T000000
DTEND;TZID=UTC:20250808T000000
DTSTAMP:20260419T232055
CREATED:20241226T184005Z
LAST-MODIFIED:20241226T184005Z
UID:3990-1754524800-1754611200@ministranci.waw.pl
SUMMARY:Wspomnienie Świętych męczenników Sykstusa II papieża i Towarzyszy
DESCRIPTION:
URL:https://ministranci.waw.pl/event/wspomnienie-swietych-meczennikow-sykstusa-ii-papieza-i-towarzyszy/
END:VEVENT
BEGIN:VEVENT
DTSTART;TZID=UTC:20250807T000000
DTEND;TZID=UTC:20250808T000000
DTSTAMP:20260419T232055
CREATED:20241226T184005Z
LAST-MODIFIED:20241226T184005Z
UID:3988-1754524800-1754611200@ministranci.waw.pl
SUMMARY:Czwartek XVIII tygodnia zwykłego
DESCRIPTION:
URL:https://ministranci.waw.pl/event/czwartek-xviii-tygodnia-zwyklego/
END:VEVENT
BEGIN:VEVENT
DTSTART;TZID=UTC:20250807T000000
DTEND;TZID=UTC:20250808T000000
DTSTAMP:20260419T232055
CREATED:20241226T184005Z
LAST-MODIFIED:20241226T184005Z
UID:3989-1754524800-1754611200@ministranci.waw.pl
SUMMARY:Wspomnienie Św. Kajetana prezbitera
DESCRIPTION:
URL:https://ministranci.waw.pl/event/wspomnienie-sw-kajetana-prezbitera/
END:VEVENT
BEGIN:VEVENT
DTSTART;TZID=UTC:20250806T000000
DTEND;TZID=UTC:20250807T000000
DTSTAMP:20260419T232055
CREATED:20241226T183805Z
LAST-MODIFIED:20241226T183805Z
UID:3987-1754438400-1754524800@ministranci.waw.pl
SUMMARY:Święto Przemienienie Pańskie
DESCRIPTION:
URL:https://ministranci.waw.pl/event/swieto-przemienienie-panskie/
END:VEVENT
BEGIN:VEVENT
DTSTART;TZID=UTC:20250805T000000
DTEND;TZID=UTC:20250806T000000
DTSTAMP:20260419T232055
CREATED:20241226T183805Z
LAST-MODIFIED:20241226T183805Z
UID:3985-1754352000-1754438400@ministranci.waw.pl
SUMMARY:Wtorek XVIII tygodnia zwykłego
DESCRIPTION:
URL:https://ministranci.waw.pl/event/wtorek-xviii-tygodnia-zwyklego/
END:VEVENT
BEGIN:VEVENT
DTSTART;TZID=UTC:20250805T000000
DTEND;TZID=UTC:20250806T000000
DTSTAMP:20260419T232055
CREATED:20241226T183805Z
LAST-MODIFIED:20241226T183805Z
UID:3986-1754352000-1754438400@ministranci.waw.pl
SUMMARY:Wspomnienie Rocznica poświęcenia rzymskiej Bazyliki Najświętszej Maryi Panny
DESCRIPTION:
URL:https://ministranci.waw.pl/event/wspomnienie-rocznica-poswiecenia-rzymskiej-bazyliki-najswietszej-maryi-panny/
END:VEVENT
BEGIN:VEVENT
DTSTART;TZID=UTC:20250804T000000
DTEND;TZID=UTC:20250805T000000
DTSTAMP:20260419T232055
CREATED:20241226T183805Z
LAST-MODIFIED:20241226T183805Z
UID:3984-1754265600-1754352000@ministranci.waw.pl
SUMMARY:Wspomnienie Św. Jana Marii Vianneya prezbitera
DESCRIPTION:
URL:https://ministranci.waw.pl/event/wspomnienie-sw-jana-marii-vianneya-prezbitera/
END:VEVENT
BEGIN:VEVENT
DTSTART;TZID=UTC:20250803T000000
DTEND;TZID=UTC:20250804T000000
DTSTAMP:20260419T232055
CREATED:20241226T183805Z
LAST-MODIFIED:20241226T183805Z
UID:3983-1754179200-1754265600@ministranci.waw.pl
SUMMARY:XVIII Niedziela Zwykła
DESCRIPTION:
URL:https://ministranci.waw.pl/event/xviii-niedziela-zwykla/
END:VEVENT
BEGIN:VEVENT
DTSTART;TZID=UTC:20250802T000000
DTEND;TZID=UTC:20250803T000000
DTSTAMP:20260419T232055
CREATED:20241226T183750Z
LAST-MODIFIED:20241226T183750Z
UID:3979-1754092800-1754179200@ministranci.waw.pl
SUMMARY:Sobota XVII tygodnia zwykłego
DESCRIPTION:
URL:https://ministranci.waw.pl/event/sobota-xvii-tygodnia-zwyklego/
END:VEVENT
BEGIN:VEVENT
DTSTART;TZID=UTC:20250802T000000
DTEND;TZID=UTC:20250803T000000
DTSTAMP:20260419T232055
CREATED:20241226T183750Z
LAST-MODIFIED:20241226T183750Z
UID:3980-1754092800-1754179200@ministranci.waw.pl
SUMMARY:Wspomnienie Św. Euzebiusza z Vercelli biskupa
DESCRIPTION:
URL:https://ministranci.waw.pl/event/wspomnienie-sw-euzebiusza-z-vercelli-biskupa/
END:VEVENT
BEGIN:VEVENT
DTSTART;TZID=UTC:20250802T000000
DTEND;TZID=UTC:20250803T000000
DTSTAMP:20260419T232055
CREATED:20241226T183750Z
LAST-MODIFIED:20241226T183750Z
UID:3981-1754092800-1754179200@ministranci.waw.pl
SUMMARY:Wspomnienie Św. Piotra Juliani Eymarda prezbitera
DESCRIPTION:
URL:https://ministranci.waw.pl/event/wspomnienie-sw-piotra-juliani-eymarda-prezbitera/
END:VEVENT
BEGIN:VEVENT
DTSTART;TZID=UTC:20250802T000000
DTEND;TZID=UTC:20250803T000000
DTSTAMP:20260419T232055
CREATED:20241226T183750Z
LAST-MODIFIED:20241226T183750Z
UID:3982-1754092800-1754179200@ministranci.waw.pl
SUMMARY:Wspomnienie Najświętszej Maryi Panny
DESCRIPTION:
URL:https://ministranci.waw.pl/event/wspomnienie-najswietszej-maryi-panny-8/
END:VEVENT
BEGIN:VEVENT
DTSTART;TZID=UTC:20250801T000000
DTEND;TZID=UTC:20250802T000000
DTSTAMP:20260419T232055
CREATED:20241226T183750Z
LAST-MODIFIED:20241226T183750Z
UID:3978-1754006400-1754092800@ministranci.waw.pl
SUMMARY:Wspomnienie Św. Alfonsa Marii Liguoriego biskupa i doktora Kościoła
DESCRIPTION:
URL:https://ministranci.waw.pl/event/wspomnienie-sw-alfonsa-marii-liguoriego-biskupa-i-doktora-kosciola/
END:VEVENT
BEGIN:VEVENT
DTSTART;TZID=UTC:20250731T000000
DTEND;TZID=UTC:20250801T000000
DTSTAMP:20260419T232055
CREATED:20241226T183723Z
LAST-MODIFIED:20241226T183723Z
UID:3977-1753920000-1754006400@ministranci.waw.pl
SUMMARY:Wspomnienie Św. Ignacego z Loyoli prezbitera
DESCRIPTION:
URL:https://ministranci.waw.pl/event/wspomnienie-sw-ignacego-z-loyoli-prezbitera/
END:VEVENT
BEGIN:VEVENT
DTSTART;TZID=UTC:20250730T000000
DTEND;TZID=UTC:20250731T000000
DTSTAMP:20260419T232055
CREATED:20241226T183723Z
LAST-MODIFIED:20241226T183723Z
UID:3975-1753833600-1753920000@ministranci.waw.pl
SUMMARY:Środa XVII tygodnia zwykłego
DESCRIPTION:
URL:https://ministranci.waw.pl/event/sroda-xvii-tygodnia-zwyklego/
END:VEVENT
BEGIN:VEVENT
DTSTART;TZID=UTC:20250730T000000
DTEND;TZID=UTC:20250731T000000
DTSTAMP:20260419T232055
CREATED:20241226T183723Z
LAST-MODIFIED:20241226T183723Z
UID:3976-1753833600-1753920000@ministranci.waw.pl
SUMMARY:Wspomnienie Św. Piotra Chryzologa biskupa i doktora Kościoła
DESCRIPTION:
URL:https://ministranci.waw.pl/event/wspomnienie-sw-piotra-chryzologa-biskupa-i-doktora-kosciola/
END:VEVENT
BEGIN:VEVENT
DTSTART;TZID=UTC:20250729T000000
DTEND;TZID=UTC:20250730T000000
DTSTAMP:20260419T232055
CREATED:20241226T183722Z
LAST-MODIFIED:20241226T183722Z
UID:3974-1753747200-1753833600@ministranci.waw.pl
SUMMARY:Wspomnienie Świętych Marty Marii i Łazarza
DESCRIPTION:
URL:https://ministranci.waw.pl/event/wspomnienie-swietych-marty-marii-i-lazarza/
END:VEVENT
BEGIN:VEVENT
DTSTART;TZID=UTC:20250728T000000
DTEND;TZID=UTC:20250729T000000
DTSTAMP:20260419T232055
CREATED:20241226T183722Z
LAST-MODIFIED:20241226T183722Z
UID:3973-1753660800-1753747200@ministranci.waw.pl
SUMMARY:Wspomnienie Św. Sarbeliusza Makhlufa prezbitera
DESCRIPTION:
URL:https://ministranci.waw.pl/event/wspomnienie-sw-sarbeliusza-makhlufa-prezbitera/
END:VEVENT
END:VCALENDAR