BEGIN:VCALENDAR
VERSION:2.0
PRODID:-//Liturgiczna Służba Ołtarza - ECPv6.15.18//NONSGML v1.0//EN
CALSCALE:GREGORIAN
METHOD:PUBLISH
X-ORIGINAL-URL:https://ministranci.waw.pl
X-WR-CALDESC:Wydarzenia dla Liturgiczna Służba Ołtarza
REFRESH-INTERVAL;VALUE=DURATION:PT1H
X-Robots-Tag:noindex
X-PUBLISHED-TTL:PT1H
BEGIN:VTIMEZONE
TZID:UTC
BEGIN:STANDARD
TZOFFSETFROM:+0000
TZOFFSETTO:+0000
TZNAME:UTC
DTSTART:20250101T000000
END:STANDARD
END:VTIMEZONE
BEGIN:VEVENT
DTSTART;TZID=UTC:20260202T000000
DTEND;TZID=UTC:20260203T000000
DTSTAMP:20260420T110800
CREATED:20260102T084031Z
LAST-MODIFIED:20260102T114622Z
UID:4354-1769990400-1770076800@ministranci.waw.pl
SUMMARY:Ofiarowanie Pańskie
DESCRIPTION:
URL:https://ministranci.waw.pl/event/ofiarowanie-panskie/
END:VEVENT
BEGIN:VEVENT
DTSTART;TZID=UTC:20260201T000000
DTEND;TZID=UTC:20260202T000000
DTSTAMP:20260420T110800
CREATED:20260102T084030Z
LAST-MODIFIED:20260102T114622Z
UID:4353-1769904000-1769990400@ministranci.waw.pl
SUMMARY:IV Niedziela Zwykła
DESCRIPTION:
URL:https://ministranci.waw.pl/event/iv-niedziela-zwykla/
END:VEVENT
BEGIN:VEVENT
DTSTART;TZID=UTC:20260131T000000
DTEND;TZID=UTC:20260201T000000
DTSTAMP:20260420T110800
CREATED:20260102T083830Z
LAST-MODIFIED:20260102T114607Z
UID:4352-1769817600-1769904000@ministranci.waw.pl
SUMMARY:Św. Jana Bosko prezbitera
DESCRIPTION:
URL:https://ministranci.waw.pl/event/sw-jana-bosko-prezbitera/
END:VEVENT
BEGIN:VEVENT
DTSTART;TZID=UTC:20260130T000000
DTEND;TZID=UTC:20260131T000000
DTSTAMP:20260420T110800
CREATED:20260102T083830Z
LAST-MODIFIED:20260102T114607Z
UID:4351-1769731200-1769817600@ministranci.waw.pl
SUMMARY:Piątek III tygodnia zwykłego
DESCRIPTION:
URL:https://ministranci.waw.pl/event/piatek-iii-tygodnia-zwyklego/
END:VEVENT
BEGIN:VEVENT
DTSTART;TZID=UTC:20260129T000000
DTEND;TZID=UTC:20260130T000000
DTSTAMP:20260420T110800
CREATED:20260102T083830Z
LAST-MODIFIED:20260102T114607Z
UID:4350-1769644800-1769731200@ministranci.waw.pl
SUMMARY:Czwartek III tygodnia zwykłego
DESCRIPTION:
URL:https://ministranci.waw.pl/event/czwartek-iii-tygodnia-zwyklego-2/
END:VEVENT
BEGIN:VEVENT
DTSTART;TZID=UTC:20260128T000000
DTEND;TZID=UTC:20260129T000000
DTSTAMP:20260420T110800
CREATED:20260102T083830Z
LAST-MODIFIED:20260102T114607Z
UID:4349-1769558400-1769644800@ministranci.waw.pl
SUMMARY:Św. Tomasza z Akwinu prezbitera i doktora Kościoła
DESCRIPTION:
URL:https://ministranci.waw.pl/event/sw-tomasza-z-akwinu-prezbitera-i-doktora-kosciola/
END:VEVENT
BEGIN:VEVENT
DTSTART;TZID=UTC:20260127T000000
DTEND;TZID=UTC:20260128T000000
DTSTAMP:20260420T110800
CREATED:20260102T083830Z
LAST-MODIFIED:20260102T114607Z
UID:4348-1769472000-1769558400@ministranci.waw.pl
SUMMARY:Św. Anieli Merici dziewicy
DESCRIPTION:
URL:https://ministranci.waw.pl/event/sw-anieli-merici-dziewicy/
END:VEVENT
BEGIN:VEVENT
DTSTART;TZID=UTC:20260127T000000
DTEND;TZID=UTC:20260128T000000
DTSTAMP:20260420T110800
CREATED:20260102T083630Z
LAST-MODIFIED:20260102T114552Z
UID:4346-1769472000-1769558400@ministranci.waw.pl
SUMMARY:Wtorek III tygodnia zwykłego
DESCRIPTION:
URL:https://ministranci.waw.pl/event/wtorek-iii-tygodnia-zwyklego/
END:VEVENT
BEGIN:VEVENT
DTSTART;TZID=UTC:20260127T000000
DTEND;TZID=UTC:20260128T000000
DTSTAMP:20260420T110800
CREATED:20260102T083630Z
LAST-MODIFIED:20260102T114552Z
UID:4347-1769472000-1769558400@ministranci.waw.pl
SUMMARY:Bł. Jerzego Matulewicza biskupa
DESCRIPTION:
URL:https://ministranci.waw.pl/event/bl-jerzego-matulewicza-biskupa/
END:VEVENT
BEGIN:VEVENT
DTSTART;TZID=UTC:20260126T000000
DTEND;TZID=UTC:20260127T000000
DTSTAMP:20260420T110800
CREATED:20260102T083630Z
LAST-MODIFIED:20260102T114552Z
UID:4345-1769385600-1769472000@ministranci.waw.pl
SUMMARY:Świętych biskupów Tymoteusza i Tytusa
DESCRIPTION:
URL:https://ministranci.waw.pl/event/swietych-biskupow-tymoteusza-i-tytusa/
END:VEVENT
BEGIN:VEVENT
DTSTART;TZID=UTC:20260125T000000
DTEND;TZID=UTC:20260126T000000
DTSTAMP:20260420T110800
CREATED:20260102T083630Z
LAST-MODIFIED:20260102T114552Z
UID:4344-1769299200-1769385600@ministranci.waw.pl
SUMMARY:III Niedziela Zwykła
DESCRIPTION:
URL:https://ministranci.waw.pl/event/iii-niedziela-zwykla-2/
END:VEVENT
BEGIN:VEVENT
DTSTART;TZID=UTC:20260124T000000
DTEND;TZID=UTC:20260125T000000
DTSTAMP:20260420T110800
CREATED:20260102T083630Z
LAST-MODIFIED:20260102T114552Z
UID:4343-1769212800-1769299200@ministranci.waw.pl
SUMMARY:Św. Franciszka Salezego biskupa i doktora Kościoła
DESCRIPTION:
URL:https://ministranci.waw.pl/event/sw-franciszka-salezego-biskupa-i-doktora-kosciola/
END:VEVENT
BEGIN:VEVENT
DTSTART;TZID=UTC:20260123T000000
DTEND;TZID=UTC:20260124T000000
DTSTAMP:20260420T110800
CREATED:20260102T083443Z
LAST-MODIFIED:20260102T114537Z
UID:4342-1769126400-1769212800@ministranci.waw.pl
SUMMARY:Piątek II tygodnia zwykłego
DESCRIPTION:
URL:https://ministranci.waw.pl/event/piatek-ii-tygodnia-zwyklego/
END:VEVENT
BEGIN:VEVENT
DTSTART;TZID=UTC:20260122T000000
DTEND;TZID=UTC:20260123T000000
DTSTAMP:20260420T110800
CREATED:20260102T083442Z
LAST-MODIFIED:20260102T114537Z
UID:4339-1769040000-1769126400@ministranci.waw.pl
SUMMARY:Czwartek II tygodnia zwykłego
DESCRIPTION:
URL:https://ministranci.waw.pl/event/czwartek-ii-tygodnia-zwyklego-3/
END:VEVENT
BEGIN:VEVENT
DTSTART;TZID=UTC:20260122T000000
DTEND;TZID=UTC:20260123T000000
DTSTAMP:20260420T110800
CREATED:20260102T083442Z
LAST-MODIFIED:20260102T114537Z
UID:4340-1769040000-1769126400@ministranci.waw.pl
SUMMARY:Św. Wincentego Pallottiego prezbitera
DESCRIPTION:
URL:https://ministranci.waw.pl/event/sw-wincentego-pallottiego-prezbitera-2/
END:VEVENT
BEGIN:VEVENT
DTSTART;TZID=UTC:20260122T000000
DTEND;TZID=UTC:20260123T000000
DTSTAMP:20260420T110800
CREATED:20260102T083442Z
LAST-MODIFIED:20260102T114537Z
UID:4341-1769040000-1769126400@ministranci.waw.pl
SUMMARY:Św. Wincentego diakona i męczennika
DESCRIPTION:
URL:https://ministranci.waw.pl/event/sw-wincentego-diakona-i-meczennika/
END:VEVENT
BEGIN:VEVENT
DTSTART;TZID=UTC:20260121T000000
DTEND;TZID=UTC:20260122T000000
DTSTAMP:20260420T110800
CREATED:20260102T083442Z
LAST-MODIFIED:20260102T114537Z
UID:4338-1768953600-1769040000@ministranci.waw.pl
SUMMARY:Św. Agnieszki dziewicy i męczennicy
DESCRIPTION:
URL:https://ministranci.waw.pl/event/sw-agnieszki-dziewicy-i-meczennicy-2/
END:VEVENT
BEGIN:VEVENT
DTSTART;TZID=UTC:20260120T000000
DTEND;TZID=UTC:20260121T000000
DTSTAMP:20260420T110800
CREATED:20260102T083403Z
LAST-MODIFIED:20260102T114522Z
UID:4334-1768867200-1768953600@ministranci.waw.pl
SUMMARY:Św. Sebastiana męczennika
DESCRIPTION:
URL:https://ministranci.waw.pl/event/sw-sebastiana-meczennika/
END:VEVENT
BEGIN:VEVENT
DTSTART;TZID=UTC:20260120T000000
DTEND;TZID=UTC:20260121T000000
DTSTAMP:20260420T110800
CREATED:20260102T083403Z
LAST-MODIFIED:20260102T114522Z
UID:4332-1768867200-1768953600@ministranci.waw.pl
SUMMARY:Wtorek II tygodnia zwykłego
DESCRIPTION:
URL:https://ministranci.waw.pl/event/wtorek-ii-tygodnia-zwyklego/
END:VEVENT
BEGIN:VEVENT
DTSTART;TZID=UTC:20260120T000000
DTEND;TZID=UTC:20260121T000000
DTSTAMP:20260420T110800
CREATED:20260102T083403Z
LAST-MODIFIED:20260102T114522Z
UID:4333-1768867200-1768953600@ministranci.waw.pl
SUMMARY:Św. Fabiana papieża i męczennika
DESCRIPTION:
URL:https://ministranci.waw.pl/event/sw-fabiana-papieza-i-meczennika/
END:VEVENT
BEGIN:VEVENT
DTSTART;TZID=UTC:20260119T000000
DTEND;TZID=UTC:20260120T000000
DTSTAMP:20260420T110800
CREATED:20260102T083403Z
LAST-MODIFIED:20260102T114522Z
UID:4331-1768780800-1768867200@ministranci.waw.pl
SUMMARY:Św. Józefa Sebastiana Pelczara biskupa
DESCRIPTION:
URL:https://ministranci.waw.pl/event/sw-jozefa-sebastiana-pelczara-biskupa/
END:VEVENT
BEGIN:VEVENT
DTSTART;TZID=UTC:20260118T000000
DTEND;TZID=UTC:20260119T000000
DTSTAMP:20260420T110800
CREATED:20260102T083403Z
LAST-MODIFIED:20260102T114522Z
UID:4330-1768694400-1768780800@ministranci.waw.pl
SUMMARY:II Niedziela Zwykła
DESCRIPTION:
URL:https://ministranci.waw.pl/event/ii-niedziela-zwykla-2/
END:VEVENT
BEGIN:VEVENT
DTSTART;TZID=UTC:20260117T000000
DTEND;TZID=UTC:20260118T000000
DTSTAMP:20260420T110800
CREATED:20260102T083356Z
LAST-MODIFIED:20260102T114507Z
UID:4329-1768608000-1768694400@ministranci.waw.pl
SUMMARY:Św. Antoniego opata
DESCRIPTION:
URL:https://ministranci.waw.pl/event/sw-antoniego-opata/
END:VEVENT
BEGIN:VEVENT
DTSTART;TZID=UTC:20260116T000000
DTEND;TZID=UTC:20260117T000000
DTSTAMP:20260420T110800
CREATED:20260102T083356Z
LAST-MODIFIED:20260102T114507Z
UID:4328-1768521600-1768608000@ministranci.waw.pl
SUMMARY:Piątek I tygodnia zwykłego
DESCRIPTION:
URL:https://ministranci.waw.pl/event/piatek-i-tygodnia-zwyklego/
END:VEVENT
BEGIN:VEVENT
DTSTART;TZID=UTC:20260115T000000
DTEND;TZID=UTC:20260116T000000
DTSTAMP:20260420T110800
CREATED:20260102T083356Z
LAST-MODIFIED:20260102T114507Z
UID:4327-1768435200-1768521600@ministranci.waw.pl
SUMMARY:Czwartek I tygodnia zwykłego
DESCRIPTION:
URL:https://ministranci.waw.pl/event/czwartek-i-tygodnia-zwyklego-2/
END:VEVENT
BEGIN:VEVENT
DTSTART;TZID=UTC:20260114T000000
DTEND;TZID=UTC:20260115T000000
DTSTAMP:20260420T110800
CREATED:20260102T083356Z
LAST-MODIFIED:20260102T114507Z
UID:4326-1768348800-1768435200@ministranci.waw.pl
SUMMARY:Środa I tygodnia zwykłego
DESCRIPTION:
URL:https://ministranci.waw.pl/event/sroda-i-tygodnia-zwyklego-2/
END:VEVENT
BEGIN:VEVENT
DTSTART;TZID=UTC:20260113T000000
DTEND;TZID=UTC:20260114T000000
DTSTAMP:20260420T110800
CREATED:20260102T083356Z
LAST-MODIFIED:20260102T114507Z
UID:4325-1768262400-1768348800@ministranci.waw.pl
SUMMARY:Św. Hilarego biskupa i doktora Kościoła
DESCRIPTION:
URL:https://ministranci.waw.pl/event/sw-hilarego-biskupa-i-doktora-kosciola/
END:VEVENT
BEGIN:VEVENT
DTSTART;TZID=UTC:20260113T000000
DTEND;TZID=UTC:20260114T000000
DTSTAMP:20260420T110800
CREATED:20260101T200640Z
LAST-MODIFIED:20260102T114456Z
UID:4322-1768262400-1768348800@ministranci.waw.pl
SUMMARY:Wtorek I tygodnia zwykłego
DESCRIPTION:
URL:https://ministranci.waw.pl/event/wtorek-i-tygodnia-zwyklego-2/
END:VEVENT
BEGIN:VEVENT
DTSTART;TZID=UTC:20260112T000000
DTEND;TZID=UTC:20260113T000000
DTSTAMP:20260420T110800
CREATED:20260101T200640Z
LAST-MODIFIED:20260102T114456Z
UID:4321-1768176000-1768262400@ministranci.waw.pl
SUMMARY:Poniedziałek I tygodnia zwykłego
DESCRIPTION:
URL:https://ministranci.waw.pl/event/poniedzialek-i-tygodnia-zwyklego-2/
END:VEVENT
BEGIN:VEVENT
DTSTART;TZID=UTC:20260111T000000
DTEND;TZID=UTC:20260112T000000
DTSTAMP:20260420T110800
CREATED:20260101T200640Z
LAST-MODIFIED:20260102T114456Z
UID:4320-1768089600-1768176000@ministranci.waw.pl
SUMMARY:Chrzest Pański
DESCRIPTION:
URL:https://ministranci.waw.pl/event/chrzest-panski/
END:VEVENT
END:VCALENDAR