BEGIN:VCALENDAR
VERSION:2.0
PRODID:-//Liturgiczna Służba Ołtarza - ECPv6.15.18//NONSGML v1.0//EN
CALSCALE:GREGORIAN
METHOD:PUBLISH
X-WR-CALNAME:Liturgiczna Służba Ołtarza
X-ORIGINAL-URL:https://ministranci.waw.pl
X-WR-CALDESC:Wydarzenia dla Liturgiczna Służba Ołtarza
REFRESH-INTERVAL;VALUE=DURATION:PT1H
X-Robots-Tag:noindex
X-PUBLISHED-TTL:PT1H
BEGIN:VTIMEZONE
TZID:UTC
BEGIN:STANDARD
TZOFFSETFROM:+0000
TZOFFSETTO:+0000
TZNAME:UTC
DTSTART:20250101T000000
END:STANDARD
END:VTIMEZONE
BEGIN:VEVENT
DTSTART;TZID=UTC:20261222T000000
DTEND;TZID=UTC:20261223T000000
DTSTAMP:20260421T160019
CREATED:20260102T133119Z
LAST-MODIFIED:20260102T133119Z
UID:4872-1797897600-1797984000@ministranci.waw.pl
SUMMARY:Dzień adwentu (22 grudnia)
DESCRIPTION:
URL:https://ministranci.waw.pl/event/dzien-adwentu-22-grudnia-2/
END:VEVENT
END:VCALENDAR