BEGIN:VCALENDAR
VERSION:2.0
PRODID:-//Liturgiczna Służba Ołtarza - ECPv6.15.18//NONSGML v1.0//EN
CALSCALE:GREGORIAN
METHOD:PUBLISH
X-WR-CALNAME:Liturgiczna Służba Ołtarza
X-ORIGINAL-URL:https://ministranci.waw.pl
X-WR-CALDESC:Wydarzenia dla Liturgiczna Służba Ołtarza
REFRESH-INTERVAL;VALUE=DURATION:PT1H
X-Robots-Tag:noindex
X-PUBLISHED-TTL:PT1H
BEGIN:VTIMEZONE
TZID:UTC
BEGIN:STANDARD
TZOFFSETFROM:+0000
TZOFFSETTO:+0000
TZNAME:UTC
DTSTART:20250101T000000
END:STANDARD
END:VTIMEZONE
BEGIN:VEVENT
DTSTART;TZID=UTC:20261209T000000
DTEND;TZID=UTC:20261210T000000
DTSTAMP:20260421T160227
CREATED:20260102T133019Z
LAST-MODIFIED:20260102T133019Z
UID:4854-1796774400-1796860800@ministranci.waw.pl
SUMMARY:Środa II tygodnia Adwentu
DESCRIPTION:
URL:https://ministranci.waw.pl/event/sroda-ii-tygodnia-adwentu-2/
END:VEVENT
BEGIN:VEVENT
DTSTART;TZID=UTC:20261209T000000
DTEND;TZID=UTC:20261210T000000
DTSTAMP:20260421T160227
CREATED:20260102T133034Z
LAST-MODIFIED:20260102T133034Z
UID:4855-1796774400-1796860800@ministranci.waw.pl
SUMMARY:Św. Jana Diego Cuauhtlatoatzin
DESCRIPTION:
URL:https://ministranci.waw.pl/event/sw-jana-diego-cuauhtlatoatzin/
END:VEVENT
END:VCALENDAR