BEGIN:VCALENDAR
VERSION:2.0
PRODID:-//Liturgiczna Służba Ołtarza - ECPv6.15.18//NONSGML v1.0//EN
CALSCALE:GREGORIAN
METHOD:PUBLISH
X-WR-CALNAME:Liturgiczna Służba Ołtarza
X-ORIGINAL-URL:https://ministranci.waw.pl
X-WR-CALDESC:Wydarzenia dla Liturgiczna Służba Ołtarza
REFRESH-INTERVAL;VALUE=DURATION:PT1H
X-Robots-Tag:noindex
X-PUBLISHED-TTL:PT1H
BEGIN:VTIMEZONE
TZID:UTC
BEGIN:STANDARD
TZOFFSETFROM:+0000
TZOFFSETTO:+0000
TZNAME:UTC
DTSTART:20250101T000000
END:STANDARD
END:VTIMEZONE
BEGIN:VEVENT
DTSTART;TZID=UTC:20261204T000000
DTEND;TZID=UTC:20261205T000000
DTSTAMP:20260421T142917
CREATED:20260102T133004Z
LAST-MODIFIED:20260102T133004Z
UID:4848-1796342400-1796428800@ministranci.waw.pl
SUMMARY:Św. Barbary dziewicy i męczennicy
DESCRIPTION:
URL:https://ministranci.waw.pl/event/sw-barbary-dziewicy-i-meczennicy/
END:VEVENT
BEGIN:VEVENT
DTSTART;TZID=UTC:20261204T000000
DTEND;TZID=UTC:20261205T000000
DTSTAMP:20260421T142917
CREATED:20260102T133004Z
LAST-MODIFIED:20260102T133004Z
UID:4849-1796342400-1796428800@ministranci.waw.pl
SUMMARY:Św. Jana Damasceńskiego prezbitera i doktora Kościoła
DESCRIPTION:
URL:https://ministranci.waw.pl/event/sw-jana-damascenskiego-prezbitera-i-doktora-kosciola/
END:VEVENT
BEGIN:VEVENT
DTSTART;TZID=UTC:20261204T000000
DTEND;TZID=UTC:20261205T000000
DTSTAMP:20260421T142917
CREATED:20260102T133004Z
LAST-MODIFIED:20260102T133004Z
UID:4847-1796342400-1796428800@ministranci.waw.pl
SUMMARY:Piątek I tygodnia Adwentu
DESCRIPTION:
URL:https://ministranci.waw.pl/event/piatek-i-tygodnia-adwentu-2/
END:VEVENT
END:VCALENDAR