BEGIN:VCALENDAR
VERSION:2.0
PRODID:-//Liturgiczna Służba Ołtarza - ECPv6.15.18//NONSGML v1.0//EN
CALSCALE:GREGORIAN
METHOD:PUBLISH
X-WR-CALNAME:Liturgiczna Służba Ołtarza
X-ORIGINAL-URL:https://ministranci.waw.pl
X-WR-CALDESC:Wydarzenia dla Liturgiczna Służba Ołtarza
REFRESH-INTERVAL;VALUE=DURATION:PT1H
X-Robots-Tag:noindex
X-PUBLISHED-TTL:PT1H
BEGIN:VTIMEZONE
TZID:UTC
BEGIN:STANDARD
TZOFFSETFROM:+0000
TZOFFSETTO:+0000
TZNAME:UTC
DTSTART:20250101T000000
END:STANDARD
END:VTIMEZONE
BEGIN:VEVENT
DTSTART;TZID=UTC:20261128T000000
DTEND;TZID=UTC:20261129T000000
DTSTAMP:20260421T142921
CREATED:20260102T132949Z
LAST-MODIFIED:20260102T132949Z
UID:4840-1795824000-1795910400@ministranci.waw.pl
SUMMARY:Sobota XXXIV tygodnia zwykłego
DESCRIPTION:
URL:https://ministranci.waw.pl/event/sobota-xxxiv-tygodnia-zwyklego-2/
END:VEVENT
BEGIN:VEVENT
DTSTART;TZID=UTC:20261128T000000
DTEND;TZID=UTC:20261129T000000
DTSTAMP:20260421T142921
CREATED:20260102T132949Z
LAST-MODIFIED:20260102T132949Z
UID:4841-1795824000-1795910400@ministranci.waw.pl
SUMMARY:Najświętszej Maryi Panny
DESCRIPTION:
URL:https://ministranci.waw.pl/event/najswietszej-maryi-panny-19/
END:VEVENT
END:VCALENDAR