BEGIN:VCALENDAR
VERSION:2.0
PRODID:-//Liturgiczna Służba Ołtarza - ECPv6.15.18//NONSGML v1.0//EN
CALSCALE:GREGORIAN
METHOD:PUBLISH
X-WR-CALNAME:Liturgiczna Służba Ołtarza
X-ORIGINAL-URL:https://ministranci.waw.pl
X-WR-CALDESC:Wydarzenia dla Liturgiczna Służba Ołtarza
REFRESH-INTERVAL;VALUE=DURATION:PT1H
X-Robots-Tag:noindex
X-PUBLISHED-TTL:PT1H
BEGIN:VTIMEZONE
TZID:UTC
BEGIN:STANDARD
TZOFFSETFROM:+0000
TZOFFSETTO:+0000
TZNAME:UTC
DTSTART:20250101T000000
END:STANDARD
END:VTIMEZONE
BEGIN:VEVENT
DTSTART;TZID=UTC:20261124T000000
DTEND;TZID=UTC:20261125T000000
DTSTAMP:20260421T143003
CREATED:20260102T132919Z
LAST-MODIFIED:20260102T132919Z
UID:4834-1795478400-1795564800@ministranci.waw.pl
SUMMARY:Świętych męczenników Andrzeja Dung-Lac prezbitera i Towarzyszy
DESCRIPTION:
URL:https://ministranci.waw.pl/event/swietych-meczennikow-andrzeja-dung-lac-prezbitera-i-towarzyszy/
END:VEVENT
END:VCALENDAR