BEGIN:VCALENDAR
VERSION:2.0
PRODID:-//Liturgiczna Służba Ołtarza - ECPv6.15.18//NONSGML v1.0//EN
CALSCALE:GREGORIAN
METHOD:PUBLISH
X-WR-CALNAME:Liturgiczna Służba Ołtarza
X-ORIGINAL-URL:https://ministranci.waw.pl
X-WR-CALDESC:Wydarzenia dla Liturgiczna Służba Ołtarza
REFRESH-INTERVAL;VALUE=DURATION:PT1H
X-Robots-Tag:noindex
X-PUBLISHED-TTL:PT1H
BEGIN:VTIMEZONE
TZID:UTC
BEGIN:STANDARD
TZOFFSETFROM:+0000
TZOFFSETTO:+0000
TZNAME:UTC
DTSTART:20250101T000000
END:STANDARD
END:VTIMEZONE
BEGIN:VEVENT
DTSTART;TZID=UTC:20261116T000000
DTEND;TZID=UTC:20261117T000000
DTSTAMP:20260421T142934
CREATED:20260102T132849Z
LAST-MODIFIED:20260102T132849Z
UID:4823-1794787200-1794873600@ministranci.waw.pl
SUMMARY:Św. Gertrudy dziewicy
DESCRIPTION:
URL:https://ministranci.waw.pl/event/sw-gertrudy-dziewicy/
END:VEVENT
BEGIN:VEVENT
DTSTART;TZID=UTC:20261116T000000
DTEND;TZID=UTC:20261117T000000
DTSTAMP:20260421T142934
CREATED:20260102T132849Z
LAST-MODIFIED:20260102T132849Z
UID:4824-1794787200-1794873600@ministranci.waw.pl
SUMMARY:Św. Małgorzaty Szkockiej
DESCRIPTION:
URL:https://ministranci.waw.pl/event/sw-malgorzaty-szkockiej-3/
END:VEVENT
BEGIN:VEVENT
DTSTART;TZID=UTC:20261116T000000
DTEND;TZID=UTC:20261117T000000
DTSTAMP:20260421T142934
CREATED:20260102T132849Z
LAST-MODIFIED:20260102T132849Z
UID:4820-1794787200-1794873600@ministranci.waw.pl
SUMMARY:Poniedziałek XXXIII tygodnia zwykłego
DESCRIPTION:
URL:https://ministranci.waw.pl/event/poniedzialek-xxxiii-tygodnia-zwyklego/
END:VEVENT
BEGIN:VEVENT
DTSTART;TZID=UTC:20261116T000000
DTEND;TZID=UTC:20261117T000000
DTSTAMP:20260421T142934
CREATED:20260102T132849Z
LAST-MODIFIED:20260102T132849Z
UID:4821-1794787200-1794873600@ministranci.waw.pl
SUMMARY:Najświętszej Maryi Panny Ostrobramskiej Matki Miłosierdzia
DESCRIPTION:
URL:https://ministranci.waw.pl/event/najswietszej-maryi-panny-ostrobramskiej-matki-milosierdzia/
END:VEVENT
BEGIN:VEVENT
DTSTART;TZID=UTC:20261116T000000
DTEND;TZID=UTC:20261117T000000
DTSTAMP:20260421T142934
CREATED:20260102T132849Z
LAST-MODIFIED:20260102T132849Z
UID:4822-1794787200-1794873600@ministranci.waw.pl
SUMMARY:Rocznica poświęcenia rzymskich bazylik świętych apostołów Piotra i Pawła
DESCRIPTION:
URL:https://ministranci.waw.pl/event/rocznica-poswiecenia-rzymskich-bazylik-swietych-apostolow-piotra-i-pawla/
END:VEVENT
END:VCALENDAR