BEGIN:VCALENDAR
VERSION:2.0
PRODID:-//Liturgiczna Służba Ołtarza - ECPv6.15.18//NONSGML v1.0//EN
CALSCALE:GREGORIAN
METHOD:PUBLISH
X-ORIGINAL-URL:https://ministranci.waw.pl
X-WR-CALDESC:Wydarzenia dla Liturgiczna Służba Ołtarza
REFRESH-INTERVAL;VALUE=DURATION:PT1H
X-Robots-Tag:noindex
X-PUBLISHED-TTL:PT1H
BEGIN:VTIMEZONE
TZID:UTC
BEGIN:STANDARD
TZOFFSETFROM:+0000
TZOFFSETTO:+0000
TZNAME:UTC
DTSTART:20250101T000000
END:STANDARD
END:VTIMEZONE
BEGIN:VEVENT
DTSTART;TZID=UTC:20261019T000000
DTEND;TZID=UTC:20261020T000000
DTSTAMP:20260421T122941
CREATED:20260102T132649Z
LAST-MODIFIED:20260102T132649Z
UID:4781-1792368000-1792454400@ministranci.waw.pl
SUMMARY:Poniedziałek XXIX tygodnia zwykłego
DESCRIPTION:
URL:https://ministranci.waw.pl/event/poniedzialek-xxix-tygodnia-zwyklego/
END:VEVENT
BEGIN:VEVENT
DTSTART;TZID=UTC:20261019T000000
DTEND;TZID=UTC:20261020T000000
DTSTAMP:20260421T122941
CREATED:20260102T132649Z
LAST-MODIFIED:20260102T132649Z
UID:4782-1792368000-1792454400@ministranci.waw.pl
SUMMARY:Bł. Jerzego Popiełuszki prezbitera i męczennika
DESCRIPTION:
URL:https://ministranci.waw.pl/event/bl-jerzego-popieluszki-prezbitera-i-meczennika/
END:VEVENT
BEGIN:VEVENT
DTSTART;TZID=UTC:20261019T000000
DTEND;TZID=UTC:20261020T000000
DTSTAMP:20260421T122941
CREATED:20260102T132649Z
LAST-MODIFIED:20260102T132649Z
UID:4783-1792368000-1792454400@ministranci.waw.pl
SUMMARY:Św. Pawła od Krzyża prezbitera
DESCRIPTION:
URL:https://ministranci.waw.pl/event/sw-pawla-od-krzyza-prezbitera/
END:VEVENT
BEGIN:VEVENT
DTSTART;TZID=UTC:20261019T000000
DTEND;TZID=UTC:20261020T000000
DTSTAMP:20260421T122941
CREATED:20260102T132649Z
LAST-MODIFIED:20260102T132649Z
UID:4784-1792368000-1792454400@ministranci.waw.pl
SUMMARY:Świętych męczenników Jana de Brebeuf Izaaka Jogues’a prezbiterów i Towarzyszy
DESCRIPTION:
URL:https://ministranci.waw.pl/event/swietych-meczennikow-jana-de-brebeuf-izaaka-joguesa-prezbiterow-i-towarzyszy/
END:VEVENT
END:VCALENDAR