BEGIN:VCALENDAR
VERSION:2.0
PRODID:-//Liturgiczna Służba Ołtarza - ECPv6.15.20//NONSGML v1.0//EN
CALSCALE:GREGORIAN
METHOD:PUBLISH
X-ORIGINAL-URL:https://ministranci.waw.pl
X-WR-CALDESC:Wydarzenia dla Liturgiczna Służba Ołtarza
REFRESH-INTERVAL;VALUE=DURATION:PT1H
X-Robots-Tag:noindex
X-PUBLISHED-TTL:PT1H
BEGIN:VTIMEZONE
TZID:UTC
BEGIN:STANDARD
TZOFFSETFROM:+0000
TZOFFSETTO:+0000
TZNAME:UTC
DTSTART:20250101T000000
END:STANDARD
END:VTIMEZONE
BEGIN:VEVENT
DTSTART;TZID=UTC:20261015T000000
DTEND;TZID=UTC:20261016T000000
DTSTAMP:20260423T122349
CREATED:20260102T132633Z
LAST-MODIFIED:20260102T132633Z
UID:4777-1792022400-1792108800@ministranci.waw.pl
SUMMARY:Św. Teresy od Jezusa dziewicy i doktora Kościoła
DESCRIPTION:
URL:https://ministranci.waw.pl/event/sw-teresy-od-jezusa-dziewicy-i-doktora-kosciola/
END:VEVENT
END:VCALENDAR