BEGIN:VCALENDAR
VERSION:2.0
PRODID:-//Liturgiczna Służba Ołtarza - ECPv6.15.18//NONSGML v1.0//EN
CALSCALE:GREGORIAN
METHOD:PUBLISH
X-WR-CALNAME:Liturgiczna Służba Ołtarza
X-ORIGINAL-URL:https://ministranci.waw.pl
X-WR-CALDESC:Wydarzenia dla Liturgiczna Służba Ołtarza
REFRESH-INTERVAL;VALUE=DURATION:PT1H
X-Robots-Tag:noindex
X-PUBLISHED-TTL:PT1H
BEGIN:VTIMEZONE
TZID:UTC
BEGIN:STANDARD
TZOFFSETFROM:+0000
TZOFFSETTO:+0000
TZNAME:UTC
DTSTART:20250101T000000
END:STANDARD
END:VTIMEZONE
BEGIN:VEVENT
DTSTART;TZID=UTC:20260926T000000
DTEND;TZID=UTC:20260927T000000
DTSTAMP:20260421T110438
CREATED:20260102T132503Z
LAST-MODIFIED:20260102T132503Z
UID:4746-1790380800-1790467200@ministranci.waw.pl
SUMMARY:Sobota XXV tygodnia zwykłego
DESCRIPTION:
URL:https://ministranci.waw.pl/event/sobota-xxv-tygodnia-zwyklego/
END:VEVENT
BEGIN:VEVENT
DTSTART;TZID=UTC:20260926T000000
DTEND;TZID=UTC:20260927T000000
DTSTAMP:20260421T110438
CREATED:20260102T132503Z
LAST-MODIFIED:20260102T132503Z
UID:4747-1790380800-1790467200@ministranci.waw.pl
SUMMARY:Świętych męczenników Kosmy i Damiana
DESCRIPTION:
URL:https://ministranci.waw.pl/event/swietych-meczennikow-kosmy-i-damiana/
END:VEVENT
BEGIN:VEVENT
DTSTART;TZID=UTC:20260926T000000
DTEND;TZID=UTC:20260927T000000
DTSTAMP:20260421T110438
CREATED:20260102T132503Z
LAST-MODIFIED:20260102T132503Z
UID:4748-1790380800-1790467200@ministranci.waw.pl
SUMMARY:Świętych męczenników Wawrzyńca Ruiz i Towarzyszy
DESCRIPTION:
URL:https://ministranci.waw.pl/event/swietych-meczennikow-wawrzynca-ruiz-i-towarzyszy/
END:VEVENT
BEGIN:VEVENT
DTSTART;TZID=UTC:20260926T000000
DTEND;TZID=UTC:20260927T000000
DTSTAMP:20260421T110438
CREATED:20260102T132504Z
LAST-MODIFIED:20260102T132504Z
UID:4749-1790380800-1790467200@ministranci.waw.pl
SUMMARY:Najświętszej Maryi Panny
DESCRIPTION:
URL:https://ministranci.waw.pl/event/najswietszej-maryi-panny-12/
END:VEVENT
END:VCALENDAR