BEGIN:VCALENDAR
VERSION:2.0
PRODID:-//Liturgiczna Służba Ołtarza - ECPv6.15.18//NONSGML v1.0//EN
CALSCALE:GREGORIAN
METHOD:PUBLISH
X-ORIGINAL-URL:https://ministranci.waw.pl
X-WR-CALDESC:Wydarzenia dla Liturgiczna Służba Ołtarza
REFRESH-INTERVAL;VALUE=DURATION:PT1H
X-Robots-Tag:noindex
X-PUBLISHED-TTL:PT1H
BEGIN:VTIMEZONE
TZID:UTC
BEGIN:STANDARD
TZOFFSETFROM:+0000
TZOFFSETTO:+0000
TZNAME:UTC
DTSTART:20250101T000000
END:STANDARD
END:VTIMEZONE
BEGIN:VEVENT
DTSTART;TZID=UTC:20260915T000000
DTEND;TZID=UTC:20260916T000000
DTSTAMP:20260421T105005
CREATED:20260102T132418Z
LAST-MODIFIED:20260102T132418Z
UID:4731-1789430400-1789516800@ministranci.waw.pl
SUMMARY:Najświętszej Maryi Panny Bolesnej
DESCRIPTION:
URL:https://ministranci.waw.pl/event/najswietszej-maryi-panny-bolesnej-3/
END:VEVENT
END:VCALENDAR