BEGIN:VCALENDAR
VERSION:2.0
PRODID:-//Liturgiczna Służba Ołtarza - ECPv6.15.18//NONSGML v1.0//EN
CALSCALE:GREGORIAN
METHOD:PUBLISH
X-ORIGINAL-URL:https://ministranci.waw.pl
X-WR-CALDESC:Wydarzenia dla Liturgiczna Służba Ołtarza
REFRESH-INTERVAL;VALUE=DURATION:PT1H
X-Robots-Tag:noindex
X-PUBLISHED-TTL:PT1H
BEGIN:VTIMEZONE
TZID:UTC
BEGIN:STANDARD
TZOFFSETFROM:+0000
TZOFFSETTO:+0000
TZNAME:UTC
DTSTART:20250101T000000
END:STANDARD
END:VTIMEZONE
BEGIN:VEVENT
DTSTART;TZID=UTC:20260914T000000
DTEND;TZID=UTC:20260915T000000
DTSTAMP:20260421T110525
CREATED:20260102T132418Z
LAST-MODIFIED:20260102T132418Z
UID:4730-1789344000-1789430400@ministranci.waw.pl
SUMMARY:Podwyższenie Krzyża Świętego
DESCRIPTION:
URL:https://ministranci.waw.pl/event/podwyzszenie-krzyza-swietego-3/
END:VEVENT
END:VCALENDAR