BEGIN:VCALENDAR
VERSION:2.0
PRODID:-//Liturgiczna Służba Ołtarza - ECPv6.15.18//NONSGML v1.0//EN
CALSCALE:GREGORIAN
METHOD:PUBLISH
X-WR-CALNAME:Liturgiczna Służba Ołtarza
X-ORIGINAL-URL:https://ministranci.waw.pl
X-WR-CALDESC:Wydarzenia dla Liturgiczna Służba Ołtarza
REFRESH-INTERVAL;VALUE=DURATION:PT1H
X-Robots-Tag:noindex
X-PUBLISHED-TTL:PT1H
BEGIN:VTIMEZONE
TZID:UTC
BEGIN:STANDARD
TZOFFSETFROM:+0000
TZOFFSETTO:+0000
TZNAME:UTC
DTSTART:20250101T000000
END:STANDARD
END:VTIMEZONE
BEGIN:VEVENT
DTSTART;TZID=UTC:20260730T000000
DTEND;TZID=UTC:20260731T000000
DTSTAMP:20260421T073308
CREATED:20260102T132103Z
LAST-MODIFIED:20260102T132103Z
UID:4668-1785369600-1785456000@ministranci.waw.pl
SUMMARY:Czwartek XVII tygodnia zwykłego
DESCRIPTION:
URL:https://ministranci.waw.pl/event/czwartek-xvii-tygodnia-zwyklego/
END:VEVENT
BEGIN:VEVENT
DTSTART;TZID=UTC:20260730T000000
DTEND;TZID=UTC:20260731T000000
DTSTAMP:20260421T073308
CREATED:20260102T132103Z
LAST-MODIFIED:20260102T132103Z
UID:4669-1785369600-1785456000@ministranci.waw.pl
SUMMARY:Św. Piotra Chryzologa biskupa i doktora Kościoła
DESCRIPTION:
URL:https://ministranci.waw.pl/event/sw-piotra-chryzologa-biskupa-i-doktora-kosciola/
END:VEVENT
END:VCALENDAR