BEGIN:VCALENDAR
VERSION:2.0
PRODID:-//Liturgiczna Służba Ołtarza - ECPv6.15.18//NONSGML v1.0//EN
CALSCALE:GREGORIAN
METHOD:PUBLISH
X-WR-CALNAME:Liturgiczna Służba Ołtarza
X-ORIGINAL-URL:https://ministranci.waw.pl
X-WR-CALDESC:Wydarzenia dla Liturgiczna Służba Ołtarza
REFRESH-INTERVAL;VALUE=DURATION:PT1H
X-Robots-Tag:noindex
X-PUBLISHED-TTL:PT1H
BEGIN:VTIMEZONE
TZID:UTC
BEGIN:STANDARD
TZOFFSETFROM:+0000
TZOFFSETTO:+0000
TZNAME:UTC
DTSTART:20250101T000000
END:STANDARD
END:VTIMEZONE
BEGIN:VEVENT
DTSTART;TZID=UTC:20260627T000000
DTEND;TZID=UTC:20260628T000000
DTSTAMP:20260421T054357
CREATED:20260102T131848Z
LAST-MODIFIED:20260102T131848Z
UID:4620-1782518400-1782604800@ministranci.waw.pl
SUMMARY:Sobota XII tygodnia zwykłego
DESCRIPTION:
URL:https://ministranci.waw.pl/event/sobota-xii-tygodnia-zwyklego/
END:VEVENT
BEGIN:VEVENT
DTSTART;TZID=UTC:20260627T000000
DTEND;TZID=UTC:20260628T000000
DTSTAMP:20260421T054357
CREATED:20260102T131848Z
LAST-MODIFIED:20260102T131848Z
UID:4621-1782518400-1782604800@ministranci.waw.pl
SUMMARY:Św. Cyryla Aleksandryjskiego biskupa i doktora Kościoła
DESCRIPTION:
URL:https://ministranci.waw.pl/event/sw-cyryla-aleksandryjskiego-biskupa-i-doktora-kosciola/
END:VEVENT
BEGIN:VEVENT
DTSTART;TZID=UTC:20260627T000000
DTEND;TZID=UTC:20260628T000000
DTSTAMP:20260421T054357
CREATED:20260102T131848Z
LAST-MODIFIED:20260102T131848Z
UID:4622-1782518400-1782604800@ministranci.waw.pl
SUMMARY:Najświętszej Maryi Panny
DESCRIPTION:
URL:https://ministranci.waw.pl/event/najswietszej-maryi-panny-7/
END:VEVENT
END:VCALENDAR