BEGIN:VCALENDAR
VERSION:2.0
PRODID:-//Liturgiczna Służba Ołtarza - ECPv6.15.18//NONSGML v1.0//EN
CALSCALE:GREGORIAN
METHOD:PUBLISH
X-WR-CALNAME:Liturgiczna Służba Ołtarza
X-ORIGINAL-URL:https://ministranci.waw.pl
X-WR-CALDESC:Wydarzenia dla Liturgiczna Służba Ołtarza
REFRESH-INTERVAL;VALUE=DURATION:PT1H
X-Robots-Tag:noindex
X-PUBLISHED-TTL:PT1H
BEGIN:VTIMEZONE
TZID:UTC
BEGIN:STANDARD
TZOFFSETFROM:+0000
TZOFFSETTO:+0000
TZNAME:UTC
DTSTART:20250101T000000
END:STANDARD
END:VTIMEZONE
BEGIN:VEVENT
DTSTART;TZID=UTC:20260622T000000
DTEND;TZID=UTC:20260623T000000
DTSTAMP:20260421T053121
CREATED:20260102T131501Z
LAST-MODIFIED:20260102T131501Z
UID:4612-1782086400-1782172800@ministranci.waw.pl
SUMMARY:Poniedziałek XII tygodnia zwykłego
DESCRIPTION:
URL:https://ministranci.waw.pl/event/poniedzialek-xii-tygodnia-zwyklego-2/
END:VEVENT
BEGIN:VEVENT
DTSTART;TZID=UTC:20260622T000000
DTEND;TZID=UTC:20260623T000000
DTSTAMP:20260421T053121
CREATED:20260102T131501Z
LAST-MODIFIED:20260102T131501Z
UID:4613-1782086400-1782172800@ministranci.waw.pl
SUMMARY:Św. Paulina z Noli biskupa
DESCRIPTION:
URL:https://ministranci.waw.pl/event/sw-paulina-z-noli-biskupa/
END:VEVENT
BEGIN:VEVENT
DTSTART;TZID=UTC:20260622T000000
DTEND;TZID=UTC:20260623T000000
DTSTAMP:20260421T053121
CREATED:20260102T131501Z
LAST-MODIFIED:20260102T131501Z
UID:4614-1782086400-1782172800@ministranci.waw.pl
SUMMARY:Świętych męczenników Jana Fishera biskupa i Tomasza More’a
DESCRIPTION:
URL:https://ministranci.waw.pl/event/swietych-meczennikow-jana-fishera-biskupa-i-tomasza-morea/
END:VEVENT
END:VCALENDAR