BEGIN:VCALENDAR
VERSION:2.0
PRODID:-//Liturgiczna Służba Ołtarza - ECPv6.15.18//NONSGML v1.0//EN
CALSCALE:GREGORIAN
METHOD:PUBLISH
X-WR-CALNAME:Liturgiczna Służba Ołtarza
X-ORIGINAL-URL:https://ministranci.waw.pl
X-WR-CALDESC:Wydarzenia dla Liturgiczna Służba Ołtarza
REFRESH-INTERVAL;VALUE=DURATION:PT1H
X-Robots-Tag:noindex
X-PUBLISHED-TTL:PT1H
BEGIN:VTIMEZONE
TZID:UTC
BEGIN:STANDARD
TZOFFSETFROM:+0000
TZOFFSETTO:+0000
TZNAME:UTC
DTSTART:20250101T000000
END:STANDARD
END:VTIMEZONE
BEGIN:VEVENT
DTSTART;TZID=UTC:20260604T000000
DTEND;TZID=UTC:20260605T000000
DTSTAMP:20260421T054329
CREATED:20260102T130701Z
LAST-MODIFIED:20260102T130701Z
UID:4590-1780531200-1780617600@ministranci.waw.pl
SUMMARY:Najświętszego Ciała i Krwi Chrystusa
DESCRIPTION:
URL:https://ministranci.waw.pl/event/najswietszego-ciala-i-krwi-chrystusa/
END:VEVENT
END:VCALENDAR