BEGIN:VCALENDAR
VERSION:2.0
PRODID:-//Liturgiczna Służba Ołtarza - ECPv6.15.18//NONSGML v1.0//EN
CALSCALE:GREGORIAN
METHOD:PUBLISH
X-ORIGINAL-URL:https://ministranci.waw.pl
X-WR-CALDESC:Wydarzenia dla Liturgiczna Służba Ołtarza
REFRESH-INTERVAL;VALUE=DURATION:PT1H
X-Robots-Tag:noindex
X-PUBLISHED-TTL:PT1H
BEGIN:VTIMEZONE
TZID:UTC
BEGIN:STANDARD
TZOFFSETFROM:+0000
TZOFFSETTO:+0000
TZNAME:UTC
DTSTART:20250101T000000
END:STANDARD
END:VTIMEZONE
BEGIN:VEVENT
DTSTART;TZID=UTC:20260530T000000
DTEND;TZID=UTC:20260531T000000
DTSTAMP:20260420T224753
CREATED:20260102T130321Z
LAST-MODIFIED:20260102T130321Z
UID:4581-1780099200-1780185600@ministranci.waw.pl
SUMMARY:Sobota VIII tygodnia zwykłego
DESCRIPTION:
URL:https://ministranci.waw.pl/event/sobota-viii-tygodnia-zwyklego/
END:VEVENT
BEGIN:VEVENT
DTSTART;TZID=UTC:20260530T000000
DTEND;TZID=UTC:20260531T000000
DTSTAMP:20260420T224753
CREATED:20260102T130322Z
LAST-MODIFIED:20260102T130322Z
UID:4582-1780099200-1780185600@ministranci.waw.pl
SUMMARY:Św. Jana Sarkandra prezbitera i męczennika
DESCRIPTION:
URL:https://ministranci.waw.pl/event/sw-jana-sarkandra-prezbitera-i-meczennika/
END:VEVENT
BEGIN:VEVENT
DTSTART;TZID=UTC:20260530T000000
DTEND;TZID=UTC:20260531T000000
DTSTAMP:20260420T224753
CREATED:20260102T130322Z
LAST-MODIFIED:20260102T130322Z
UID:4583-1780099200-1780185600@ministranci.waw.pl
SUMMARY:Św. Zdzisławy
DESCRIPTION:
URL:https://ministranci.waw.pl/event/sw-zdzislawy/
END:VEVENT
BEGIN:VEVENT
DTSTART;TZID=UTC:20260530T000000
DTEND;TZID=UTC:20260531T000000
DTSTAMP:20260420T224753
CREATED:20260102T130322Z
LAST-MODIFIED:20260102T130322Z
UID:4584-1780099200-1780185600@ministranci.waw.pl
SUMMARY:Najświętszej Maryi Panny
DESCRIPTION:
URL:https://ministranci.waw.pl/event/najswietszej-maryi-panny-4/
END:VEVENT
END:VCALENDAR