BEGIN:VCALENDAR
VERSION:2.0
PRODID:-//Liturgiczna Służba Ołtarza - ECPv6.15.18//NONSGML v1.0//EN
CALSCALE:GREGORIAN
METHOD:PUBLISH
X-WR-CALNAME:Liturgiczna Służba Ołtarza
X-ORIGINAL-URL:https://ministranci.waw.pl
X-WR-CALDESC:Wydarzenia dla Liturgiczna Służba Ołtarza
REFRESH-INTERVAL;VALUE=DURATION:PT1H
X-Robots-Tag:noindex
X-PUBLISHED-TTL:PT1H
BEGIN:VTIMEZONE
TZID:UTC
BEGIN:STANDARD
TZOFFSETFROM:+0000
TZOFFSETTO:+0000
TZNAME:UTC
DTSTART:20250101T000000
END:STANDARD
END:VTIMEZONE
BEGIN:VEVENT
DTSTART;TZID=UTC:20260521T000000
DTEND;TZID=UTC:20260522T000000
DTSTAMP:20260420T074626
CREATED:20260102T130013Z
LAST-MODIFIED:20260102T130013Z
UID:4568-1779321600-1779408000@ministranci.waw.pl
SUMMARY:Czwartek VII Tygodnia Wielkanocnego
DESCRIPTION:
URL:https://ministranci.waw.pl/event/czwartek-vii-tygodnia-wielkanocnego/
END:VEVENT
BEGIN:VEVENT
DTSTART;TZID=UTC:20260521T000000
DTEND;TZID=UTC:20260522T000000
DTSTAMP:20260420T074626
CREATED:20260102T130013Z
LAST-MODIFIED:20260102T130013Z
UID:4569-1779321600-1779408000@ministranci.waw.pl
SUMMARY:Świętych męczenników Krzysztofa Magallanesa prezbitera i Towarzyszy
DESCRIPTION:
URL:https://ministranci.waw.pl/event/swietych-meczennikow-krzysztofa-magallanesa-prezbitera-i-towarzyszy/
END:VEVENT
END:VCALENDAR