BEGIN:VCALENDAR
VERSION:2.0
PRODID:-//Liturgiczna Służba Ołtarza - ECPv6.15.18//NONSGML v1.0//EN
CALSCALE:GREGORIAN
METHOD:PUBLISH
X-WR-CALNAME:Liturgiczna Służba Ołtarza
X-ORIGINAL-URL:https://ministranci.waw.pl
X-WR-CALDESC:Wydarzenia dla Liturgiczna Służba Ołtarza
REFRESH-INTERVAL;VALUE=DURATION:PT1H
X-Robots-Tag:noindex
X-PUBLISHED-TTL:PT1H
BEGIN:VTIMEZONE
TZID:UTC
BEGIN:STANDARD
TZOFFSETFROM:+0000
TZOFFSETTO:+0000
TZNAME:UTC
DTSTART:20250101T000000
END:STANDARD
END:VTIMEZONE
BEGIN:VEVENT
DTSTART;TZID=UTC:20260518T000000
DTEND;TZID=UTC:20260519T000000
DTSTAMP:20260420T020524
CREATED:20260102T125959Z
LAST-MODIFIED:20260102T125959Z
UID:4562-1779062400-1779148800@ministranci.waw.pl
SUMMARY:Poniedziałek VII Tygodnia Wielkanocnego
DESCRIPTION:
URL:https://ministranci.waw.pl/event/poniedzialek-vii-tygodnia-wielkanocnego-2/
END:VEVENT
BEGIN:VEVENT
DTSTART;TZID=UTC:20260518T000000
DTEND;TZID=UTC:20260519T000000
DTSTAMP:20260420T020524
CREATED:20260102T125959Z
LAST-MODIFIED:20260102T125959Z
UID:4563-1779062400-1779148800@ministranci.waw.pl
SUMMARY:Św. Jana I papieża i męczennika
DESCRIPTION:
URL:https://ministranci.waw.pl/event/sw-jana-i-papieza-i-meczennika/
END:VEVENT
BEGIN:VEVENT
DTSTART;TZID=UTC:20260518T000000
DTEND;TZID=UTC:20260519T000000
DTSTAMP:20260420T020524
CREATED:20260102T125959Z
LAST-MODIFIED:20260102T125959Z
UID:4564-1779062400-1779148800@ministranci.waw.pl
SUMMARY:Św. Stanisława Papczyńskiego prezbitera
DESCRIPTION:
URL:https://ministranci.waw.pl/event/sw-stanislawa-papczynskiego-prezbitera/
END:VEVENT
END:VCALENDAR