BEGIN:VCALENDAR
VERSION:2.0
PRODID:-//Liturgiczna Służba Ołtarza - ECPv6.15.18//NONSGML v1.0//EN
CALSCALE:GREGORIAN
METHOD:PUBLISH
X-WR-CALNAME:Liturgiczna Służba Ołtarza
X-ORIGINAL-URL:https://ministranci.waw.pl
X-WR-CALDESC:Wydarzenia dla Liturgiczna Służba Ołtarza
REFRESH-INTERVAL;VALUE=DURATION:PT1H
X-Robots-Tag:noindex
X-PUBLISHED-TTL:PT1H
BEGIN:VTIMEZONE
TZID:UTC
BEGIN:STANDARD
TZOFFSETFROM:+0000
TZOFFSETTO:+0000
TZNAME:UTC
DTSTART:20250101T000000
END:STANDARD
END:VTIMEZONE
BEGIN:VEVENT
DTSTART;TZID=UTC:20260512T000000
DTEND;TZID=UTC:20260513T000000
DTSTAMP:20260419T154834
CREATED:20260102T123807Z
LAST-MODIFIED:20260102T123807Z
UID:4553-1778544000-1778630400@ministranci.waw.pl
SUMMARY:Wtorek VI Tygodnia Wielkanocnego
DESCRIPTION:
URL:https://ministranci.waw.pl/event/wtorek-vi-tygodnia-wielkanocnego-2/
END:VEVENT
BEGIN:VEVENT
DTSTART;TZID=UTC:20260512T000000
DTEND;TZID=UTC:20260513T000000
DTSTAMP:20260419T154834
CREATED:20260102T123807Z
LAST-MODIFIED:20260102T123807Z
UID:4554-1778544000-1778630400@ministranci.waw.pl
SUMMARY:Św. Pankracego męczennika
DESCRIPTION:
URL:https://ministranci.waw.pl/event/sw-pankracego-meczennika/
END:VEVENT
BEGIN:VEVENT
DTSTART;TZID=UTC:20260512T000000
DTEND;TZID=UTC:20260513T000000
DTSTAMP:20260419T154834
CREATED:20260102T124006Z
LAST-MODIFIED:20260102T124006Z
UID:4555-1778544000-1778630400@ministranci.waw.pl
SUMMARY:Świętych męczenników Nereusza i Achillesa
DESCRIPTION:
URL:https://ministranci.waw.pl/event/swietych-meczennikow-nereusza-i-achillesa/
END:VEVENT
END:VCALENDAR